Workbook

Sheet INVOICE FINAL
B2: Thessaloniki | G2: INVOICE
B3: Cadet European Cup 2026
B4: Thessaloniki, Greece
B5: November 21-22, 2026
B6: EJU Cadet Training Camp
B7: November 23-25, 2026
B9: BILL TO
B11: =ACCOMMODATION!A16 -> 0 | G11: Invoice No:
G12: Invoice Date:
A15: Item No. | B15: Description | D15: EJU entry fee | E15: Service fee | F15: ACCOMMODATION COST | G15: Meal Cost | H15: Training Camp Participation Fee | I15: TOTAL
A16: 1 | B16: =IF(NOT(ISBLANK(ACCOMMODATION!C13)), ACCOMMODATION!C13, "") | D16: =ACCOMMODATION!AC13 -> 0 | E16: =ACCOMMODATION!AD13 -> 0 | F16: =ACCOMMODATION!AF13 -> 0 | G16: =ACCOMMODATION!AG13+ACCOMMODATION!AH13+ACCOMMODATION!AI13 -> 0 | H16: =ACCOMMODATION!AJ13 -> 0 | I16: =D16+E16+F16+G16+H16 -> 0
A17: =IF(B17 = "", "", A16 + 1) | B17: =IF(NOT(ISBLANK(ACCOMMODATION!C14)), ACCOMMODATION!C14, "") | D17: =ACCOMMODATION!AC14 -> 0 | E17: =ACCOMMODATION!AD14 -> 0 | F17: =ACCOMMODATION!AF14 -> 0 | G17: =ACCOMMODATION!AG14+ACCOMMODATION!AH14+ACCOMMODATION!AI14 -> 0 | H17: =ACCOMMODATION!AJ14 -> 0 | I17: =D17+E17+F17+G17+H17 -> 0
A18: =IF(B18 = "", "", A17 + 1) | B18: =IF(NOT(ISBLANK(ACCOMMODATION!C15)), ACCOMMODATION!C15, "") | D18: =ACCOMMODATION!AC15 -> 0 | E18: =ACCOMMODATION!AD15 -> 0 | F18: =ACCOMMODATION!AF15 -> 0 | G18: =ACCOMMODATION!AG15+ACCOMMODATION!AH15+ACCOMMODATION!AI15 -> 0 | H18: =ACCOMMODATION!AJ15 -> 0 | I18: =D18+E18+F18+G18+H18 -> 0
A19: =IF(B19 = "", "", A18 + 1) | B19: =IF(NOT(ISBLANK(ACCOMMODATION!C16)), ACCOMMODATION!C16, "") | D19: =ACCOMMODATION!AC16 -> 0 | E19: =ACCOMMODATION!AD16 -> 0 | F19: =ACCOMMODATION!AF16 -> 0 | G19: =ACCOMMODATION!AG16+ACCOMMODATION!AH16+ACCOMMODATION!AI16 -> 0 | H19: =ACCOMMODATION!AJ16 -> 0 | I19: =D19+E19+F19+G19+H19 -> 0
A20: =IF(B20 = "", "", A19 + 1) | B20: =IF(NOT(ISBLANK(ACCOMMODATION!C17)), ACCOMMODATION!C17, "") | D20: =ACCOMMODATION!AC17 -> 0 | E20: =ACCOMMODATION!AD17 -> 0 | F20: =ACCOMMODATION!AF17 -> 0 | G20: =ACCOMMODATION!AG17+ACCOMMODATION!AH17+ACCOMMODATION!AI17 -> 0 | H20: =ACCOMMODATION!AJ17 -> 0 | I20: =D20+E20+F20+G20+H20 -> 0
A21: =IF(B21 = "", "", A20 + 1) | B21: =IF(NOT(ISBLANK(ACCOMMODATION!C18)), ACCOMMODATION!C18, "") | D21: =ACCOMMODATION!AC18 -> 0 | E21: =ACCOMMODATION!AD18 -> 0 | F21: =ACCOMMODATION!AF18 -> 0 | G21: =ACCOMMODATION!AG18+ACCOMMODATION!AH18+ACCOMMODATION!AI18 -> 0 | H21: =ACCOMMODATION!AJ18 -> 0 | I21: =D21+E21+F21+G21+H21 -> 0
A22: =IF(B22 = "", "", A21 + 1) | B22: =IF(NOT(ISBLANK(ACCOMMODATION!C19)), ACCOMMODATION!C19, "") | D22: =ACCOMMODATION!AC19 -> 0 | E22: =ACCOMMODATION!AD19 -> 0 | F22: =ACCOMMODATION!AF19 -> 0 | G22: =ACCOMMODATION!AG19+ACCOMMODATION!AH19+ACCOMMODATION!AI19 -> 0 | H22: =ACCOMMODATION!AJ19 -> 0 | I22: =D22+E22+F22+G22+H22 -> 0
A23: =IF(B23 = "", "", A22 + 1) | B23: =IF(NOT(ISBLANK(ACCOMMODATION!C20)), ACCOMMODATION!C20, "") | D23: =ACCOMMODATION!AC20 -> 0 | E23: =ACCOMMODATION!AD20 -> 0 | F23: =ACCOMMODATION!AF20 -> 0 | G23: =ACCOMMODATION!AG20+ACCOMMODATION!AH20+ACCOMMODATION!AI20 -> 0 | H23: =ACCOMMODATION!AJ20 -> 0 | I23: =D23+E23+F23+G23+H23 -> 0
A24: =IF(B24 = "", "", A23 + 1) | B24: =IF(NOT(ISBLANK(ACCOMMODATION!C21)), ACCOMMODATION!C21, "") | D24: =ACCOMMODATION!AC21 -> 0 | E24: =ACCOMMODATION!AD21 -> 0 | F24: =ACCOMMODATION!AF21 -> 0 | G24: =ACCOMMODATION!AG21+ACCOMMODATION!AH21+ACCOMMODATION!AI21 -> 0 | H24: =ACCOMMODATION!AJ21 -> 0 | I24: =D24+E24+F24+G24+H24 -> 0
A25: =IF(B25 = "", "", A24 + 1) | B25: =IF(NOT(ISBLANK(ACCOMMODATION!C22)), ACCOMMODATION!C22, "") | D25: =ACCOMMODATION!AC22 -> 0 | E25: =ACCOMMODATION!AD22 -> 0 | F25: =ACCOMMODATION!AF22 -> 0 | G25: =ACCOMMODATION!AG22+ACCOMMODATION!AH22+ACCOMMODATION!AI22 -> 0 | H25: =ACCOMMODATION!AJ22 -> 0 | I25: =D25+E25+F25+G25+H25 -> 0
A26: =IF(B26 = "", "", A25 + 1) | B26: =IF(NOT(ISBLANK(ACCOMMODATION!C23)), ACCOMMODATION!C23, "") | D26: =ACCOMMODATION!AC23 -> 0 | E26: =ACCOMMODATION!AD23 -> 0 | F26: =ACCOMMODATION!AF23 -> 0 | G26: =ACCOMMODATION!AG23+ACCOMMODATION!AH23+ACCOMMODATION!AI23 -> 0 | H26: =ACCOMMODATION!AJ23 -> 0 | I26: =D26+E26+F26+G26+H26 -> 0
A27: =IF(B27 = "", "", A26 + 1) | B27: =IF(NOT(ISBLANK(ACCOMMODATION!C24)), ACCOMMODATION!C24, "") | D27: =ACCOMMODATION!AC24 -> 0 | E27: =ACCOMMODATION!AD24 -> 0 | F27: =ACCOMMODATION!AF24 -> 0 | G27: =ACCOMMODATION!AG24+ACCOMMODATION!AH24+ACCOMMODATION!AI24 -> 0 | H27: =ACCOMMODATION!AJ24 -> 0 | I27: =D27+E27+F27+G27+H27 -> 0
A28: =IF(B28 = "", "", A27 + 1) | B28: =IF(NOT(ISBLANK(ACCOMMODATION!C25)), ACCOMMODATION!C25, "") | D28: =ACCOMMODATION!AC25 -> 0 | E28: =ACCOMMODATION!AD25 -> 0 | F28: =ACCOMMODATION!AF25 -> 0 | G28: =ACCOMMODATION!AG25+ACCOMMODATION!AH25+ACCOMMODATION!AI25 -> 0 | H28: =ACCOMMODATION!AJ25 -> 0 | I28: =D28+E28+F28+G28+H28 -> 0
... A51: =IF(B51 = "", "", A50 + 1) | B51: =IF(NOT(ISBLANK(ACCOMMODATION!C48)), ACCOMMODATION!C48, "") | D51: =ACCOMMODATION!AC48 -> 0 | E51: =ACCOMMODATION!AD48 -> 0 | F51: =ACCOMMODATION!AF48 -> 0 | G51: =ACCOMMODATION!AG48+ACCOMMODATION!AH48+ACCOMMODATION!AI48 -> 0 | H51: =ACCOMMODATION!AJ48 -> 0 | I51: =D51+E51+F51+G51+H51 -> 0
G52: SUBTOTAL | I52: =SUM(I16:I51) -> 0
B53: Payment Method: Bank Transfer
B54: Hellenic Judo Federation | G54: Balance Due | I54: =SUM(I52:I52) -> 0
B55: Stadiou 38, Athens Greece
B56: National Bank of Greece
B57: IBAN :GR1601100800000008048058286
B58: SWIFT: ETHNGRAA

Sheet ACCOMMODATION
A1: Thessaloniki
A2: Cadet European Cup 2026
A3: Thessaloniki, Greece
A4: November 21-22, 2026
A5: EJU Cadet Training Camp
A6: November 23-25, 2026 | AC6: TOTAL EJU entry fee | AD6: Service fee | AE6: ACCOMMODATION COST /PER NIGHT | AF6: TOTAL ACCOMMODATION COST | AG6: TOTAL Lunch COST HOTEL | AH6: TOTAL Lunch BOX COST | AI6: TOTAL Dinner COST | AJ6: TOTAL TRAINING CAMP COST | AK6: TOTAL COST PER TEAM
A8: Single Room | B8: Double Room | C8: Triple Room | D8: EJU entry fee | E8: Service fee | F8: lunch in s. hall | G8: Dinner | H8: Lunch box in the hall | AC8: =SUM(AC13:AC111) -> 0 | AD8: =SUM(AD13:AD111) -> 0 | AE8: =SUM(AE13:AE111) -> 0 | AF8: =SUM(AF13:AF111) -> 0 | AG8: =SUM(AG13:AG111) -> 0 | AH8: =SUM(AH13:AH111) -> 0 | AI8: =SUM(AI13:AI111) -> 0 | AJ8: =SUM(AJ13:AJ111) -> 0 | AK8: =SUM(AK13:AK111) -> 0 | AM8: Cat. A Holiday Inn Thessaloniki
A9: =IF($A$13="Cat. B Capsis Hotel Thessaloniki", $AN$27, IF($A$13="Cat. A Holiday Inn Thessaloniki", $AN$15, 0)) -> 0 | B9: =IF($A$13="Cat. B Capsis Hotel Thessaloniki", $AN$28, IF($A$13="Cat. A Holiday Inn Thessaloniki", $AN$16, 0)) -> 0 | C9: =IF($A$13="Cat. B Capsis Hotel Thessaloniki", $AN$29, IF($A$13="Cat. A Holiday Inn Thessaloniki", $AN$17, 0)) -> 0 | D9: 25 | E9: 120 | F9: =IF($A$13="Cat. B Capsis Hotel Thessaloniki", $AN$31, IF($A$13="Cat. A Holiday Inn Thessaloniki", $AN$19, "0")) -> 0 | G9: =IF($A$13="Cat. B Capsis Hotel Thessaloniki", $AN$33, IF($A$13="Cat. A Holiday Inn Thessaloniki", $AN$21, "0")) -> 0 | H9: 20 | AM9: Cat. B Capsis Hotel Thessaloniki
AM10: Participants with own accommodation
P11: INSERT 1 IF YES 0 IF NO | AC11: TOTAL
A12: Please select CATEGORY / Hotel | C12: NAME | D12: CATEGORY | E12: Room Type /own accommodation | F12: CHECK IN | G12: CHECK OUT | H12: NUM. OF DAYS | I12: LUNCH HOTEL 19/11/2026 | J12: LUNCH HOTEL 20/11/2026 | K12: LUNCH HOTEL 21/11/2026 | L12: LUNCH HOTEL 22/11/2026 | M12: LUNCH HOTEL 23/11/2026 | N12: LUNCH HOTEL 24/11/2026 | O12: LUNCH HOTEL 25/11/2026 | P12: Lunch box 21/11/2026 | Q12: Lunch box 22/11/2026 | R12: DINNER HOTEL MONDAY 17/11/2025 | S12: DINNER HOTEL TUESDAY 18/11/2025 | T12: DINNER HOTEL WEDNESDAY 19/11/2025 | U12: DINNER 19/11/2026 | V12: DINNER 20/11/2026 | W12: DINNER 21/11/2026 | X12: DINNER 22/11/2026 | Y12: DINNER 23/11/2026 | Z12: DINNER 24/11/2026 | AA12: DINNER 25/11/2026 | AB12: TRAINING CAMP ONLY PARTICIPATION | AC12: EJU entry fee | AD12: Service fee | AE12: ACCOMMODATION COST /PER NIGHT | AF12: TOTAL ACCOMMODATION COST | AG12: Lunch COST HOTEL | AH12: Lunch BOX COST | AI12: Dinner COST | AJ12: TRAINING CAMP PARTICIPATION FEE | AK12: TOTAL COST PER PERSON | AL12: Cat. A | AM12: Holiday Inn Thessaloniki
A13: Participants with own accommodation | H13: =G13-F13 -> 0 | AC13: =IF(D13="ATHLETE", $D$9, 0) -> 0 | AD13: =IF(NOT(ISBLANK(C13)),IF(OR(A13="Cat. B Capsis Hotel Thessaloniki",A13="Cat. A Holiday Inn Thessaloniki",A13=""),0,120),) -> 0 | AE13: =IF(E13="Single",$A$9,IF(E13="Double",$B$9,IF(E13="Triple",$C$9,0))) -> 0 | AF13: =AE13*H13 -> 0 | AG13: =SUM(I13:O13)*$F$9 -> 0 | AH13: =(P13+Q13)*$H$9 -> 0 | AI13: {=SUM(R13:AA13*$G$9)} -> 0 | AJ13: =IF(TRIM(AB13)="YES", 60, 0) -> 0 | AK13: =AC13+AD13+AF13+AG13+AH13+AI13+AJ13 -> 0
H14: =G14-F14 -> 0 | AC14: =IF(D14="ATHLETE", $D$9, 0) -> 0 | AD14: =IF(NOT(ISBLANK(C14)),IF(OR(A13="Cat. B Capsis Hotel Thessaloniki",A13="Cat. A Holiday Inn Thessaloniki",A13=""),0,120),) -> 0 | AE14: =IF(E14="Single",$A$9,IF(E14="Double",$B$9,IF(E14="Triple",$C$9,0))) -> 0 | AF14: =AE14*H14 -> 0 | AG14: =SUM(I14:O14)*$F$9 -> 0 | AH14: =(P14+Q14)*$H$9 -> 0 | AI14: {=SUM(R14:AA14*$G$9)} -> 0 | AJ14: =IF(TRIM(AB14)="YES", 60, 0) -> 0 | AK14: =AC14+AD14+AF14+AG14+AH14+AI14+AJ14 -> 0 | AN14: B&B
A15: Bill to Country : | H15: =G15-F15 -> 0 | AC15: =IF(D15="ATHLETE", $D$9, 0) -> 0 | AD15: =IF(NOT(ISBLANK(C15)),IF(OR(A13="Cat. B Capsis Hotel Thessaloniki",A13="Cat. A Holiday Inn Thessaloniki",A13=""),0,120),) -> 0 | AE15: =IF(E15="Single",$A$9,IF(E15="Double",$B$9,IF(E15="Triple",$C$9,0))) -> 0 | AF15: =AE15*H15 -> 0 | AG15: =SUM(I15:O15)*$F$9 -> 0 | AH15: =(P15+Q15)*$H$9 -> 0 | AI15: {=SUM(R15:AA15*$G$9)} -> 0 | AJ15: =IF(TRIM(AB15)="YES", 60, 0) -> 0 | AK15: =AC15+AD15+AF15+AG15+AH15+AI15+AJ15 -> 0 | AM15: Single room | AN15: 140
H16: =G16-F16 -> 0 | AC16: =IF(D16="ATHLETE", $D$9, 0) -> 0 | AD16: =IF(NOT(ISBLANK(C16)),IF(OR(A13="Cat. B Capsis Hotel Thessaloniki",A13="Cat. A Holiday Inn Thessaloniki",A13=""),0,120),) -> 0 | AE16: =IF(E16="Single",$A$9,IF(E16="Double",$B$9,IF(E16="Triple",$C$9,0))) -> 0 | AF16: =AE16*H16 -> 0 | AG16: =SUM(I16:O16)*$F$9 -> 0 | AH16: =(P16+Q16)*$H$9 -> 0 | AI16: {=SUM(R16:AA16*$G$9)} -> 0 | AJ16: =IF(TRIM(AB16)="YES", 60, 0) -> 0 | AK16: =AC16+AD16+AF16+AG16+AH16+AI16+AJ16 -> 0 | AM16: Double room | AN16: 110
H17: =G17-F17 -> 0 | AC17: =IF(D17="ATHLETE", $D$9, 0) -> 0 | AD17: =IF(NOT(ISBLANK(C17)),IF(OR(A13="Cat. B Capsis Hotel Thessaloniki",A13="Cat. A Holiday Inn Thessaloniki",A13=""),0,120),) -> 0 | AE17: =IF(E17="Single",$A$9,IF(E17="Double",$B$9,IF(E17="Triple",$C$9,0))) -> 0 | AF17: =AE17*H17 -> 0 | AG17: =SUM(I17:O17)*$F$9 -> 0 | AH17: =(P17+Q17)*$H$9 -> 0 | AI17: {=SUM(R17:AA17*$G$9)} -> 0 | AJ17: =IF(TRIM(AB17)="YES", 60, 0) -> 0 | AK17: =AC17+AD17+AF17+AG17+AH17+AI17+AJ17 -> 0 | AM17: Triple room | AN17: 90
H18: =G18-F18 -> 0 | AC18: =IF(D18="ATHLETE", $D$9, 0) -> 0 | AD18: =IF(NOT(ISBLANK(C18)),IF(OR(A13="Cat. B Capsis Hotel Thessaloniki",A13="Cat. A Holiday Inn Thessaloniki",A13=""),0,120),) -> 0 | AE18: =IF(E18="Single",$A$9,IF(E18="Double",$B$9,IF(E18="Triple",$C$9,0))) -> 0 | AF18: =AE18*H18 -> 0 | AG18: =SUM(I18:O18)*$F$9 -> 0 | AH18: =(P18+Q18)*$H$9 -> 0 | AI18: {=SUM(R18:AA18*$G$9)} -> 0 | AJ18: =IF(TRIM(AB18)="YES", 60, 0) -> 0 | AK18: =AC18+AD18+AF18+AG18+AH18+AI18+AJ18 -> 0
H19: =G19-F19 -> 0 | AC19: =IF(D19="ATHLETE", $D$9, 0) -> 0 | AD19: =IF(NOT(ISBLANK(C19)),IF(OR(A13="Cat. B Capsis Hotel Thessaloniki",A13="Cat. A Holiday Inn Thessaloniki",A13=""),0,120),) -> 0 | AE19: =IF(E19="Single",$A$9,IF(E19="Double",$B$9,IF(E19="Triple",$C$9,0))) -> 0 | AF19: =AE19*H19 -> 0 | AG19: =SUM(I19:O19)*$F$9 -> 0 | AH19: =(P19+Q19)*$H$9 -> 0 | AI19: {=SUM(R19:AA19*$G$9)} -> 0 | AJ19: =IF(TRIM(AB19)="YES", 60, 0) -> 0 | AK19: =AC19+AD19+AF19+AG19+AH19+AI19+AJ19 -> 0 | AM19: LUNCH IN THE HOTEL | AN19: 30
H20: =G20-F20 -> 0 | AC20: =IF(D20="ATHLETE", $D$9, 0) -> 0 | AD20: =IF(NOT(ISBLANK(C20)),IF(OR(A13="Cat. B Capsis Hotel Thessaloniki",A13="Cat. A Holiday Inn Thessaloniki",A13=""),0,120),) -> 0 | AE20: =IF(E20="Single",$A$9,IF(E20="Double",$B$9,IF(E20="Triple",$C$9,0))) -> 0 | AF20: =AE20*H20 -> 0 | AG20: =SUM(I20:O20)*$F$9 -> 0 | AH20: =(P20+Q20)*$H$9 -> 0 | AI20: {=SUM(R20:AA20*$G$9)} -> 0 | AJ20: =IF(TRIM(AB20)="YES", 60, 0) -> 0 | AK20: =AC20+AD20+AF20+AG20+AH20+AI20+AJ20 -> 0 | AM20: Lunch box in the hall | AN20: 20
H21: =G21-F21 -> 0 | AC21: =IF(D21="ATHLETE", $D$9, 0) -> 0 | AD21: =IF(NOT(ISBLANK(C21)),IF(OR(A13="Cat. B Capsis Hotel Thessaloniki",A13="Cat. A Holiday Inn Thessaloniki",A13=""),0,120),) -> 0 | AE21: =IF(E21="Single",$A$9,IF(E21="Double",$B$9,IF(E21="Triple",$C$9,0))) -> 0 | AF21: =AE21*H21 -> 0 | AG21: =SUM(I21:O21)*$F$9 -> 0 | AH21: =(P21+Q21)*$H$9 -> 0 | AI21: {=SUM(R21:AA21*$G$9)} -> 0 | AJ21: =IF(TRIM(AB21)="YES", 60, 0) -> 0 | AK21: =AC21+AD21+AF21+AG21+AH21+AI21+AJ21 -> 0 | AM21: Dinner | AN21: 30
H22: =G22-F22 -> 0 | AC22: =IF(D22="ATHLETE", $D$9, 0) -> 0 | AD22: =IF(NOT(ISBLANK(C22)),IF(OR(A13="Cat. B Capsis Hotel Thessaloniki",A13="Cat. A Holiday Inn Thessaloniki",A13=""),0,120),) -> 0 | AE22: =IF(E22="Single",$A$9,IF(E22="Double",$B$9,IF(E22="Triple",$C$9,0))) -> 0 | AF22: =AE22*H22 -> 0 | AG22: =SUM(I22:O22)*$F$9 -> 0 | AH22: =(P22+Q22)*$H$9 -> 0 | AI22: {=SUM(R22:AA22*$G$9)} -> 0 | AJ22: =IF(TRIM(AB22)="YES", 60, 0) -> 0 | AK22: =AC22+AD22+AF22+AG22+AH22+AI22+AJ22 -> 0
H23: =G23-F23 -> 0 | AC23: =IF(D23="ATHLETE", $D$9, 0) -> 0 | AD23: =IF(NOT(ISBLANK(C23)),IF(OR(A13="Cat. B Capsis Hotel Thessaloniki",A13="Cat. A Holiday Inn Thessaloniki",A13=""),0,120),) -> 0 | AE23: =IF(E23="Single",$A$9,IF(E23="Double",$B$9,IF(E23="Triple",$C$9,0))) -> 0 | AF23: =AE23*H23 -> 0 | AG23: =SUM(I23:O23)*$F$9 -> 0 | AH23: =(P23+Q23)*$H$9 -> 0 | AI23: {=SUM(R23:AA23*$G$9)} -> 0 | AJ23: =IF(TRIM(AB23)="YES", 60, 0) -> 0 | AK23: =AC23+AD23+AF23+AG23+AH23+AI23+AJ23 -> 0
H24: =G24-F24 -> 0 | AC24: =IF(D24="ATHLETE", $D$9, 0) -> 0 | AD24: =IF(NOT(ISBLANK(C24)),IF(OR(A13="Cat. B Capsis Hotel Thessaloniki",A13="Cat. A Holiday Inn Thessaloniki",A13=""),0,120),) -> 0 | AE24: =IF(E24="Single",$A$9,IF(E24="Double",$B$9,IF(E24="Triple",$C$9,0))) -> 0 | AF24: =AE24*H24 -> 0 | AG24: =SUM(I24:O24)*$F$9 -> 0 | AH24: =(P24+Q24)*$H$9 -> 0 | AI24: {=SUM(R24:AA24*$G$9)} -> 0 | AJ24: =IF(TRIM(AB24)="YES", 60, 0) -> 0 | AK24: =AC24+AD24+AF24+AG24+AH24+AI24+AJ24 -> 0
H25: =G25-F25 -> 0 | AC25: =IF(D25="ATHLETE", $D$9, 0) -> 0 | AD25: =IF(NOT(ISBLANK(C25)),IF(OR(A13="Cat. B Capsis Hotel Thessaloniki",A13="Cat. A Holiday Inn Thessaloniki",A13=""),0,120),) -> 0 | AE25: =IF(E25="Single",$A$9,IF(E25="Double",$B$9,IF(E25="Triple",$C$9,0))) -> 0 | AF25: =AE25*H25 -> 0 | AG25: =SUM(I25:O25)*$F$9 -> 0 | AH25: =(P25+Q25)*$H$9 -> 0 | AI25: {=SUM(R25:AA25*$G$9)} -> 0 | AJ25: =IF(TRIM(AB25)="YES", 60, 0) -> 0 | AK25: =AC25+AD25+AF25+AG25+AH25+AI25+AJ25 -> 0 | AL25: Cat. B | AM25: Capsis Hotel Thessaloniki
H26: =G26-F26 -> 0 | AC26: =IF(D26="ATHLETE", $D$9, 0) -> 0 | AD26: =IF(NOT(ISBLANK(C26)),IF(OR(A13="Cat. B Capsis Hotel Thessaloniki",A13="Cat. A Holiday Inn Thessaloniki",A13=""),0,120),) -> 0 | AE26: =IF(E26="Single",$A$9,IF(E26="Double",$B$9,IF(E26="Triple",$C$9,0))) -> 0 | AF26: =AE26*H26 -> 0 | AG26: =SUM(I26:O26)*$F$9 -> 0 | AH26: =(P26+Q26)*$H$9 -> 0 | AI26: {=SUM(R26:AA26*$G$9)} -> 0 | AJ26: =IF(TRIM(AB26)="YES", 60, 0) -> 0 | AK26: =AC26+AD26+AF26+AG26+AH26+AI26+AJ26 -> 0 | AM26: B&B
H27: =G27-F27 -> 0 | AC27: =IF(D27="ATHLETE", $D$9, 0) -> 0 | AD27: =IF(NOT(ISBLANK(C27)),IF(OR(A13="Cat. B Capsis Hotel Thessaloniki",A13="Cat. A Holiday Inn Thessaloniki",A13=""),0,120),) -> 0 | AE27: =IF(E27="Single",$A$9,IF(E27="Double",$B$9,IF(E27="Triple",$C$9,0))) -> 0 | AF27: =AE27*H27 -> 0 | AG27: =SUM(I27:O27)*$F$9 -> 0 | AH27: =(P27+Q27)*$H$9 -> 0 | AI27: {=SUM(R27:AA27*$G$9)} -> 0 | AJ27: =IF(TRIM(AB27)="YES", 60, 0) -> 0 | AK27: =AC27+AD27+AF27+AG27+AH27+AI27+AJ27 -> 0 | AM27: Single room | AN27: 130
H28: =G28-F28 -> 0 | AC28: =IF(D28="ATHLETE", $D$9, 0) -> 0 | AD28: =IF(NOT(ISBLANK(C28)),IF(OR(A13="Cat. B Capsis Hotel Thessaloniki",A13="Cat. A Holiday Inn Thessaloniki",A13=""),0,120),) -> 0 | AE28: =IF(E28="Single",$A$9,IF(E28="Double",$B$9,IF(E28="Triple",$C$9,0))) -> 0 | AF28: =AE28*H28 -> 0 | AG28: =SUM(I28:O28)*$F$9 -> 0 | AH28: =(P28+Q28)*$H$9 -> 0 | AI28: {=SUM(R28:AA28*$G$9)} -> 0 | AJ28: =IF(TRIM(AB28)="YES", 60, 0) -> 0 | AK28: =AC28+AD28+AF28+AG28+AH28+AI28+AJ28 -> 0 | AM28: Double room | AN28: 98
H29: =G29-F29 -> 0 | AC29: =IF(D29="ATHLETE", $D$9, 0) -> 0 | AD29: =IF(NOT(ISBLANK(C29)),IF(OR(A13="Cat. B Capsis Hotel Thessaloniki",A13="Cat. A Holiday Inn Thessaloniki",A13=""),0,120),) -> 0 | AE29: =IF(E29="Single",$A$9,IF(E29="Double",$B$9,IF(E29="Triple",$C$9,0))) -> 0 | AF29: =AE29*H29 -> 0 | AG29: =SUM(I29:O29)*$F$9 -> 0 | AH29: =(P29+Q29)*$H$9 -> 0 | AI29: {=SUM(R29:AA29*$G$9)} -> 0 | AJ29: =IF(TRIM(AB29)="YES", 60, 0) -> 0 | AK29: =AC29+AD29+AF29+AG29+AH29+AI29+AJ29 -> 0 | AM29: Triple room | AN29: 80
H30: =G30-F30 -> 0 | AC30: =IF(D30="ATHLETE", $D$9, 0) -> 0 | AD30: =IF(NOT(ISBLANK(C30)),IF(OR(A13="Cat. B Capsis Hotel Thessaloniki",A13="Cat. A Holiday Inn Thessaloniki",A13=""),0,120),) -> 0 | AE30: =IF(E30="Single",$A$9,IF(E30="Double",$B$9,IF(E30="Triple",$C$9,0))) -> 0 | AF30: =AE30*H30 -> 0 | AG30: =SUM(I30:O30)*$F$9 -> 0 | AH30: =(P30+Q30)*$H$9 -> 0 | AI30: {=SUM(R30:AA30*$G$9)} -> 0 | AJ30: =IF(TRIM(AB30)="YES", 60, 0) -> 0 | AK30: =AC30+AD30+AF30+AG30+AH30+AI30+AJ30 -> 0
H31: =G31-F31 -> 0 | AC31: =IF(D31="ATHLETE", $D$9, 0) -> 0 | AD31: =IF(NOT(ISBLANK(C31)),IF(OR(A13="Cat. B Capsis Hotel Thessaloniki",A13="Cat. A Holiday Inn Thessaloniki",A13=""),0,120),) -> 0 | AE31: =IF(E31="Single",$A$9,IF(E31="Double",$B$9,IF(E31="Triple",$C$9,0))) -> 0 | AF31: =AE31*H31 -> 0 | AG31: =SUM(I31:O31)*$F$9 -> 0 | AH31: =(P31+Q31)*$H$9 -> 0 | AI31: {=SUM(R31:AA31*$G$9)} -> 0 | AJ31: =IF(TRIM(AB31)="YES", 60, 0) -> 0 | AK31: =AC31+AD31+AF31+AG31+AH31+AI31+AJ31 -> 0 | AM31: LUNCH IN THE HOTEL | AN31: 25
H32: =G32-F32 -> 0 | AC32: =IF(D32="ATHLETE", $D$9, 0) -> 0 | AD32: =IF(NOT(ISBLANK(C32)),IF(OR(A13="Cat. B Capsis Hotel Thessaloniki",A13="Cat. A Holiday Inn Thessaloniki",A13=""),0,120),) -> 0 | AE32: =IF(E32="Single",$A$9,IF(E32="Double",$B$9,IF(E32="Triple",$C$9,0))) -> 0 | AF32: =AE32*H32 -> 0 | AG32: =SUM(I32:O32)*$F$9 -> 0 | AH32: =(P32+Q32)*$H$9 -> 0 | AI32: {=SUM(R32:AA32*$G$9)} -> 0 | AJ32: =IF(TRIM(AB32)="YES", 60, 0) -> 0 | AK32: =AC32+AD32+AF32+AG32+AH32+AI32+AJ32 -> 0 | AM32: Lunch box in the hall | AN32: 20
H33: =G33-F33 -> 0 | AC33: =IF(D33="ATHLETE", $D$9, 0) -> 0 | AD33: =IF(NOT(ISBLANK(C33)),IF(OR(A13="Cat. B Capsis Hotel Thessaloniki",A13="Cat. A Holiday Inn Thessaloniki",A13=""),0,120),) -> 0 | AE33: =IF(E33="Single",$A$9,IF(E33="Double",$B$9,IF(E33="Triple",$C$9,0))) -> 0 | AF33: =AE33*H33 -> 0 | AG33: =SUM(I33:O33)*$F$9 -> 0 | AH33: =(P33+Q33)*$H$9 -> 0 | AI33: {=SUM(R33:AA33*$G$9)} -> 0 | AJ33: =IF(TRIM(AB33)="YES", 60, 0) -> 0 | AK33: =AC33+AD33+AF33+AG33+AH33+AI33+AJ33 -> 0 | AM33: Dinner | AN33: 25
H34: =G34-F34 -> 0 | AC34: =IF(D34="ATHLETE", $D$9, 0) -> 0 | AD34: =IF(NOT(ISBLANK(C34)),IF(OR(A13="Cat. B Capsis Hotel Thessaloniki",A13="Cat. A Holiday Inn Thessaloniki",A13=""),0,120),) -> 0 | AE34: =IF(E34="Single",$A$9,IF(E34="Double",$B$9,IF(E34="Triple",$C$9,0))) -> 0 | AF34: =AE34*H34 -> 0 | AG34: =SUM(I34:O34)*$F$9 -> 0 | AH34: =(P34+Q34)*$H$9 -> 0 | AI34: {=SUM(R34:AA34*$G$9)} -> 0 | AJ34: =IF(TRIM(AB34)="YES", 60, 0) -> 0 | AK34: =AC34+AD34+AF34+AG34+AH34+AI34+AJ34 -> 0
H35: =G35-F35 -> 0 | AC35: =IF(D35="ATHLETE", $D$9, 0) -> 0 | AD35: =IF(NOT(ISBLANK(C35)),IF(OR(A13="Cat. B Capsis Hotel Thessaloniki",A13="Cat. A Holiday Inn Thessaloniki",A13=""),0,120),) -> 0 | AE35: =IF(E35="Single",$A$9,IF(E35="Double",$B$9,IF(E35="Triple",$C$9,0))) -> 0 | AF35: =AE35*H35 -> 0 | AG35: =SUM(I35:O35)*$F$9 -> 0 | AH35: =(P35+Q35)*$H$9 -> 0 | AI35: {=SUM(R35:AA35*$G$9)} -> 0 | AJ35: =IF(TRIM(AB35)="YES", 60, 0) -> 0 | AK35: =AC35+AD35+AF35+AG35+AH35+AI35+AJ35 -> 0
H36: =G36-F36 -> 0 | AC36: =IF(D36="ATHLETE", $D$9, 0) -> 0 | AD36: =IF(NOT(ISBLANK(C36)),IF(OR(A13="Cat. B Capsis Hotel Thessaloniki",A13="Cat. A Holiday Inn Thessaloniki",A13=""),0,120),) -> 0 | AE36: =IF(E36="Single",$A$9,IF(E36="Double",$B$9,IF(E36="Triple",$C$9,0))) -> 0 | AF36: =AE36*H36 -> 0 | AG36: =SUM(I36:O36)*$F$9 -> 0 | AH36: =(P36+Q36)*$H$9 -> 0 | AI36: {=SUM(R36:AA36*$G$9)} -> 0 | AJ36: =IF(TRIM(AB36)="YES", 60, 0) -> 0 | AK36: =AC36+AD36+AF36+AG36+AH36+AI36+AJ36 -> 0
H37: =G37-F37 -> 0 | AC37: =IF(D37="ATHLETE", $D$9, 0) -> 0 | AD37: =IF(NOT(ISBLANK(C37)),IF(OR(A13="Cat. B Capsis Hotel Thessaloniki",A13="Cat. A Holiday Inn Thessaloniki",A13=""),0,120),) -> 0 | AE37: =IF(E37="Single",$A$9,IF(E37="Double",$B$9,IF(E37="Triple",$C$9,0))) -> 0 | AF37: =AE37*H37 -> 0 | AG37: =SUM(I37:O37)*$F$9 -> 0 | AH37: =(P37+Q37)*$H$9 -> 0 | AI37: {=SUM(R37:AA37*$G$9)} -> 0 | AJ37: =IF(TRIM(AB37)="YES", 60, 0) -> 0 | AK37: =AC37+AD37+AF37+AG37+AH37+AI37+AJ37 -> 0
H38: =G38-F38 -> 0 | AC38: =IF(D38="ATHLETE", $D$9, 0) -> 0 | AD38: =IF(NOT(ISBLANK(C38)),IF(OR(A13="Cat. B Capsis Hotel Thessaloniki",A13="Cat. A Holiday Inn Thessaloniki",A13=""),0,120),) -> 0 | AE38: =IF(E38="Single",$A$9,IF(E38="Double",$B$9,IF(E38="Triple",$C$9,0))) -> 0 | AF38: =AE38*H38 -> 0 | AG38: =SUM(I38:O38)*$F$9 -> 0 | AH38: =(P38+Q38)*$H$9 -> 0 | AI38: {=SUM(R38:AA38*$G$9)} -> 0 | AJ38: =IF(TRIM(AB38)="YES", 60, 0) -> 0 | AK38: =AC38+AD38+AF38+AG38+AH38+AI38+AJ38 -> 0 | AM38: ATHLETE
H39: =G39-F39 -> 0 | AC39: =IF(D39="ATHLETE", $D$9, 0) -> 0 | AD39: =IF(NOT(ISBLANK(C39)),IF(OR(A13="Cat. B Capsis Hotel Thessaloniki",A13="Cat. A Holiday Inn Thessaloniki",A13=""),0,120),) -> 0 | AE39: =IF(E39="Single",$A$9,IF(E39="Double",$B$9,IF(E39="Triple",$C$9,0))) -> 0 | AF39: =AE39*H39 -> 0 | AG39: =SUM(I39:O39)*$F$9 -> 0 | AH39: =(P39+Q39)*$H$9 -> 0 | AI39: {=SUM(R39:AA39*$G$9)} -> 0 | AJ39: =IF(TRIM(AB39)="YES", 60, 0) -> 0 | AK39: =AC39+AD39+AF39+AG39+AH39+AI39+AJ39 -> 0 | AM39: COACH
H40: =G40-F40 -> 0 | AC40: =IF(D40="ATHLETE", $D$9, 0) -> 0 | AD40: =IF(NOT(ISBLANK(C40)),IF(OR(A13="Cat. B Capsis Hotel Thessaloniki",A13="Cat. A Holiday Inn Thessaloniki",A13=""),0,120),) -> 0 | AE40: =IF(E40="Single",$A$9,IF(E40="Double",$B$9,IF(E40="Triple",$C$9,0))) -> 0 | AF40: =AE40*H40 -> 0 | AG40: =SUM(I40:O40)*$F$9 -> 0 | AH40: =(P40+Q40)*$H$9 -> 0 | AI40: {=SUM(R40:AA40*$G$9)} -> 0 | AJ40: =IF(TRIM(AB40)="YES", 60, 0) -> 0 | AK40: =AC40+AD40+AF40+AG40+AH40+AI40+AJ40 -> 0 | AM40: REFEREE
H41: =G41-F41 -> 0 | AC41: =IF(D41="ATHLETE", $D$9, 0) -> 0 | AD41: =IF(NOT(ISBLANK(C41)),IF(OR(A13="Cat. B Capsis Hotel Thessaloniki",A13="Cat. A Holiday Inn Thessaloniki",A13=""),0,120),) -> 0 | AE41: =IF(E41="Single",$A$9,IF(E41="Double",$B$9,IF(E41="Triple",$C$9,0))) -> 0 | AF41: =AE41*H41 -> 0 | AG41: =SUM(I41:O41)*$F$9 -> 0 | AH41: =(P41+Q41)*$H$9 -> 0 | AI41: {=SUM(R41:AA41*$G$9)} -> 0 | AJ41: =IF(TRIM(AB41)="YES", 60, 0) -> 0 | AK41: =AC41+AD41+AF41+AG41+AH41+AI41+AJ41 -> 0 | AM41: DELEGATE
...

Sheet TRAVEL INFO
B1: Thessaloniki
B2: Cadet European Cup 2026
B3: Thessaloniki, Greece
B4: November 21-22, 2026
B5: EJU Cadet Training Camp
B6: November 23-25, 2026
B9: Travel Form
B12: Country
D14: ARRIVAL | I14: DEPARTURE
B15: Arrival date | C15: From (city) | D15: Arrival Time | E15: Flight N. | F15: N. of Persons | G15: Departure date | H15: Destination (city) | I15: Departure time | J15: N. of Persons

Sheet Φύλλο1
B4: Στήλη1 | C4: Στήλη2 | D4: Στήλη3 | E4: BANK TR | F4: CASH | G4: Στήλη4 | H4: Στήλη5
B5: 1 | C5: ISR SHAI | D5: 4420 | G5: CAPSIS
B6: 2 | C6: PORTUGAL BETTENCOURT | D6: 385 | G6: OWN
B7: 3 | C7: CRO DUJAKOVIC | D7: 755 | G7: CAPSIS
B8: 4 | C8: SWISS REFEREE | D8: 340 | G8: HOLIDAY
B9: 5 | C9: CRO BLACK BELT | D9: 1699 | G9: CAPSIS
B10: 6 | C10: AUSTRALIA | D10: 530 | G10: OWN
B11: 7 | C11: EL SALVADOR | D11: 145 | G11: OWN
B12: 8 | C12: GBR CAPSIS | D12: 2081 | G12: CAPSIS
B13: 9 | C13: GER REFEREES | D13: 1260 | G13: HOLIDAY
B14: 10 | C14: FRA PATRICE BLIN | D14: 1130 | G14: HOLIDAY
B15: 11 | C15: CRO SAMOBOR | D15: 972 | G15: CAPSIS
B16: 12 | C16: FRA CORRUBLE | D16: 417 | G16: CAPSIS
... B28: 24 | C28: ISR MEITAV | D28: 1690 | G28: OWN
B29: 25 | C29: CYPRUS | D29: 8701 | E29: 8701 | G29: CAPSIS
B30: 26 | C30: FRA BLACK | D30: 607 | G30: CAPSIS
B31: 27 | C31: BELGIUM FLEMISH | D31: 2735 | G31: CAPSIS AND OWN
B32: 28 | C32: GEO GVITIJANI | D32: 1643 | G32: CAPSIS
B33: 29 | C33: GEO SABIASHVILI | D33: 285 | G33: CAPSIS
B34: 30 | C34: GEO NOZADZE | D34: 442 | G34: CAPSIS
B35: 31 | C35: ITALY HOLIDAY OWN | D35: 6670 | G35: HOLIDAY AND OWN
B36: 32 | C36: ITALY CAPSIS | D36: 7295 | G36: CAPSIS
B37: 33 | C37: POLAND BUDOWLANI | D37: 2620 | G37: HOLIDAY
B38: 34 | C38: MONTENEGRO BAR | D38: 950 | G38: HOLIDAY
B39: 35 | C39: FRA POLE ESPOIRS TOULOUSE | D39: 845 | G39: OWN
B40: 36 | C40: FRA ROTH | D40: 745 | G40: HOLIDAY
B41: 37 | C41: ISR TOITER | D41: 1395 | G41: HOLIDAY
... B47: 43 | C47: SERBIA MARKOVIC | D47: 465 | G47: OWN
B48: 44a | C48: BULGARIA | D48: 9885 | G48: HOLIDAY
B49: 44b | C49: BULGARIA NATIONAL | D49: 5440 | G49: HOLIDAY
B50: 45 | C50: SERBIA ZIVKOVIC | D50: 735 | G50: OWN | H50: CAMP
B51: 46 | C51: GEO ZOIDZE | D51: 2310 | G51: HOLIDAY
B52: 47 | C52: ISR AIKIJITSU | D52: 417 | G52: CAPSIS
B53: 48 | C53: SERBIA TAMIS | D53: 410 | G53: OWN
B54: 49 | C54: GBR OWN | D54: 410 | G54: OWN
B55: 50 | C55: CRO TORI | D55: 1080 | G55: HOLIDAY
B56: 51 | C56: CRO ALKAR SINJ | D56: 859 | G56: CAPSIS
B57: 52 | C57: ESTONIA | D57: 5480 | G57: HOLIDAY
B58: 53 | C58: SLOVAKIA | D58: 6077 | G58: CAPSIS
B59: 54 | C59: N MAC | D59: 2108 | G59: HOLIDAY
...
