{"text_format":"1","workbook":"xlsx","n_sheets":7,"sheets":["FORM","AMOUNT","Lexique","Résumé","Lien Hébergement","Lien Transport","Lien Compta"],"not_rendered":{"charts":0,"images":3,"macros":1,"external_links":0,"defined_names":10,"comments":1,"pivot_tables":0},"unopened":[],"bounds":{"document_bytes":16777216,"sheet_cells":100000,"rows_first":2000,"rows_last":500,"rows_between":2000,"halvings":0,"cell_chars":16384,"cell_head_chars":4096},"cells_cut":0,"cells_raw":0,"read":"whole","date_system":"1900"}

{"sheet":"FORM","index":0,"n_rows":132,"n_cols":75,"rows_kept":132,"cut":false,"hidden":false,"merged":[[6,20,6,22],[7,20,7,22],[0,14,0,17],[14,13,16,16],[12,13,13,16],[2,3,3,19],[12,9,12,11],[13,9,13,10],[14,9,14,10],[15,9,15,10],[6,10,7,18],[25,1,25,3],[23,8,23,9],[24,8,24,9],[23,10,23,11],[24,10,24,11],[27,20,27,26],[19,5,19,6],[8,10,8,15],[18,9,18,15],[20,6,20,8],[148,15,148,16],[149,15,149,16],[133,12,133,13],[21,10,21,15],[133,18,133,19],[20,10,20,15],[27,8,27,13],[27,14,27,19],[17,0,17,15],[26,0,26,27],[132,1,132,27],[21,6,21,8],[23,14,23,15],[24,14,24,15],[23,12,23,13],[24,12,24,13],[22,8,22,15],[23,3,23,4],[19,1,19,3],[20,4,20,5],[21,4,21,5],[22,3,22,4],[21,1,22,2],[19,9,19,15],[155,15,155,16],[156,15,156,16],[157,15,157,16],[158,15,158,16],[159,15,159,16],[134,15,134,16],[140,15,140,16],[141,15,141,16],[142,15,142,16],[143,15,143,16],[144,15,144,16],[135,15,135,16],[136,15,136,16],[137,15,137,16],[138,15,138,16],[139,15,139,16],[150,15,150,16],[151,15,151,16],[152,15,152,16],[153,15,153,16],[154,15,154,16],[145,15,145,16],[146,15,146,16],[147,15,147,16],[165,15,165,16],[166,15,166,16],[167,15,167,16],[168,15,168,16],[169,15,169,16],[160,15,160,16],[161,15,161,16],[162,15,162,16],[163,15,163,16],[164,15,164,16],[175,15,175,16],[176,15,176,16],[177,15,177,16],[178,15,178,16],[179,15,179,16],[170,15,170,16],[171,15,171,16],[172,15,172,16],[173,15,173,16],[174,15,174,16],[185,15,185,16],[186,15,186,16],[187,15,187,16],[188,15,188,16],[189,15,189,16],[180,15,180,16],[181,15,181,16],[182,15,182,16],[183,15,183,16],[184,15,184,16],[195,15,195,16],[196,15,196,16],[197,15,197,16],[198,15,198,16],[199,15,199,16],[190,15,190,16],[191,15,191,16],[192,15,192,16],[193,15,193,16],[194,15,194,16],[205,15,205,16],[206,15,206,16],[207,15,207,16],[208,15,208,16],[209,15,209,16],[200,15,200,16],[201,15,201,16],[202,15,202,16],[203,15,203,16],[204,15,204,16],[215,15,215,16],[216,15,216,16],[217,15,217,16],[218,15,218,16],[219,15,219,16],[210,15,210,16],[211,15,211,16],[212,15,212,16],[213,15,213,16],[214,15,214,16],[225,15,225,16],[226,15,226,16],[227,15,227,16],[228,15,228,16],[229,15,229,16],[220,15,220,16],[221,15,221,16],[222,15,222,16],[223,15,223,16],[224,15,224,16],[235,15,235,16],[236,15,236,16],[237,15,237,16],[238,15,238,16],[239,15,239,16],[230,15,230,16],[231,15,231,16],[232,15,232,16],[233,15,233,16],[234,15,234,16],[245,15,245,16],[246,15,246,16],[247,15,247,16],[248,15,248,16],[249,15,249,16],[240,15,240,16],[241,15,241,16],[242,15,242,16],[243,15,243,16],[244,15,244,16],[255,15,255,16],[256,15,256,16],[257,15,257,16],[258,15,258,16],[259,15,259,16],[250,15,250,16],[251,15,251,16],[252,15,252,16],[253,15,253,16],[254,15,254,16],[272,15,272,16],[273,15,273,16],[274,15,274,16],[265,15,265,16],[266,15,266,16],[267,15,267,16],[268,15,268,16],[269,15,269,16],[260,15,260,16],[261,15,261,16],[262,15,262,16],[263,15,263,16],[264,15,264,16],[280,15,280,16],[281,15,281,16],[282,15,282,16],[283,15,283,16],[284,15,284,16],[275,15,275,16],[276,15,276,16],[0,2,1,12],[295,15,295,16],[290,15,290,16],[291,15,291,16],[292,15,292,16],[293,15,293,16],[294,15,294,16],[285,15,285,16],[286,15,286,16],[287,15,287,16],[288,15,288,16],[289,15,289,16],[277,15,277,16],[278,15,278,16],[279,15,279,16],[270,15,270,16],[271,15,271,16]]}
[{"$f":"IF(SUM(A33:A132)>0,1,0)","v":0},{"$f":"TODAY()","v":"2021-08-24"},"Paris Judo Grand Slam 2021 [16 & 17 October 2021]\nApplication Form",null,null,null,null,null,null,null,null,null,null,{"$f":"SUM($X$33:$X$132)","v":0},{"$f":"IF($Q$2=0,\"Your delegation must book a minimum of 2 nights in an official hotel\",IF($Q$2>=2,\"Your delegation has booked at least 2 nights in an official hotel\",IF($Q$2<2,\"Your delegation must book at least \"&$P$2&\" nights in an official hotel (Missing = \"&$N$2&\" night(s))\",\"\")))","v":{"$error":"#DIV/0!"}},null,null,null,null,null,null,null,null,null,null,null,null,null,null,null,null,null,null,null,null,null,null,null,null,null,null,null,null,"2021-02-12"]
[null,"2021-09-07",null,null,null,null,null,null,null,null,null,null,null,{"$f":"$P$2-$N$1","v":0},{"$f":"(P$2-N$1)*88","v":0},{"$f":"COUNTA($V$33:$V$132)*2","v":0},{"$f":"SUM($X$33:$X$132)/COUNTA($V$33:$V$132)","v":{"$error":"#DIV/0!"}},null,null,null,null,null,null,null,null,null,null,null,null,null,null,null,null,null,null,null,null,null,null,null,null,null,null,"2021-02-08"]
[null,null,null,"The French Judo Federation is pleased to assist compteting delegations with transportation from/to Paris CDG Airport, Orly Airport and train stations from/to the official hotels on delegations arrivals and departures.",null,null,null,null,null,null,null,null,null,null,null,null,null,null,null,null,null,null,null,null,null,null,null,null,null,null,null,null,null,null,null,null,null,null,null,null,null,null,null,"2021-02-09"]
[null,null,null,null,null,null,null,null,null,null,null,null,null,null,null,null,null,null,null,null,null,null,null,null,null,null,null,null,null,null,null,null,null,null,null,null,null,null,null,null,null,null,null,"2021-02-07"]
[]
["Team Leader",{"$f":"COUNTIF($F$33:$F$132,\"Team Leader\")","v":0},null,"Procedures",null,null,null,null,null,null,"Notes"]
["Coach",{"$f":"COUNTIF($F$33:$F$132,\"Coach\")","v":0},null,"1 - Please fill in the colored sections of this form and return it to us by e-mail no later than September 7, 2021.",null,null,null,null,null,null,"1 - If you need transportation from/to airports (CDG or Orly), stations (Gare du Nord, Gare de l'Est, Gare de Lyon) from/to the officials hotels, please select \"Yes\" in [Transport]  --> Transportation service is only offered on the days when the delegations are booked in an official hotel through the organisers.",null,null,null,null,null,null,null,null,null,"DEADLINE : September 7th 2021"]
["Officials",{"$f":"COUNTIF($F$33:$F$132,\"Official\")","v":0},null,"2 - After receiving the form, we will send you an invoice with payment instruction.",null,null,null,null,null,null,null,null,null,null,null,null,null,null,null,null,{"$f":"\"--> You have \"&$B$2-$B$1&\" days left.\"","v":"--> You have 14 days left."}]
["Physio",{"$f":"COUNTIF($F$33:$F$132,\"Physio\")","v":0},null,"3 - Please make payment no later than September 13, 2021.",null,null,null,null,null,null,"2 - Reservations for a minimum of 2 nights must be booked in an official hotel through the organisers.",null,null,null,null,null,null,null,null,null,"FRENCH JUDO FEDERATION",null,"E-mail : accommodation@ffjudo.com"]
["Doctor",{"$f":"COUNTIF($F$33:$F$132,\"Doctor\")","v":0},null,"4 - Please provide travel information no later than October 6, 2021.",null,null,null,null,null,null,null,null,null,null,null,null,null,null,null,null,"21-25 av. de la Porte de Châtillon",null,"Phone : + 33 1 40 52 16 16"]
["Total",{"$f":"SUM(B6:B10)","v":0},null,null,null,null,null,null,null,null,null,null,null,null,null,null,null,null,null,null,"75014 Paris",null,"VAT N° : FR92784573792"]
[null,null,null,null,null,null,null,null,null,null,null,null,null,"Nb Competitors :",{"$f":"COUNTIF($F$33:$F$132,\"Competitor\")","v":0},{"$f":"IF(AND($O$12>=1,$O$12<=4),3,IF(AND($O$12>=5,$O$12<=9),5,IF($O$12>=10,7,\"\")))","v":""}]
[null,null,null,"Cancellation Policy",null,null,null,null,null,"(French local time)",null,null,null,{"$f":"\"You can register up to \"&P12&\" officials (coaches, team leader, team officials, physiotherapist and doctor).\"","v":"You can register up to  officials (coaches, team leader, team officials, physiotherapist and doctor)."}]
[null,null,null,"If you wish to change or cancel your reservation for accommodation, please send us an e-mail.",null,null,null,null,null,"On or before September 2",null,"No charge"]
[null,null,null,"In case of cancellation, the following cancellation charges will apply.",null,null,null,null,null,"After September 2 to 22",null,0.5,null,{"$f":"IF($B$11>$P$12,\"-> Quota for officials exceeded ! Fee for additional team official (who must be registered in judobase) is 100 US $ per accreditation.\",\"-> Your accreditation quota for officials is OK.\")","v":"-> Your accreditation quota for officials is OK."}]
[null,null,null,null,null,null,null,null,null,"On and after September 22",null,"100% (full charge)"]
[]
["CONTACT INFORMATIONS"]
[null,null,null,null,null,null,null,null,null,"Organisation"]
[null,"Country 3 Letter Code :",null,null,null,{"$f":"VLOOKUP($E20,Lexique!$A$2:$C$204,3,FALSE)","v":{"$error":"#N/A"}}]
[null,null,null,"Mr. / Ms.","Surname",null,"Given name",null,null,null,"E-mail"]
[null,"Contact person :"]
[null,null,null,"Phone (e.g. : +33 1 40 52 16 16)",null,null,null,null,"Covid Manager on site (person in charge of your delegation during the event)"]
[]
[null,null,null,null,null,null,null,"Mr. / Ms.","Surname",null,"Given name",null,"Email",null,"Phone"]
[null,null,null,null,"Date d'enregistrement"]
["APPLICATION FORM                                                                         APPLICATION FORM                                                                         APPLICATION FORM                                                                         APPLICATION FORM               "]
[null,null,null,null,null,null,null,null,"ARRIVAL   î",null,null,null,null,null,"DEPARTURE   ì",null,null,null,null,null,"ACCOMMODATION"]
[null,"No","Title","Surname","Given name","Function","Weight Category","PCR Test\n(Number)","Arrival\nDate","Flight\nNumber","Arrival\nTime","From","To","Transport\n->If \"No\", put \"No\" in the cells Flight n°/Arrival Time/From/To","Departure\nDate","Flight\nNumber","Departure\nTime","From","To","Transport\n->If \"No\", put \"No\" in the cells Flight n°/Arrival Time/From/To","Hotel","Check-in","Check-out","Nights","Room Type","Type of catering\nB&B / HB / FB","Room shared with :","Remarks",null,null,null,null,null,null,null,null,null,null,null,null,null,null,null,null,null,null,"Title","Surname","Given name","Function","Weight Category","Compet Participation","TC\nParticipation\n","Arrival\nDate","Flight\nNumber","Arrival\nTime","From","To","Transport","Departure\nDate","Flight\nNumber","Departure\nTime","From","To","Transport","Hotel","Check-in","Check-out","Nights","Room Type","Hotel","Check-in","Check-out","Nights","Room Type"]
[null,"e.g.1","Mr.","Moreno","Franck","Coach",null,2,"2021-10-14","AF 1520","14:45:00","Manchester","CDG Airport [T2D]","Yes","2021-10-18","AF 2140","18:20:00","CDG Airport [T2D]","London","Yes","IBIS STYLES BERCY","2021-10-14","2021-10-18",{"$f":"W30-V30","v":4},"Twin","B&B","Davis John",null,null,null,null,null,null,null,null,null,null,null,null,null,null,{"$f":"IF($C30=\"Mr.\",\"H\",IF($C30=\"Ms.\",\"F\",\"\"))","v":"H"}]
[null,"e.g.2","Mr.","Davis","John","Competitor","-81 kg",2,"2021-10-14","AF 1520","14:45:00","Manchester","CDG Airport [T2D]","Yes","2021-10-18","AF 2140","18:20:00","CDG Airport [T2D]","London","Yes","IBIS STYLES BERCY","2021-10-14","2021-10-18",4,"Twin","B&B","Moreno Franck",null,null,null,null,null,null,null,null,null,null,null,null,null,null,"H"]
[null,"e.g.3","Ms.","Van Derk","Emma","Competitor","-63 kg",2,"2021-10-14","BA 315","10:25:00","London","ORLY Airport [T1]","Yes","2021-10-18","LH 1029","10:15:00","CDG Airport [T2C]","Frankfurt","Yes","IBIS STYLES BERCY","2021-10-14","2021-10-18",4,"Single","B&B",null,null,null,null,null,null,null,null,null,null,null,null,null,null,null,"F"]
[{"$f":"IF(COUNTIF(C33:Y33,\"><\")=0,0,SUM(AU33:BW33))","v":0},"01",null,null,null,null,null,null,null,null,null,null,null,null,null,null,null,null,null,null,null,null,null,{"$f":"W33-V33","v":0},null,null,null,null,null,null,null,null,null,null,null,null,null,null,null,null,null,"",null,null,null,null,{"$f":"IF(C33=\"\",1,0)","v":1},{"$f":"IF(D33=\"\",1,0)","v":1},{"$f":"IF(E33=\"\",1,0)","v":1},{"$f":"IF(F33=\"\",1,0)","v":1},{"$f":"IF(G33=\"\",1,0)","v":1},{"$f":"IF(H33=\"\",1,0)","v":1},{"$f":"IF(#REF!=\"\",1,0)","v":{"$error":"#REF!"}},{"$f":"IF(I33=\"\",1,0)","v":1},{"$f":"IF(N33=\"No\",0,IF(J33=\"\",1,0))","v":1},{"$f":"IF(N33=\"No\",0,IF(K33=\"\",1,0))","v":1},{"$f":"IF(N33=\"No\",0,IF(L33=\"\",1,0))","v":1},{"$f":"IF(N33=\"No\",0,IF(M33=\"\",1,0))","v":1},{"$f":"IF(N33=\"\",1,0)","v":1},{"$f":"IF(O33=\"\",1,0)","v":1},{"$f":"IF(T33=\"No\",0,IF(P33=\"\",1,0))","v":1},{"$f":"IF(T33=\"No\",0,IF(Q33=\"\",1,0))","v":1},{"$f":"IF(T33=\"No\",0,IF(R33=\"\",1,0))","v":1},{"$f":"IF(T33=\"No\",0,IF(S33=\"\",1,0))","v":1},{"$f":"IF(T33=\"\",1,0)","v":1},{"$f":"IF(H33=\"No\",0,IF(U33=\"\",1,0))","v":1},{"$f":"IF(H33=\"No\",0,IF(V33=\"\",1,0))","v":1},{"$f":"IF(H33=\"No\",0,IF(W33=\"\",1,0))","v":1},{"$f":"0","v":0},{"$f":"IF(H33=\"No\",0,IF(Y33=\"\",1,0))","v":1},{"$f":"IF(#REF!=\"No\",0,IF(#REF!=\"\",1,0))","v":{"$error":"#REF!"}},{"$f":"IF(#REF!=\"No\",0,IF(#REF!=\"ONLY TRAINING CAMP\",0,IF(#REF!=\"\",1,0)))","v":{"$error":"#REF!"}},{"$f":"IF(#REF!=\"No\",0,IF(#REF!=\"ONLY TRAINING CAMP\",0,IF(#REF!=\"\",1,0)))","v":{"$error":"#REF!"}},{"$f":"0","v":0},{"$f":"IF(#REF!=\"No\",0,IF(#REF!=\"ONLY TRAINING CAMP\",0,IF(#REF!=\"\",1,0)))","v":{"$error":"#REF!"}}]
[0,"02",null,null,null,null,null,null,null,null,null,null,null,null,null,null,null,null,null,null,null,null,null,0,null,null,null,null,null,null,null,null,null,null,null,null,null,null,null,null,null,"",null,null,null,null,1,1,1,1,1,1,{"$f":"IF(#REF!=\"\",1,0)","v":{"$error":"#REF!"}},1,1,1,1,1,1,1,1,1,1,1,1,1,1,1,{"$f":"0","v":0},1,{"$f":"IF(#REF!=\"No\",0,IF(#REF!=\"\",1,0))","v":{"$error":"#REF!"}},{"$f":"IF(#REF!=\"No\",0,IF(#REF!=\"ONLY TRAINING CAMP\",0,IF(#REF!=\"\",1,0)))","v":{"$error":"#REF!"}},{"$f":"IF(#REF!=\"No\",0,IF(#REF!=\"ONLY TRAINING CAMP\",0,IF(#REF!=\"\",1,0)))","v":{"$error":"#REF!"}},{"$f":"0","v":0},{"$f":"IF(#REF!=\"No\",0,IF(#REF!=\"ONLY TRAINING CAMP\",0,IF(#REF!=\"\",1,0)))","v":{"$error":"#REF!"}}]
[0,"03",null,null,null,null,null,null,null,null,null,null,null,null,null,null,null,null,null,null,null,null,null,0,null,null,null,null,null,null,null,null,null,null,null,null,null,null,null,null,null,{"$f":"IF($C35=\"Mr.\",\"H\",IF($C35=\"Ms.\",\"F\",\"\"))","v":""},null,null,null,null,1,1,1,1,1,1,{"$f":"IF(#REF!=\"\",1,0)","v":{"$error":"#REF!"}},1,1,1,1,1,1,1,1,1,1,1,1,1,1,1,{"$f":"0","v":0},1,{"$f":"IF(#REF!=\"No\",0,IF(#REF!=\"\",1,0))","v":{"$error":"#REF!"}},{"$f":"IF(#REF!=\"No\",0,IF(#REF!=\"ONLY TRAINING CAMP\",0,IF(#REF!=\"\",1,0)))","v":{"$error":"#REF!"}},{"$f":"IF(#REF!=\"No\",0,IF(#REF!=\"ONLY TRAINING CAMP\",0,IF(#REF!=\"\",1,0)))","v":{"$error":"#REF!"}},{"$f":"0","v":0},{"$f":"IF(#REF!=\"No\",0,IF(#REF!=\"ONLY TRAINING CAMP\",0,IF(#REF!=\"\",1,0)))","v":{"$error":"#REF!"}}]
[0,"04",null,null,null,null,null,null,null,null,null,null,null,null,null,null,null,null,null,null,null,null,null,0,null,null,null,null,null,null,null,null,null,null,null,null,null,null,null,null,null,"",null,null,null,null,1,1,1,1,1,1,{"$f":"IF(#REF!=\"\",1,0)","v":{"$error":"#REF!"}},1,1,1,1,1,1,1,1,1,1,1,1,1,1,1,{"$f":"0","v":0},1,{"$f":"IF(#REF!=\"No\",0,IF(#REF!=\"\",1,0))","v":{"$error":"#REF!"}},{"$f":"IF(#REF!=\"No\",0,IF(#REF!=\"ONLY TRAINING CAMP\",0,IF(#REF!=\"\",1,0)))","v":{"$error":"#REF!"}},{"$f":"IF(#REF!=\"No\",0,IF(#REF!=\"ONLY TRAINING CAMP\",0,IF(#REF!=\"\",1,0)))","v":{"$error":"#REF!"}},{"$f":"0","v":0},{"$f":"IF(#REF!=\"No\",0,IF(#REF!=\"ONLY TRAINING CAMP\",0,IF(#REF!=\"\",1,0)))","v":{"$error":"#REF!"}}]
[0,"05",null,null,null,null,null,null,null,null,null,null,null,null,null,null,null,null,null,null,null,null,null,0,null,null,null,null,null,null,null,null,null,null,null,null,null,null,null,null,null,"",null,null,null,null,1,1,1,1,1,1,{"$f":"IF(#REF!=\"\",1,0)","v":{"$error":"#REF!"}},1,1,1,1,1,1,1,1,1,1,1,1,1,1,1,{"$f":"0","v":0},1,{"$f":"IF(#REF!=\"No\",0,IF(#REF!=\"\",1,0))","v":{"$error":"#REF!"}},{"$f":"IF(#REF!=\"No\",0,IF(#REF!=\"ONLY TRAINING CAMP\",0,IF(#REF!=\"\",1,0)))","v":{"$error":"#REF!"}},{"$f":"IF(#REF!=\"No\",0,IF(#REF!=\"ONLY TRAINING CAMP\",0,IF(#REF!=\"\",1,0)))","v":{"$error":"#REF!"}},{"$f":"0","v":0},{"$f":"IF(#REF!=\"No\",0,IF(#REF!=\"ONLY TRAINING CAMP\",0,IF(#REF!=\"\",1,0)))","v":{"$error":"#REF!"}}]
[0,"06",null,null,null,null,null,null,null,null,null,null,null,null,null,null,null,null,null,null,null,null,null,0,null,null,null,null,null,null,null,null,null,null,null,null,null,null,null,null,null,"",null,null,null,null,1,1,1,1,1,1,{"$f":"IF(#REF!=\"\",1,0)","v":{"$error":"#REF!"}},1,1,1,1,1,1,1,1,1,1,1,1,1,1,1,{"$f":"0","v":0},1,{"$f":"IF(#REF!=\"No\",0,IF(#REF!=\"\",1,0))","v":{"$error":"#REF!"}},{"$f":"IF(#REF!=\"No\",0,IF(#REF!=\"ONLY TRAINING CAMP\",0,IF(#REF!=\"\",1,0)))","v":{"$error":"#REF!"}},{"$f":"IF(#REF!=\"No\",0,IF(#REF!=\"ONLY TRAINING CAMP\",0,IF(#REF!=\"\",1,0)))","v":{"$error":"#REF!"}},{"$f":"0","v":0},{"$f":"IF(#REF!=\"No\",0,IF(#REF!=\"ONLY TRAINING CAMP\",0,IF(#REF!=\"\",1,0)))","v":{"$error":"#REF!"}}]
[0,"07",null,null,null,null,null,null,null,null,null,null,null,null,null,null,null,null,null,null,null,null,null,0,null,null,null,null,null,null,null,null,null,null,null,null,null,null,null,null,null,"",null,null,null,null,1,1,1,1,1,1,{"$f":"IF(#REF!=\"\",1,0)","v":{"$error":"#REF!"}},1,1,1,1,1,1,1,1,1,1,1,1,1,1,1,{"$f":"0","v":0},1,{"$f":"IF(#REF!=\"No\",0,IF(#REF!=\"\",1,0))","v":{"$error":"#REF!"}},{"$f":"IF(#REF!=\"No\",0,IF(#REF!=\"ONLY TRAINING CAMP\",0,IF(#REF!=\"\",1,0)))","v":{"$error":"#REF!"}},{"$f":"IF(#REF!=\"No\",0,IF(#REF!=\"ONLY TRAINING CAMP\",0,IF(#REF!=\"\",1,0)))","v":{"$error":"#REF!"}},{"$f":"0","v":0},{"$f":"IF(#REF!=\"No\",0,IF(#REF!=\"ONLY TRAINING CAMP\",0,IF(#REF!=\"\",1,0)))","v":{"$error":"#REF!"}}]
[0,"08",null,null,null,null,null,null,null,null,null,null,null,null,null,null,null,null,null,null,null,null,null,0,null,null,null,null,null,null,null,null,null,null,null,null,null,null,null,null,null,"",null,null,null,null,1,1,1,1,1,1,{"$f":"IF(#REF!=\"\",1,0)","v":{"$error":"#REF!"}},1,1,1,1,1,1,1,1,1,1,1,1,1,1,1,{"$f":"0","v":0},1,{"$f":"IF(#REF!=\"No\",0,IF(#REF!=\"\",1,0))","v":{"$error":"#REF!"}},{"$f":"IF(#REF!=\"No\",0,IF(#REF!=\"ONLY TRAINING CAMP\",0,IF(#REF!=\"\",1,0)))","v":{"$error":"#REF!"}},{"$f":"IF(#REF!=\"No\",0,IF(#REF!=\"ONLY TRAINING CAMP\",0,IF(#REF!=\"\",1,0)))","v":{"$error":"#REF!"}},{"$f":"0","v":0},{"$f":"IF(#REF!=\"No\",0,IF(#REF!=\"ONLY TRAINING CAMP\",0,IF(#REF!=\"\",1,0)))","v":{"$error":"#REF!"}}]
[0,"09",null,null,null,null,null,null,null,null,null,null,null,null,null,null,null,null,null,null,null,null,null,0,null,null,null,null,null,null,null,null,null,null,null,null,null,null,null,null,null,"",null,null,null,null,1,1,1,1,1,1,{"$f":"IF(#REF!=\"\",1,0)","v":{"$error":"#REF!"}},1,1,1,1,1,1,1,1,1,1,1,1,1,1,1,{"$f":"0","v":0},1,{"$f":"IF(#REF!=\"No\",0,IF(#REF!=\"\",1,0))","v":{"$error":"#REF!"}},{"$f":"IF(#REF!=\"No\",0,IF(#REF!=\"ONLY TRAINING CAMP\",0,IF(#REF!=\"\",1,0)))","v":{"$error":"#REF!"}},{"$f":"IF(#REF!=\"No\",0,IF(#REF!=\"ONLY TRAINING CAMP\",0,IF(#REF!=\"\",1,0)))","v":{"$error":"#REF!"}},{"$f":"0","v":0},{"$f":"IF(#REF!=\"No\",0,IF(#REF!=\"ONLY TRAINING CAMP\",0,IF(#REF!=\"\",1,0)))","v":{"$error":"#REF!"}}]
[0,"10",null,null,null,null,null,null,null,null,null,null,null,null,null,null,null,null,null,null,null,null,null,0,null,null,null,null,null,null,null,null,null,null,null,null,null,null,null,null,null,"",null,null,null,null,1,1,1,1,1,1,{"$f":"IF(#REF!=\"\",1,0)","v":{"$error":"#REF!"}},1,1,1,1,1,1,1,1,1,1,1,1,1,1,1,{"$f":"0","v":0},1,{"$f":"IF(#REF!=\"No\",0,IF(#REF!=\"\",1,0))","v":{"$error":"#REF!"}},{"$f":"IF(#REF!=\"No\",0,IF(#REF!=\"ONLY TRAINING CAMP\",0,IF(#REF!=\"\",1,0)))","v":{"$error":"#REF!"}},{"$f":"IF(#REF!=\"No\",0,IF(#REF!=\"ONLY TRAINING CAMP\",0,IF(#REF!=\"\",1,0)))","v":{"$error":"#REF!"}},{"$f":"0","v":0},{"$f":"IF(#REF!=\"No\",0,IF(#REF!=\"ONLY TRAINING CAMP\",0,IF(#REF!=\"\",1,0)))","v":{"$error":"#REF!"}}]
[0,"11",null,null,null,null,null,null,null,null,null,null,null,null,null,null,null,null,null,null,null,null,null,0,null,null,null,null,null,null,null,null,null,null,null,null,null,null,null,null,null,"",null,null,null,null,1,1,1,1,1,1,{"$f":"IF(#REF!=\"\",1,0)","v":{"$error":"#REF!"}},1,1,1,1,1,1,1,1,1,1,1,1,1,1,1,{"$f":"0","v":0},1,{"$f":"IF(#REF!=\"No\",0,IF(#REF!=\"\",1,0))","v":{"$error":"#REF!"}},{"$f":"IF(#REF!=\"No\",0,IF(#REF!=\"ONLY TRAINING CAMP\",0,IF(#REF!=\"\",1,0)))","v":{"$error":"#REF!"}},{"$f":"IF(#REF!=\"No\",0,IF(#REF!=\"ONLY TRAINING CAMP\",0,IF(#REF!=\"\",1,0)))","v":{"$error":"#REF!"}},{"$f":"0","v":0},{"$f":"IF(#REF!=\"No\",0,IF(#REF!=\"ONLY TRAINING CAMP\",0,IF(#REF!=\"\",1,0)))","v":{"$error":"#REF!"}}]
[0,"12",null,null,null,null,null,null,null,null,null,null,null,null,null,null,null,null,null,null,null,null,null,0,null,null,null,null,null,null,null,null,null,null,null,null,null,null,null,null,null,"",null,null,null,null,1,1,1,1,1,1,{"$f":"IF(#REF!=\"\",1,0)","v":{"$error":"#REF!"}},1,1,1,1,1,1,1,1,1,1,1,1,1,1,1,{"$f":"0","v":0},1,{"$f":"IF(#REF!=\"No\",0,IF(#REF!=\"\",1,0))","v":{"$error":"#REF!"}},{"$f":"IF(#REF!=\"No\",0,IF(#REF!=\"ONLY TRAINING CAMP\",0,IF(#REF!=\"\",1,0)))","v":{"$error":"#REF!"}},{"$f":"IF(#REF!=\"No\",0,IF(#REF!=\"ONLY TRAINING CAMP\",0,IF(#REF!=\"\",1,0)))","v":{"$error":"#REF!"}},{"$f":"0","v":0},{"$f":"IF(#REF!=\"No\",0,IF(#REF!=\"ONLY TRAINING CAMP\",0,IF(#REF!=\"\",1,0)))","v":{"$error":"#REF!"}}]
[0,"13",null,null,null,null,null,null,null,null,null,null,null,null,null,null,null,null,null,null,null,null,null,0,null,null,null,null,null,null,null,null,null,null,null,null,null,null,null,null,null,"",null,null,null,null,1,1,1,1,1,1,{"$f":"IF(#REF!=\"\",1,0)","v":{"$error":"#REF!"}},1,1,1,1,1,1,1,1,1,1,1,1,1,1,1,{"$f":"0","v":0},1,{"$f":"IF(#REF!=\"No\",0,IF(#REF!=\"\",1,0))","v":{"$error":"#REF!"}},{"$f":"IF(#REF!=\"No\",0,IF(#REF!=\"ONLY TRAINING CAMP\",0,IF(#REF!=\"\",1,0)))","v":{"$error":"#REF!"}},{"$f":"IF(#REF!=\"No\",0,IF(#REF!=\"ONLY TRAINING CAMP\",0,IF(#REF!=\"\",1,0)))","v":{"$error":"#REF!"}},{"$f":"0","v":0},{"$f":"IF(#REF!=\"No\",0,IF(#REF!=\"ONLY TRAINING CAMP\",0,IF(#REF!=\"\",1,0)))","v":{"$error":"#REF!"}}]
[0,"14",null,null,null,null,null,null,null,null,null,null,null,null,null,null,null,null,null,null,null,null,null,0,null,null,null,null,null,null,null,null,null,null,null,null,null,null,null,null,null,"",null,null,null,null,1,1,1,1,1,1,{"$f":"IF(#REF!=\"\",1,0)","v":{"$error":"#REF!"}},1,1,1,1,1,1,1,1,1,1,1,1,1,1,1,{"$f":"0","v":0},1,{"$f":"IF(#REF!=\"No\",0,IF(#REF!=\"\",1,0))","v":{"$error":"#REF!"}},{"$f":"IF(#REF!=\"No\",0,IF(#REF!=\"ONLY TRAINING CAMP\",0,IF(#REF!=\"\",1,0)))","v":{"$error":"#REF!"}},{"$f":"IF(#REF!=\"No\",0,IF(#REF!=\"ONLY TRAINING CAMP\",0,IF(#REF!=\"\",1,0)))","v":{"$error":"#REF!"}},{"$f":"0","v":0},{"$f":"IF(#REF!=\"No\",0,IF(#REF!=\"ONLY TRAINING CAMP\",0,IF(#REF!=\"\",1,0)))","v":{"$error":"#REF!"}}]
[0,"15",null,null,null,null,null,null,null,null,null,null,null,null,null,null,null,null,null,null,null,null,null,0,null,null,null,null,null,null,null,null,null,null,null,null,null,null,null,null,null,"",null,null,null,null,1,1,1,1,1,1,{"$f":"IF(#REF!=\"\",1,0)","v":{"$error":"#REF!"}},1,1,1,1,1,1,1,1,1,1,1,1,1,1,1,{"$f":"0","v":0},1,{"$f":"IF(#REF!=\"No\",0,IF(#REF!=\"\",1,0))","v":{"$error":"#REF!"}},{"$f":"IF(#REF!=\"No\",0,IF(#REF!=\"ONLY TRAINING CAMP\",0,IF(#REF!=\"\",1,0)))","v":{"$error":"#REF!"}},{"$f":"IF(#REF!=\"No\",0,IF(#REF!=\"ONLY TRAINING CAMP\",0,IF(#REF!=\"\",1,0)))","v":{"$error":"#REF!"}},{"$f":"0","v":0},{"$f":"IF(#REF!=\"No\",0,IF(#REF!=\"ONLY TRAINING CAMP\",0,IF(#REF!=\"\",1,0)))","v":{"$error":"#REF!"}}]
[0,"16",null,null,null,null,null,null,null,null,null,null,null,null,null,null,null,null,null,null,null,null,null,0,null,null,null,null,null,null,null,null,null,null,null,null,null,null,null,null,null,"",null,null,null,null,1,1,1,1,1,1,{"$f":"IF(#REF!=\"\",1,0)","v":{"$error":"#REF!"}},1,1,1,1,1,1,1,1,1,1,1,1,1,1,1,{"$f":"0","v":0},1,{"$f":"IF(#REF!=\"No\",0,IF(#REF!=\"\",1,0))","v":{"$error":"#REF!"}},{"$f":"IF(#REF!=\"No\",0,IF(#REF!=\"ONLY TRAINING CAMP\",0,IF(#REF!=\"\",1,0)))","v":{"$error":"#REF!"}},{"$f":"IF(#REF!=\"No\",0,IF(#REF!=\"ONLY TRAINING CAMP\",0,IF(#REF!=\"\",1,0)))","v":{"$error":"#REF!"}},{"$f":"0","v":0},{"$f":"IF(#REF!=\"No\",0,IF(#REF!=\"ONLY TRAINING CAMP\",0,IF(#REF!=\"\",1,0)))","v":{"$error":"#REF!"}}]
[0,"17",null,null,null,null,null,null,null,null,null,null,null,null,null,null,null,null,null,null,null,null,null,0,null,null,null,null,null,null,null,null,null,null,null,null,null,null,null,null,null,"",null,null,null,null,1,1,1,1,1,1,{"$f":"IF(#REF!=\"\",1,0)","v":{"$error":"#REF!"}},1,1,1,1,1,1,1,1,1,1,1,1,1,1,1,{"$f":"0","v":0},1,{"$f":"IF(#REF!=\"No\",0,IF(#REF!=\"\",1,0))","v":{"$error":"#REF!"}},{"$f":"IF(#REF!=\"No\",0,IF(#REF!=\"ONLY TRAINING CAMP\",0,IF(#REF!=\"\",1,0)))","v":{"$error":"#REF!"}},{"$f":"IF(#REF!=\"No\",0,IF(#REF!=\"ONLY TRAINING CAMP\",0,IF(#REF!=\"\",1,0)))","v":{"$error":"#REF!"}},{"$f":"0","v":0},{"$f":"IF(#REF!=\"No\",0,IF(#REF!=\"ONLY TRAINING CAMP\",0,IF(#REF!=\"\",1,0)))","v":{"$error":"#REF!"}}]
[0,"18",null,null,null,null,null,null,null,null,null,null,null,null,null,null,null,null,null,null,null,null,null,0,null,null,null,null,null,null,null,null,null,null,null,null,null,null,null,null,null,"",null,null,null,null,1,1,1,1,1,1,{"$f":"IF(#REF!=\"\",1,0)","v":{"$error":"#REF!"}},1,1,1,1,1,1,1,1,1,1,1,1,1,1,1,{"$f":"0","v":0},1,{"$f":"IF(#REF!=\"No\",0,IF(#REF!=\"\",1,0))","v":{"$error":"#REF!"}},{"$f":"IF(#REF!=\"No\",0,IF(#REF!=\"ONLY TRAINING CAMP\",0,IF(#REF!=\"\",1,0)))","v":{"$error":"#REF!"}},{"$f":"IF(#REF!=\"No\",0,IF(#REF!=\"ONLY TRAINING CAMP\",0,IF(#REF!=\"\",1,0)))","v":{"$error":"#REF!"}},{"$f":"0","v":0},{"$f":"IF(#REF!=\"No\",0,IF(#REF!=\"ONLY TRAINING CAMP\",0,IF(#REF!=\"\",1,0)))","v":{"$error":"#REF!"}}]
[0,"19",null,null,null,null,null,null,null,null,null,null,null,null,null,null,null,null,null,null,null,null,null,0,null,null,null,null,null,null,null,null,null,null,null,null,null,null,null,null,null,"",null,null,null,null,1,1,1,1,1,1,{"$f":"IF(#REF!=\"\",1,0)","v":{"$error":"#REF!"}},1,1,1,1,1,1,1,1,1,1,1,1,1,1,1,{"$f":"0","v":0},1,{"$f":"IF(#REF!=\"No\",0,IF(#REF!=\"\",1,0))","v":{"$error":"#REF!"}},{"$f":"IF(#REF!=\"No\",0,IF(#REF!=\"ONLY TRAINING CAMP\",0,IF(#REF!=\"\",1,0)))","v":{"$error":"#REF!"}},{"$f":"IF(#REF!=\"No\",0,IF(#REF!=\"ONLY TRAINING CAMP\",0,IF(#REF!=\"\",1,0)))","v":{"$error":"#REF!"}},{"$f":"0","v":0},{"$f":"IF(#REF!=\"No\",0,IF(#REF!=\"ONLY TRAINING CAMP\",0,IF(#REF!=\"\",1,0)))","v":{"$error":"#REF!"}}]
[0,"20",null,null,null,null,null,null,null,null,null,null,null,null,null,null,null,null,null,null,null,null,null,0,null,null,null,null,null,null,null,null,null,null,null,null,null,null,null,null,null,"",null,null,null,null,1,1,1,1,1,1,{"$f":"IF(#REF!=\"\",1,0)","v":{"$error":"#REF!"}},1,1,1,1,1,1,1,1,1,1,1,1,1,1,1,{"$f":"0","v":0},1,{"$f":"IF(#REF!=\"No\",0,IF(#REF!=\"\",1,0))","v":{"$error":"#REF!"}},{"$f":"IF(#REF!=\"No\",0,IF(#REF!=\"ONLY TRAINING CAMP\",0,IF(#REF!=\"\",1,0)))","v":{"$error":"#REF!"}},{"$f":"IF(#REF!=\"No\",0,IF(#REF!=\"ONLY TRAINING CAMP\",0,IF(#REF!=\"\",1,0)))","v":{"$error":"#REF!"}},{"$f":"0","v":0},{"$f":"IF(#REF!=\"No\",0,IF(#REF!=\"ONLY TRAINING CAMP\",0,IF(#REF!=\"\",1,0)))","v":{"$error":"#REF!"}}]
[0,"21",null,null,null,null,null,null,null,null,null,null,null,null,null,null,null,null,null,null,null,null,null,0,null,null,null,null,null,null,null,null,null,null,null,null,null,null,null,null,null,null,null,null,null,null,1,1,1,1,1,1,{"$f":"IF(#REF!=\"\",1,0)","v":{"$error":"#REF!"}},1,1,1,1,1,1,1,1,1,1,1,1,1,1,1,{"$f":"0","v":0},1,{"$f":"IF(#REF!=\"No\",0,IF(#REF!=\"\",1,0))","v":{"$error":"#REF!"}},{"$f":"IF(#REF!=\"No\",0,IF(#REF!=\"ONLY TRAINING CAMP\",0,IF(#REF!=\"\",1,0)))","v":{"$error":"#REF!"}},{"$f":"IF(#REF!=\"No\",0,IF(#REF!=\"ONLY TRAINING CAMP\",0,IF(#REF!=\"\",1,0)))","v":{"$error":"#REF!"}},{"$f":"0","v":0},{"$f":"IF(#REF!=\"No\",0,IF(#REF!=\"ONLY TRAINING CAMP\",0,IF(#REF!=\"\",1,0)))","v":{"$error":"#REF!"}}]
[0,"22",null,null,null,null,null,null,null,null,null,null,null,null,null,null,null,null,null,null,null,null,null,0,null,null,null,null,null,null,null,null,null,null,null,null,null,null,null,null,null,null,null,null,null,null,1,1,1,1,1,1,{"$f":"IF(#REF!=\"\",1,0)","v":{"$error":"#REF!"}},1,1,1,1,1,1,1,1,1,1,1,1,1,1,1,{"$f":"0","v":0},1,{"$f":"IF(#REF!=\"No\",0,IF(#REF!=\"\",1,0))","v":{"$error":"#REF!"}},{"$f":"IF(#REF!=\"No\",0,IF(#REF!=\"ONLY TRAINING CAMP\",0,IF(#REF!=\"\",1,0)))","v":{"$error":"#REF!"}},{"$f":"IF(#REF!=\"No\",0,IF(#REF!=\"ONLY TRAINING CAMP\",0,IF(#REF!=\"\",1,0)))","v":{"$error":"#REF!"}},{"$f":"0","v":0},{"$f":"IF(#REF!=\"No\",0,IF(#REF!=\"ONLY TRAINING CAMP\",0,IF(#REF!=\"\",1,0)))","v":{"$error":"#REF!"}}]
[0,"23",null,null,null,null,null,null,null,null,null,null,null,null,null,null,null,null,null,null,null,null,null,0,null,null,null,null,null,null,null,null,null,null,null,null,null,null,null,null,null,null,null,null,null,null,1,1,1,1,1,1,{"$f":"IF(#REF!=\"\",1,0)","v":{"$error":"#REF!"}},1,1,1,1,1,1,1,1,1,1,1,1,1,1,1,{"$f":"0","v":0},1,{"$f":"IF(#REF!=\"No\",0,IF(#REF!=\"\",1,0))","v":{"$error":"#REF!"}},{"$f":"IF(#REF!=\"No\",0,IF(#REF!=\"ONLY TRAINING CAMP\",0,IF(#REF!=\"\",1,0)))","v":{"$error":"#REF!"}},{"$f":"IF(#REF!=\"No\",0,IF(#REF!=\"ONLY TRAINING CAMP\",0,IF(#REF!=\"\",1,0)))","v":{"$error":"#REF!"}},{"$f":"0","v":0},{"$f":"IF(#REF!=\"No\",0,IF(#REF!=\"ONLY TRAINING CAMP\",0,IF(#REF!=\"\",1,0)))","v":{"$error":"#REF!"}}]
[0,"24",null,null,null,null,null,null,null,null,null,null,null,null,null,null,null,null,null,null,null,null,null,0,null,null,null,null,null,null,null,null,null,null,null,null,null,null,null,null,null,null,null,null,null,null,1,1,1,1,1,1,{"$f":"IF(#REF!=\"\",1,0)","v":{"$error":"#REF!"}},1,1,1,1,1,1,1,1,1,1,1,1,1,1,1,{"$f":"0","v":0},1,{"$f":"IF(#REF!=\"No\",0,IF(#REF!=\"\",1,0))","v":{"$error":"#REF!"}},{"$f":"IF(#REF!=\"No\",0,IF(#REF!=\"ONLY TRAINING CAMP\",0,IF(#REF!=\"\",1,0)))","v":{"$error":"#REF!"}},{"$f":"IF(#REF!=\"No\",0,IF(#REF!=\"ONLY TRAINING CAMP\",0,IF(#REF!=\"\",1,0)))","v":{"$error":"#REF!"}},{"$f":"0","v":0},{"$f":"IF(#REF!=\"No\",0,IF(#REF!=\"ONLY TRAINING CAMP\",0,IF(#REF!=\"\",1,0)))","v":{"$error":"#REF!"}}]
[0,"25",null,null,null,null,null,null,null,null,null,null,null,null,null,null,null,null,null,null,null,null,null,0,null,null,null,null,null,null,null,null,null,null,null,null,null,null,null,null,null,null,null,null,null,null,1,1,1,1,1,1,{"$f":"IF(#REF!=\"\",1,0)","v":{"$error":"#REF!"}},1,1,1,1,1,1,1,1,1,1,1,1,1,1,1,{"$f":"0","v":0},1,{"$f":"IF(#REF!=\"No\",0,IF(#REF!=\"\",1,0))","v":{"$error":"#REF!"}},{"$f":"IF(#REF!=\"No\",0,IF(#REF!=\"ONLY TRAINING CAMP\",0,IF(#REF!=\"\",1,0)))","v":{"$error":"#REF!"}},{"$f":"IF(#REF!=\"No\",0,IF(#REF!=\"ONLY TRAINING CAMP\",0,IF(#REF!=\"\",1,0)))","v":{"$error":"#REF!"}},{"$f":"0","v":0},{"$f":"IF(#REF!=\"No\",0,IF(#REF!=\"ONLY TRAINING CAMP\",0,IF(#REF!=\"\",1,0)))","v":{"$error":"#REF!"}}]
[0,"26",null,null,null,null,null,null,null,null,null,null,null,null,null,null,null,null,null,null,null,null,null,0,null,null,null,null,null,null,null,null,null,null,null,null,null,null,null,null,null,null,null,null,null,null,1,1,1,1,1,1,{"$f":"IF(#REF!=\"\",1,0)","v":{"$error":"#REF!"}},1,1,1,1,1,1,1,1,1,1,1,1,1,1,1,{"$f":"0","v":0},1,{"$f":"IF(#REF!=\"No\",0,IF(#REF!=\"\",1,0))","v":{"$error":"#REF!"}},{"$f":"IF(#REF!=\"No\",0,IF(#REF!=\"ONLY TRAINING CAMP\",0,IF(#REF!=\"\",1,0)))","v":{"$error":"#REF!"}},{"$f":"IF(#REF!=\"No\",0,IF(#REF!=\"ONLY TRAINING CAMP\",0,IF(#REF!=\"\",1,0)))","v":{"$error":"#REF!"}},{"$f":"0","v":0},{"$f":"IF(#REF!=\"No\",0,IF(#REF!=\"ONLY TRAINING CAMP\",0,IF(#REF!=\"\",1,0)))","v":{"$error":"#REF!"}}]
[0,"27",null,null,null,null,null,null,null,null,null,null,null,null,null,null,null,null,null,null,null,null,null,0,null,null,null,null,null,null,null,null,null,null,null,null,null,null,null,null,null,null,null,null,null,null,1,1,1,1,1,1,{"$f":"IF(#REF!=\"\",1,0)","v":{"$error":"#REF!"}},1,1,1,1,1,1,1,1,1,1,1,1,1,1,1,{"$f":"0","v":0},1,{"$f":"IF(#REF!=\"No\",0,IF(#REF!=\"\",1,0))","v":{"$error":"#REF!"}},{"$f":"IF(#REF!=\"No\",0,IF(#REF!=\"ONLY TRAINING CAMP\",0,IF(#REF!=\"\",1,0)))","v":{"$error":"#REF!"}},{"$f":"IF(#REF!=\"No\",0,IF(#REF!=\"ONLY TRAINING CAMP\",0,IF(#REF!=\"\",1,0)))","v":{"$error":"#REF!"}},{"$f":"0","v":0},{"$f":"IF(#REF!=\"No\",0,IF(#REF!=\"ONLY TRAINING CAMP\",0,IF(#REF!=\"\",1,0)))","v":{"$error":"#REF!"}}]
[0,"28",null,null,null,null,null,null,null,null,null,null,null,null,null,null,null,null,null,null,null,null,null,0,null,null,null,null,null,null,null,null,null,null,null,null,null,null,null,null,null,null,null,null,null,null,1,1,1,1,1,1,{"$f":"IF(#REF!=\"\",1,0)","v":{"$error":"#REF!"}},1,1,1,1,1,1,1,1,1,1,1,1,1,1,1,{"$f":"0","v":0},1,{"$f":"IF(#REF!=\"No\",0,IF(#REF!=\"\",1,0))","v":{"$error":"#REF!"}},{"$f":"IF(#REF!=\"No\",0,IF(#REF!=\"ONLY TRAINING CAMP\",0,IF(#REF!=\"\",1,0)))","v":{"$error":"#REF!"}},{"$f":"IF(#REF!=\"No\",0,IF(#REF!=\"ONLY TRAINING CAMP\",0,IF(#REF!=\"\",1,0)))","v":{"$error":"#REF!"}},{"$f":"0","v":0},{"$f":"IF(#REF!=\"No\",0,IF(#REF!=\"ONLY TRAINING CAMP\",0,IF(#REF!=\"\",1,0)))","v":{"$error":"#REF!"}}]
[0,"29",null,null,null,null,null,null,null,null,null,null,null,null,null,null,null,null,null,null,null,null,null,0,null,null,null,null,null,null,null,null,null,null,null,null,null,null,null,null,null,null,null,null,null,null,1,1,1,1,1,1,{"$f":"IF(#REF!=\"\",1,0)","v":{"$error":"#REF!"}},1,1,1,1,1,1,1,1,1,1,1,1,1,1,1,{"$f":"0","v":0},1,{"$f":"IF(#REF!=\"No\",0,IF(#REF!=\"\",1,0))","v":{"$error":"#REF!"}},{"$f":"IF(#REF!=\"No\",0,IF(#REF!=\"ONLY TRAINING CAMP\",0,IF(#REF!=\"\",1,0)))","v":{"$error":"#REF!"}},{"$f":"IF(#REF!=\"No\",0,IF(#REF!=\"ONLY TRAINING CAMP\",0,IF(#REF!=\"\",1,0)))","v":{"$error":"#REF!"}},{"$f":"0","v":0},{"$f":"IF(#REF!=\"No\",0,IF(#REF!=\"ONLY TRAINING CAMP\",0,IF(#REF!=\"\",1,0)))","v":{"$error":"#REF!"}}]
[0,"30",null,null,null,null,null,null,null,null,null,null,null,null,null,null,null,null,null,null,null,null,null,0,null,null,null,null,null,null,null,null,null,null,null,null,null,null,null,null,null,null,null,null,null,null,1,1,1,1,1,1,{"$f":"IF(#REF!=\"\",1,0)","v":{"$error":"#REF!"}},1,1,1,1,1,1,1,1,1,1,1,1,1,1,1,{"$f":"0","v":0},1,{"$f":"IF(#REF!=\"No\",0,IF(#REF!=\"\",1,0))","v":{"$error":"#REF!"}},{"$f":"IF(#REF!=\"No\",0,IF(#REF!=\"ONLY TRAINING CAMP\",0,IF(#REF!=\"\",1,0)))","v":{"$error":"#REF!"}},{"$f":"IF(#REF!=\"No\",0,IF(#REF!=\"ONLY TRAINING CAMP\",0,IF(#REF!=\"\",1,0)))","v":{"$error":"#REF!"}},{"$f":"0","v":0},{"$f":"IF(#REF!=\"No\",0,IF(#REF!=\"ONLY TRAINING CAMP\",0,IF(#REF!=\"\",1,0)))","v":{"$error":"#REF!"}}]
[0,"31",null,null,null,null,null,null,null,null,null,null,null,null,null,null,null,null,null,null,null,null,null,0,null,null,null,null,null,null,null,null,null,null,null,null,null,null,null,null,null,null,null,null,null,null,1,1,1,1,1,1,{"$f":"IF(#REF!=\"\",1,0)","v":{"$error":"#REF!"}},1,1,1,1,1,1,1,1,1,1,1,1,1,1,1,{"$f":"0","v":0},1,{"$f":"IF(#REF!=\"No\",0,IF(#REF!=\"\",1,0))","v":{"$error":"#REF!"}},{"$f":"IF(#REF!=\"No\",0,IF(#REF!=\"ONLY TRAINING CAMP\",0,IF(#REF!=\"\",1,0)))","v":{"$error":"#REF!"}},{"$f":"IF(#REF!=\"No\",0,IF(#REF!=\"ONLY TRAINING CAMP\",0,IF(#REF!=\"\",1,0)))","v":{"$error":"#REF!"}},{"$f":"0","v":0},{"$f":"IF(#REF!=\"No\",0,IF(#REF!=\"ONLY TRAINING CAMP\",0,IF(#REF!=\"\",1,0)))","v":{"$error":"#REF!"}}]
[0,"32",null,null,null,null,null,null,null,null,null,null,null,null,null,null,null,null,null,null,null,null,null,0,null,null,null,null,null,null,null,null,null,null,null,null,null,null,null,null,null,null,null,null,null,null,1,1,1,1,1,1,{"$f":"IF(#REF!=\"\",1,0)","v":{"$error":"#REF!"}},1,1,1,1,1,1,1,1,1,1,1,1,1,1,1,{"$f":"0","v":0},1,{"$f":"IF(#REF!=\"No\",0,IF(#REF!=\"\",1,0))","v":{"$error":"#REF!"}},{"$f":"IF(#REF!=\"No\",0,IF(#REF!=\"ONLY TRAINING CAMP\",0,IF(#REF!=\"\",1,0)))","v":{"$error":"#REF!"}},{"$f":"IF(#REF!=\"No\",0,IF(#REF!=\"ONLY TRAINING CAMP\",0,IF(#REF!=\"\",1,0)))","v":{"$error":"#REF!"}},{"$f":"0","v":0},{"$f":"IF(#REF!=\"No\",0,IF(#REF!=\"ONLY TRAINING CAMP\",0,IF(#REF!=\"\",1,0)))","v":{"$error":"#REF!"}}]
[{"$f":"IF(COUNTIF(C65:Y65,\"><\")=0,0,SUM(AU65:BW65))","v":0},"33",null,null,null,null,null,null,null,null,null,null,null,null,null,null,null,null,null,null,null,null,null,0,null,null,null,null,null,null,null,null,null,null,null,null,null,null,null,null,null,null,null,null,null,null,{"$f":"IF(C65=\"\",1,0)","v":1},{"$f":"IF(D65=\"\",1,0)","v":1},{"$f":"IF(E65=\"\",1,0)","v":1},{"$f":"IF(F65=\"\",1,0)","v":1},{"$f":"IF(G65=\"\",1,0)","v":1},{"$f":"IF(H65=\"\",1,0)","v":1},{"$f":"IF(#REF!=\"\",1,0)","v":{"$error":"#REF!"}},{"$f":"IF(I65=\"\",1,0)","v":1},{"$f":"IF(N65=\"No\",0,IF(J65=\"\",1,0))","v":1},{"$f":"IF(N65=\"No\",0,IF(K65=\"\",1,0))","v":1},{"$f":"IF(N65=\"No\",0,IF(L65=\"\",1,0))","v":1},{"$f":"IF(N65=\"No\",0,IF(M65=\"\",1,0))","v":1},{"$f":"IF(N65=\"\",1,0)","v":1},{"$f":"IF(O65=\"\",1,0)","v":1},{"$f":"IF(T65=\"No\",0,IF(P65=\"\",1,0))","v":1},{"$f":"IF(T65=\"No\",0,IF(Q65=\"\",1,0))","v":1},{"$f":"IF(T65=\"No\",0,IF(R65=\"\",1,0))","v":1},{"$f":"IF(T65=\"No\",0,IF(S65=\"\",1,0))","v":1},{"$f":"IF(T65=\"\",1,0)","v":1},{"$f":"IF(H65=\"No\",0,IF(U65=\"\",1,0))","v":1},{"$f":"IF(H65=\"No\",0,IF(V65=\"\",1,0))","v":1},{"$f":"IF(H65=\"No\",0,IF(W65=\"\",1,0))","v":1},{"$f":"0","v":0},{"$f":"IF(H65=\"No\",0,IF(Y65=\"\",1,0))","v":1},{"$f":"IF(#REF!=\"No\",0,IF(#REF!=\"\",1,0))","v":{"$error":"#REF!"}},{"$f":"IF(#REF!=\"No\",0,IF(#REF!=\"ONLY TRAINING CAMP\",0,IF(#REF!=\"\",1,0)))","v":{"$error":"#REF!"}},{"$f":"IF(#REF!=\"No\",0,IF(#REF!=\"ONLY TRAINING CAMP\",0,IF(#REF!=\"\",1,0)))","v":{"$error":"#REF!"}},{"$f":"0","v":0},{"$f":"IF(#REF!=\"No\",0,IF(#REF!=\"ONLY TRAINING CAMP\",0,IF(#REF!=\"\",1,0)))","v":{"$error":"#REF!"}}]
[0,"34",null,null,null,null,null,null,null,null,null,null,null,null,null,null,null,null,null,null,null,null,null,0,null,null,null,null,null,null,null,null,null,null,null,null,null,null,null,null,null,null,null,null,null,null,1,1,1,1,1,1,{"$f":"IF(#REF!=\"\",1,0)","v":{"$error":"#REF!"}},1,1,1,1,1,1,1,1,1,1,1,1,1,1,1,{"$f":"0","v":0},1,{"$f":"IF(#REF!=\"No\",0,IF(#REF!=\"\",1,0))","v":{"$error":"#REF!"}},{"$f":"IF(#REF!=\"No\",0,IF(#REF!=\"ONLY TRAINING CAMP\",0,IF(#REF!=\"\",1,0)))","v":{"$error":"#REF!"}},{"$f":"IF(#REF!=\"No\",0,IF(#REF!=\"ONLY TRAINING CAMP\",0,IF(#REF!=\"\",1,0)))","v":{"$error":"#REF!"}},{"$f":"0","v":0},{"$f":"IF(#REF!=\"No\",0,IF(#REF!=\"ONLY TRAINING CAMP\",0,IF(#REF!=\"\",1,0)))","v":{"$error":"#REF!"}}]
[0,"35",null,null,null,null,null,null,null,null,null,null,null,null,null,null,null,null,null,null,null,null,null,0,null,null,null,null,null,null,null,null,null,null,null,null,null,null,null,null,null,null,null,null,null,null,1,1,1,1,1,1,{"$f":"IF(#REF!=\"\",1,0)","v":{"$error":"#REF!"}},1,1,1,1,1,1,1,1,1,1,1,1,1,1,1,{"$f":"0","v":0},1,{"$f":"IF(#REF!=\"No\",0,IF(#REF!=\"\",1,0))","v":{"$error":"#REF!"}},{"$f":"IF(#REF!=\"No\",0,IF(#REF!=\"ONLY TRAINING CAMP\",0,IF(#REF!=\"\",1,0)))","v":{"$error":"#REF!"}},{"$f":"IF(#REF!=\"No\",0,IF(#REF!=\"ONLY TRAINING CAMP\",0,IF(#REF!=\"\",1,0)))","v":{"$error":"#REF!"}},{"$f":"0","v":0},{"$f":"IF(#REF!=\"No\",0,IF(#REF!=\"ONLY TRAINING CAMP\",0,IF(#REF!=\"\",1,0)))","v":{"$error":"#REF!"}}]
[0,"36",null,null,null,null,null,null,null,null,null,null,null,null,null,null,null,null,null,null,null,null,null,0,null,null,null,null,null,null,null,null,null,null,null,null,null,null,null,null,null,null,null,null,null,null,1,1,1,1,1,1,{"$f":"IF(#REF!=\"\",1,0)","v":{"$error":"#REF!"}},1,1,1,1,1,1,1,1,1,1,1,1,1,1,1,{"$f":"0","v":0},1,{"$f":"IF(#REF!=\"No\",0,IF(#REF!=\"\",1,0))","v":{"$error":"#REF!"}},{"$f":"IF(#REF!=\"No\",0,IF(#REF!=\"ONLY TRAINING CAMP\",0,IF(#REF!=\"\",1,0)))","v":{"$error":"#REF!"}},{"$f":"IF(#REF!=\"No\",0,IF(#REF!=\"ONLY TRAINING CAMP\",0,IF(#REF!=\"\",1,0)))","v":{"$error":"#REF!"}},{"$f":"0","v":0},{"$f":"IF(#REF!=\"No\",0,IF(#REF!=\"ONLY TRAINING CAMP\",0,IF(#REF!=\"\",1,0)))","v":{"$error":"#REF!"}}]
[0,"37",null,null,null,null,null,null,null,null,null,null,null,null,null,null,null,null,null,null,null,null,null,0,null,null,null,null,null,null,null,null,null,null,null,null,null,null,null,null,null,null,null,null,null,null,1,1,1,1,1,1,{"$f":"IF(#REF!=\"\",1,0)","v":{"$error":"#REF!"}},1,1,1,1,1,1,1,1,1,1,1,1,1,1,1,{"$f":"0","v":0},1,{"$f":"IF(#REF!=\"No\",0,IF(#REF!=\"\",1,0))","v":{"$error":"#REF!"}},{"$f":"IF(#REF!=\"No\",0,IF(#REF!=\"ONLY TRAINING CAMP\",0,IF(#REF!=\"\",1,0)))","v":{"$error":"#REF!"}},{"$f":"IF(#REF!=\"No\",0,IF(#REF!=\"ONLY TRAINING CAMP\",0,IF(#REF!=\"\",1,0)))","v":{"$error":"#REF!"}},{"$f":"0","v":0},{"$f":"IF(#REF!=\"No\",0,IF(#REF!=\"ONLY TRAINING CAMP\",0,IF(#REF!=\"\",1,0)))","v":{"$error":"#REF!"}}]
[0,"38",null,null,null,null,null,null,null,null,null,null,null,null,null,null,null,null,null,null,null,null,null,0,null,null,null,null,null,null,null,null,null,null,null,null,null,null,null,null,null,null,null,null,null,null,1,1,1,1,1,1,{"$f":"IF(#REF!=\"\",1,0)","v":{"$error":"#REF!"}},1,1,1,1,1,1,1,1,1,1,1,1,1,1,1,{"$f":"0","v":0},1,{"$f":"IF(#REF!=\"No\",0,IF(#REF!=\"\",1,0))","v":{"$error":"#REF!"}},{"$f":"IF(#REF!=\"No\",0,IF(#REF!=\"ONLY TRAINING CAMP\",0,IF(#REF!=\"\",1,0)))","v":{"$error":"#REF!"}},{"$f":"IF(#REF!=\"No\",0,IF(#REF!=\"ONLY TRAINING CAMP\",0,IF(#REF!=\"\",1,0)))","v":{"$error":"#REF!"}},{"$f":"0","v":0},{"$f":"IF(#REF!=\"No\",0,IF(#REF!=\"ONLY TRAINING CAMP\",0,IF(#REF!=\"\",1,0)))","v":{"$error":"#REF!"}}]
[0,"39",null,null,null,null,null,null,null,null,null,null,null,null,null,null,null,null,null,null,null,null,null,0,null,null,null,null,null,null,null,null,null,null,null,null,null,null,null,null,null,null,null,null,null,null,1,1,1,1,1,1,{"$f":"IF(#REF!=\"\",1,0)","v":{"$error":"#REF!"}},1,1,1,1,1,1,1,1,1,1,1,1,1,1,1,{"$f":"0","v":0},1,{"$f":"IF(#REF!=\"No\",0,IF(#REF!=\"\",1,0))","v":{"$error":"#REF!"}},{"$f":"IF(#REF!=\"No\",0,IF(#REF!=\"ONLY TRAINING CAMP\",0,IF(#REF!=\"\",1,0)))","v":{"$error":"#REF!"}},{"$f":"IF(#REF!=\"No\",0,IF(#REF!=\"ONLY TRAINING CAMP\",0,IF(#REF!=\"\",1,0)))","v":{"$error":"#REF!"}},{"$f":"0","v":0},{"$f":"IF(#REF!=\"No\",0,IF(#REF!=\"ONLY TRAINING CAMP\",0,IF(#REF!=\"\",1,0)))","v":{"$error":"#REF!"}}]
[0,"40",null,null,null,null,null,null,null,null,null,null,null,null,null,null,null,null,null,null,null,null,null,0,null,null,null,null,null,null,null,null,null,null,null,null,null,null,null,null,null,null,null,null,null,null,1,1,1,1,1,1,{"$f":"IF(#REF!=\"\",1,0)","v":{"$error":"#REF!"}},1,1,1,1,1,1,1,1,1,1,1,1,1,1,1,{"$f":"0","v":0},1,{"$f":"IF(#REF!=\"No\",0,IF(#REF!=\"\",1,0))","v":{"$error":"#REF!"}},{"$f":"IF(#REF!=\"No\",0,IF(#REF!=\"ONLY TRAINING CAMP\",0,IF(#REF!=\"\",1,0)))","v":{"$error":"#REF!"}},{"$f":"IF(#REF!=\"No\",0,IF(#REF!=\"ONLY TRAINING CAMP\",0,IF(#REF!=\"\",1,0)))","v":{"$error":"#REF!"}},{"$f":"0","v":0},{"$f":"IF(#REF!=\"No\",0,IF(#REF!=\"ONLY TRAINING CAMP\",0,IF(#REF!=\"\",1,0)))","v":{"$error":"#REF!"}}]
[0,"41",null,null,null,null,null,null,null,null,null,null,null,null,null,null,null,null,null,null,null,null,null,0,null,null,null,null,null,null,null,null,null,null,null,null,null,null,null,null,null,null,null,null,null,null,1,1,1,1,1,1,{"$f":"IF(#REF!=\"\",1,0)","v":{"$error":"#REF!"}},1,1,1,1,1,1,1,1,1,1,1,1,1,1,1,{"$f":"0","v":0},1,{"$f":"IF(#REF!=\"No\",0,IF(#REF!=\"\",1,0))","v":{"$error":"#REF!"}},{"$f":"IF(#REF!=\"No\",0,IF(#REF!=\"ONLY TRAINING CAMP\",0,IF(#REF!=\"\",1,0)))","v":{"$error":"#REF!"}},{"$f":"IF(#REF!=\"No\",0,IF(#REF!=\"ONLY TRAINING CAMP\",0,IF(#REF!=\"\",1,0)))","v":{"$error":"#REF!"}},{"$f":"0","v":0},{"$f":"IF(#REF!=\"No\",0,IF(#REF!=\"ONLY TRAINING CAMP\",0,IF(#REF!=\"\",1,0)))","v":{"$error":"#REF!"}}]
[0,"42",null,null,null,null,null,null,null,null,null,null,null,null,null,null,null,null,null,null,null,null,null,0,null,null,null,null,null,null,null,null,null,null,null,null,null,null,null,null,null,null,null,null,null,null,1,1,1,1,1,1,{"$f":"IF(#REF!=\"\",1,0)","v":{"$error":"#REF!"}},1,1,1,1,1,1,1,1,1,1,1,1,1,1,1,{"$f":"0","v":0},1,{"$f":"IF(#REF!=\"No\",0,IF(#REF!=\"\",1,0))","v":{"$error":"#REF!"}},{"$f":"IF(#REF!=\"No\",0,IF(#REF!=\"ONLY TRAINING CAMP\",0,IF(#REF!=\"\",1,0)))","v":{"$error":"#REF!"}},{"$f":"IF(#REF!=\"No\",0,IF(#REF!=\"ONLY TRAINING CAMP\",0,IF(#REF!=\"\",1,0)))","v":{"$error":"#REF!"}},{"$f":"0","v":0},{"$f":"IF(#REF!=\"No\",0,IF(#REF!=\"ONLY TRAINING CAMP\",0,IF(#REF!=\"\",1,0)))","v":{"$error":"#REF!"}}]
[0,"43",null,null,null,null,null,null,null,null,null,null,null,null,null,null,null,null,null,null,null,null,null,0,null,null,null,null,null,null,null,null,null,null,null,null,null,null,null,null,null,null,null,null,null,null,1,1,1,1,1,1,{"$f":"IF(#REF!=\"\",1,0)","v":{"$error":"#REF!"}},1,1,1,1,1,1,1,1,1,1,1,1,1,1,1,{"$f":"0","v":0},1,{"$f":"IF(#REF!=\"No\",0,IF(#REF!=\"\",1,0))","v":{"$error":"#REF!"}},{"$f":"IF(#REF!=\"No\",0,IF(#REF!=\"ONLY TRAINING CAMP\",0,IF(#REF!=\"\",1,0)))","v":{"$error":"#REF!"}},{"$f":"IF(#REF!=\"No\",0,IF(#REF!=\"ONLY TRAINING CAMP\",0,IF(#REF!=\"\",1,0)))","v":{"$error":"#REF!"}},{"$f":"0","v":0},{"$f":"IF(#REF!=\"No\",0,IF(#REF!=\"ONLY TRAINING CAMP\",0,IF(#REF!=\"\",1,0)))","v":{"$error":"#REF!"}}]
[0,"44",null,null,null,null,null,null,null,null,null,null,null,null,null,null,null,null,null,null,null,null,null,0,null,null,null,null,null,null,null,null,null,null,null,null,null,null,null,null,null,null,null,null,null,null,1,1,1,1,1,1,{"$f":"IF(#REF!=\"\",1,0)","v":{"$error":"#REF!"}},1,1,1,1,1,1,1,1,1,1,1,1,1,1,1,{"$f":"0","v":0},1,{"$f":"IF(#REF!=\"No\",0,IF(#REF!=\"\",1,0))","v":{"$error":"#REF!"}},{"$f":"IF(#REF!=\"No\",0,IF(#REF!=\"ONLY TRAINING CAMP\",0,IF(#REF!=\"\",1,0)))","v":{"$error":"#REF!"}},{"$f":"IF(#REF!=\"No\",0,IF(#REF!=\"ONLY TRAINING CAMP\",0,IF(#REF!=\"\",1,0)))","v":{"$error":"#REF!"}},{"$f":"0","v":0},{"$f":"IF(#REF!=\"No\",0,IF(#REF!=\"ONLY TRAINING CAMP\",0,IF(#REF!=\"\",1,0)))","v":{"$error":"#REF!"}}]
[0,"45",null,null,null,null,null,null,null,null,null,null,null,null,null,null,null,null,null,null,null,null,null,0,null,null,null,null,null,null,null,null,null,null,null,null,null,null,null,null,null,null,null,null,null,null,1,1,1,1,1,1,{"$f":"IF(#REF!=\"\",1,0)","v":{"$error":"#REF!"}},1,1,1,1,1,1,1,1,1,1,1,1,1,1,1,{"$f":"0","v":0},1,{"$f":"IF(#REF!=\"No\",0,IF(#REF!=\"\",1,0))","v":{"$error":"#REF!"}},{"$f":"IF(#REF!=\"No\",0,IF(#REF!=\"ONLY TRAINING CAMP\",0,IF(#REF!=\"\",1,0)))","v":{"$error":"#REF!"}},{"$f":"IF(#REF!=\"No\",0,IF(#REF!=\"ONLY TRAINING CAMP\",0,IF(#REF!=\"\",1,0)))","v":{"$error":"#REF!"}},{"$f":"0","v":0},{"$f":"IF(#REF!=\"No\",0,IF(#REF!=\"ONLY TRAINING CAMP\",0,IF(#REF!=\"\",1,0)))","v":{"$error":"#REF!"}}]
[0,"46",null,null,null,null,null,null,null,null,null,null,null,null,null,null,null,null,null,null,null,null,null,0,null,null,null,null,null,null,null,null,null,null,null,null,null,null,null,null,null,null,null,null,null,null,1,1,1,1,1,1,{"$f":"IF(#REF!=\"\",1,0)","v":{"$error":"#REF!"}},1,1,1,1,1,1,1,1,1,1,1,1,1,1,1,{"$f":"0","v":0},1,{"$f":"IF(#REF!=\"No\",0,IF(#REF!=\"\",1,0))","v":{"$error":"#REF!"}},{"$f":"IF(#REF!=\"No\",0,IF(#REF!=\"ONLY TRAINING CAMP\",0,IF(#REF!=\"\",1,0)))","v":{"$error":"#REF!"}},{"$f":"IF(#REF!=\"No\",0,IF(#REF!=\"ONLY TRAINING CAMP\",0,IF(#REF!=\"\",1,0)))","v":{"$error":"#REF!"}},{"$f":"0","v":0},{"$f":"IF(#REF!=\"No\",0,IF(#REF!=\"ONLY TRAINING CAMP\",0,IF(#REF!=\"\",1,0)))","v":{"$error":"#REF!"}}]
[0,"47",null,null,null,null,null,null,null,null,null,null,null,null,null,null,null,null,null,null,null,null,null,0,null,null,null,null,null,null,null,null,null,null,null,null,null,null,null,null,null,null,null,null,null,null,1,1,1,1,1,1,{"$f":"IF(#REF!=\"\",1,0)","v":{"$error":"#REF!"}},1,1,1,1,1,1,1,1,1,1,1,1,1,1,1,{"$f":"0","v":0},1,{"$f":"IF(#REF!=\"No\",0,IF(#REF!=\"\",1,0))","v":{"$error":"#REF!"}},{"$f":"IF(#REF!=\"No\",0,IF(#REF!=\"ONLY TRAINING CAMP\",0,IF(#REF!=\"\",1,0)))","v":{"$error":"#REF!"}},{"$f":"IF(#REF!=\"No\",0,IF(#REF!=\"ONLY TRAINING CAMP\",0,IF(#REF!=\"\",1,0)))","v":{"$error":"#REF!"}},{"$f":"0","v":0},{"$f":"IF(#REF!=\"No\",0,IF(#REF!=\"ONLY TRAINING CAMP\",0,IF(#REF!=\"\",1,0)))","v":{"$error":"#REF!"}}]
[0,"48",null,null,null,null,null,null,null,null,null,null,null,null,null,null,null,null,null,null,null,null,null,0,null,null,null,null,null,null,null,null,null,null,null,null,null,null,null,null,null,null,null,null,null,null,1,1,1,1,1,1,{"$f":"IF(#REF!=\"\",1,0)","v":{"$error":"#REF!"}},1,1,1,1,1,1,1,1,1,1,1,1,1,1,1,{"$f":"0","v":0},1,{"$f":"IF(#REF!=\"No\",0,IF(#REF!=\"\",1,0))","v":{"$error":"#REF!"}},{"$f":"IF(#REF!=\"No\",0,IF(#REF!=\"ONLY TRAINING CAMP\",0,IF(#REF!=\"\",1,0)))","v":{"$error":"#REF!"}},{"$f":"IF(#REF!=\"No\",0,IF(#REF!=\"ONLY TRAINING CAMP\",0,IF(#REF!=\"\",1,0)))","v":{"$error":"#REF!"}},{"$f":"0","v":0},{"$f":"IF(#REF!=\"No\",0,IF(#REF!=\"ONLY TRAINING CAMP\",0,IF(#REF!=\"\",1,0)))","v":{"$error":"#REF!"}}]
[0,"49",null,null,null,null,null,null,null,null,null,null,null,null,null,null,null,null,null,null,null,null,null,0,null,null,null,null,null,null,null,null,null,null,null,null,null,null,null,null,null,null,null,null,null,null,1,1,1,1,1,1,{"$f":"IF(#REF!=\"\",1,0)","v":{"$error":"#REF!"}},1,1,1,1,1,1,1,1,1,1,1,1,1,1,1,{"$f":"0","v":0},1,{"$f":"IF(#REF!=\"No\",0,IF(#REF!=\"\",1,0))","v":{"$error":"#REF!"}},{"$f":"IF(#REF!=\"No\",0,IF(#REF!=\"ONLY TRAINING CAMP\",0,IF(#REF!=\"\",1,0)))","v":{"$error":"#REF!"}},{"$f":"IF(#REF!=\"No\",0,IF(#REF!=\"ONLY TRAINING CAMP\",0,IF(#REF!=\"\",1,0)))","v":{"$error":"#REF!"}},{"$f":"0","v":0},{"$f":"IF(#REF!=\"No\",0,IF(#REF!=\"ONLY TRAINING CAMP\",0,IF(#REF!=\"\",1,0)))","v":{"$error":"#REF!"}}]
[0,"50",null,null,null,null,null,null,null,null,null,null,null,null,null,null,null,null,null,null,null,null,null,0,null,null,null,null,null,null,null,null,null,null,null,null,null,null,null,null,null,null,null,null,null,null,1,1,1,1,1,1,{"$f":"IF(#REF!=\"\",1,0)","v":{"$error":"#REF!"}},1,1,1,1,1,1,1,1,1,1,1,1,1,1,1,{"$f":"0","v":0},1,{"$f":"IF(#REF!=\"No\",0,IF(#REF!=\"\",1,0))","v":{"$error":"#REF!"}},{"$f":"IF(#REF!=\"No\",0,IF(#REF!=\"ONLY TRAINING CAMP\",0,IF(#REF!=\"\",1,0)))","v":{"$error":"#REF!"}},{"$f":"IF(#REF!=\"No\",0,IF(#REF!=\"ONLY TRAINING CAMP\",0,IF(#REF!=\"\",1,0)))","v":{"$error":"#REF!"}},{"$f":"0","v":0},{"$f":"IF(#REF!=\"No\",0,IF(#REF!=\"ONLY TRAINING CAMP\",0,IF(#REF!=\"\",1,0)))","v":{"$error":"#REF!"}}]
[0,"51",null,null,null,null,null,null,null,null,null,null,null,null,null,null,null,null,null,null,null,null,null,0,null,null,null,null,null,null,null,null,null,null,null,null,null,null,null,null,null,null,null,null,null,null,1,1,1,1,1,1,{"$f":"IF(#REF!=\"\",1,0)","v":{"$error":"#REF!"}},1,1,1,1,1,1,1,1,1,1,1,1,1,1,1,{"$f":"0","v":0},1,{"$f":"IF(#REF!=\"No\",0,IF(#REF!=\"\",1,0))","v":{"$error":"#REF!"}},{"$f":"IF(#REF!=\"No\",0,IF(#REF!=\"ONLY TRAINING CAMP\",0,IF(#REF!=\"\",1,0)))","v":{"$error":"#REF!"}},{"$f":"IF(#REF!=\"No\",0,IF(#REF!=\"ONLY TRAINING CAMP\",0,IF(#REF!=\"\",1,0)))","v":{"$error":"#REF!"}},{"$f":"0","v":0},{"$f":"IF(#REF!=\"No\",0,IF(#REF!=\"ONLY TRAINING CAMP\",0,IF(#REF!=\"\",1,0)))","v":{"$error":"#REF!"}}]
[0,"52",null,null,null,null,null,null,null,null,null,null,null,null,null,null,null,null,null,null,null,null,null,0,null,null,null,null,null,null,null,null,null,null,null,null,null,null,null,null,null,null,null,null,null,null,1,1,1,1,1,1,{"$f":"IF(#REF!=\"\",1,0)","v":{"$error":"#REF!"}},1,1,1,1,1,1,1,1,1,1,1,1,1,1,1,{"$f":"0","v":0},1,{"$f":"IF(#REF!=\"No\",0,IF(#REF!=\"\",1,0))","v":{"$error":"#REF!"}},{"$f":"IF(#REF!=\"No\",0,IF(#REF!=\"ONLY TRAINING CAMP\",0,IF(#REF!=\"\",1,0)))","v":{"$error":"#REF!"}},{"$f":"IF(#REF!=\"No\",0,IF(#REF!=\"ONLY TRAINING CAMP\",0,IF(#REF!=\"\",1,0)))","v":{"$error":"#REF!"}},{"$f":"0","v":0},{"$f":"IF(#REF!=\"No\",0,IF(#REF!=\"ONLY TRAINING CAMP\",0,IF(#REF!=\"\",1,0)))","v":{"$error":"#REF!"}}]
[0,"53",null,null,null,null,null,null,null,null,null,null,null,null,null,null,null,null,null,null,null,null,null,0,null,null,null,null,null,null,null,null,null,null,null,null,null,null,null,null,null,null,null,null,null,null,1,1,1,1,1,1,{"$f":"IF(#REF!=\"\",1,0)","v":{"$error":"#REF!"}},1,1,1,1,1,1,1,1,1,1,1,1,1,1,1,{"$f":"0","v":0},1,{"$f":"IF(#REF!=\"No\",0,IF(#REF!=\"\",1,0))","v":{"$error":"#REF!"}},{"$f":"IF(#REF!=\"No\",0,IF(#REF!=\"ONLY TRAINING CAMP\",0,IF(#REF!=\"\",1,0)))","v":{"$error":"#REF!"}},{"$f":"IF(#REF!=\"No\",0,IF(#REF!=\"ONLY TRAINING CAMP\",0,IF(#REF!=\"\",1,0)))","v":{"$error":"#REF!"}},{"$f":"0","v":0},{"$f":"IF(#REF!=\"No\",0,IF(#REF!=\"ONLY TRAINING CAMP\",0,IF(#REF!=\"\",1,0)))","v":{"$error":"#REF!"}}]
[0,"54",null,null,null,null,null,null,null,null,null,null,null,null,null,null,null,null,null,null,null,null,null,0,null,null,null,null,null,null,null,null,null,null,null,null,null,null,null,null,null,null,null,null,null,null,1,1,1,1,1,1,{"$f":"IF(#REF!=\"\",1,0)","v":{"$error":"#REF!"}},1,1,1,1,1,1,1,1,1,1,1,1,1,1,1,{"$f":"0","v":0},1,{"$f":"IF(#REF!=\"No\",0,IF(#REF!=\"\",1,0))","v":{"$error":"#REF!"}},{"$f":"IF(#REF!=\"No\",0,IF(#REF!=\"ONLY TRAINING CAMP\",0,IF(#REF!=\"\",1,0)))","v":{"$error":"#REF!"}},{"$f":"IF(#REF!=\"No\",0,IF(#REF!=\"ONLY TRAINING CAMP\",0,IF(#REF!=\"\",1,0)))","v":{"$error":"#REF!"}},{"$f":"0","v":0},{"$f":"IF(#REF!=\"No\",0,IF(#REF!=\"ONLY TRAINING CAMP\",0,IF(#REF!=\"\",1,0)))","v":{"$error":"#REF!"}}]
[0,"55",null,null,null,null,null,null,null,null,null,null,null,null,null,null,null,null,null,null,null,null,null,0,null,null,null,null,null,null,null,null,null,null,null,null,null,null,null,null,null,null,null,null,null,null,1,1,1,1,1,1,{"$f":"IF(#REF!=\"\",1,0)","v":{"$error":"#REF!"}},1,1,1,1,1,1,1,1,1,1,1,1,1,1,1,{"$f":"0","v":0},1,{"$f":"IF(#REF!=\"No\",0,IF(#REF!=\"\",1,0))","v":{"$error":"#REF!"}},{"$f":"IF(#REF!=\"No\",0,IF(#REF!=\"ONLY TRAINING CAMP\",0,IF(#REF!=\"\",1,0)))","v":{"$error":"#REF!"}},{"$f":"IF(#REF!=\"No\",0,IF(#REF!=\"ONLY TRAINING CAMP\",0,IF(#REF!=\"\",1,0)))","v":{"$error":"#REF!"}},{"$f":"0","v":0},{"$f":"IF(#REF!=\"No\",0,IF(#REF!=\"ONLY TRAINING CAMP\",0,IF(#REF!=\"\",1,0)))","v":{"$error":"#REF!"}}]
[0,"56",null,null,null,null,null,null,null,null,null,null,null,null,null,null,null,null,null,null,null,null,null,0,null,null,null,null,null,null,null,null,null,null,null,null,null,null,null,null,null,null,null,null,null,null,1,1,1,1,1,1,{"$f":"IF(#REF!=\"\",1,0)","v":{"$error":"#REF!"}},1,1,1,1,1,1,1,1,1,1,1,1,1,1,1,{"$f":"0","v":0},1,{"$f":"IF(#REF!=\"No\",0,IF(#REF!=\"\",1,0))","v":{"$error":"#REF!"}},{"$f":"IF(#REF!=\"No\",0,IF(#REF!=\"ONLY TRAINING CAMP\",0,IF(#REF!=\"\",1,0)))","v":{"$error":"#REF!"}},{"$f":"IF(#REF!=\"No\",0,IF(#REF!=\"ONLY TRAINING CAMP\",0,IF(#REF!=\"\",1,0)))","v":{"$error":"#REF!"}},{"$f":"0","v":0},{"$f":"IF(#REF!=\"No\",0,IF(#REF!=\"ONLY TRAINING CAMP\",0,IF(#REF!=\"\",1,0)))","v":{"$error":"#REF!"}}]
[0,"57",null,null,null,null,null,null,null,null,null,null,null,null,null,null,null,null,null,null,null,null,null,0,null,null,null,null,null,null,null,null,null,null,null,null,null,null,null,null,null,null,null,null,null,null,1,1,1,1,1,1,{"$f":"IF(#REF!=\"\",1,0)","v":{"$error":"#REF!"}},1,1,1,1,1,1,1,1,1,1,1,1,1,1,1,{"$f":"0","v":0},1,{"$f":"IF(#REF!=\"No\",0,IF(#REF!=\"\",1,0))","v":{"$error":"#REF!"}},{"$f":"IF(#REF!=\"No\",0,IF(#REF!=\"ONLY TRAINING CAMP\",0,IF(#REF!=\"\",1,0)))","v":{"$error":"#REF!"}},{"$f":"IF(#REF!=\"No\",0,IF(#REF!=\"ONLY TRAINING CAMP\",0,IF(#REF!=\"\",1,0)))","v":{"$error":"#REF!"}},{"$f":"0","v":0},{"$f":"IF(#REF!=\"No\",0,IF(#REF!=\"ONLY TRAINING CAMP\",0,IF(#REF!=\"\",1,0)))","v":{"$error":"#REF!"}}]
[0,"58",null,null,null,null,null,null,null,null,null,null,null,null,null,null,null,null,null,null,null,null,null,0,null,null,null,null,null,null,null,null,null,null,null,null,null,null,null,null,null,null,null,null,null,null,1,1,1,1,1,1,{"$f":"IF(#REF!=\"\",1,0)","v":{"$error":"#REF!"}},1,1,1,1,1,1,1,1,1,1,1,1,1,1,1,{"$f":"0","v":0},1,{"$f":"IF(#REF!=\"No\",0,IF(#REF!=\"\",1,0))","v":{"$error":"#REF!"}},{"$f":"IF(#REF!=\"No\",0,IF(#REF!=\"ONLY TRAINING CAMP\",0,IF(#REF!=\"\",1,0)))","v":{"$error":"#REF!"}},{"$f":"IF(#REF!=\"No\",0,IF(#REF!=\"ONLY TRAINING CAMP\",0,IF(#REF!=\"\",1,0)))","v":{"$error":"#REF!"}},{"$f":"0","v":0},{"$f":"IF(#REF!=\"No\",0,IF(#REF!=\"ONLY TRAINING CAMP\",0,IF(#REF!=\"\",1,0)))","v":{"$error":"#REF!"}}]
[0,"59",null,null,null,null,null,null,null,null,null,null,null,null,null,null,null,null,null,null,null,null,null,0,null,null,null,null,null,null,null,null,null,null,null,null,null,null,null,null,null,null,null,null,null,null,1,1,1,1,1,1,{"$f":"IF(#REF!=\"\",1,0)","v":{"$error":"#REF!"}},1,1,1,1,1,1,1,1,1,1,1,1,1,1,1,{"$f":"0","v":0},1,{"$f":"IF(#REF!=\"No\",0,IF(#REF!=\"\",1,0))","v":{"$error":"#REF!"}},{"$f":"IF(#REF!=\"No\",0,IF(#REF!=\"ONLY TRAINING CAMP\",0,IF(#REF!=\"\",1,0)))","v":{"$error":"#REF!"}},{"$f":"IF(#REF!=\"No\",0,IF(#REF!=\"ONLY TRAINING CAMP\",0,IF(#REF!=\"\",1,0)))","v":{"$error":"#REF!"}},{"$f":"0","v":0},{"$f":"IF(#REF!=\"No\",0,IF(#REF!=\"ONLY TRAINING CAMP\",0,IF(#REF!=\"\",1,0)))","v":{"$error":"#REF!"}}]
[0,"60",null,null,null,null,null,null,null,null,null,null,null,null,null,null,null,null,null,null,null,null,null,0,null,null,null,null,null,null,null,null,null,null,null,null,null,null,null,null,null,null,null,null,null,null,1,1,1,1,1,1,{"$f":"IF(#REF!=\"\",1,0)","v":{"$error":"#REF!"}},1,1,1,1,1,1,1,1,1,1,1,1,1,1,1,{"$f":"0","v":0},1,{"$f":"IF(#REF!=\"No\",0,IF(#REF!=\"\",1,0))","v":{"$error":"#REF!"}},{"$f":"IF(#REF!=\"No\",0,IF(#REF!=\"ONLY TRAINING CAMP\",0,IF(#REF!=\"\",1,0)))","v":{"$error":"#REF!"}},{"$f":"IF(#REF!=\"No\",0,IF(#REF!=\"ONLY TRAINING CAMP\",0,IF(#REF!=\"\",1,0)))","v":{"$error":"#REF!"}},{"$f":"0","v":0},{"$f":"IF(#REF!=\"No\",0,IF(#REF!=\"ONLY TRAINING CAMP\",0,IF(#REF!=\"\",1,0)))","v":{"$error":"#REF!"}}]
[0,"61",null,null,null,null,null,null,null,null,null,null,null,null,null,null,null,null,null,null,null,null,null,0,null,null,null,null,null,null,null,null,null,null,null,null,null,null,null,null,null,null,null,null,null,null,1,1,1,1,1,1,{"$f":"IF(#REF!=\"\",1,0)","v":{"$error":"#REF!"}},1,1,1,1,1,1,1,1,1,1,1,1,1,1,1,{"$f":"0","v":0},1,{"$f":"IF(#REF!=\"No\",0,IF(#REF!=\"\",1,0))","v":{"$error":"#REF!"}},{"$f":"IF(#REF!=\"No\",0,IF(#REF!=\"ONLY TRAINING CAMP\",0,IF(#REF!=\"\",1,0)))","v":{"$error":"#REF!"}},{"$f":"IF(#REF!=\"No\",0,IF(#REF!=\"ONLY TRAINING CAMP\",0,IF(#REF!=\"\",1,0)))","v":{"$error":"#REF!"}},{"$f":"0","v":0},{"$f":"IF(#REF!=\"No\",0,IF(#REF!=\"ONLY TRAINING CAMP\",0,IF(#REF!=\"\",1,0)))","v":{"$error":"#REF!"}}]
[0,"62",null,null,null,null,null,null,null,null,null,null,null,null,null,null,null,null,null,null,null,null,null,0,null,null,null,null,null,null,null,null,null,null,null,null,null,null,null,null,null,null,null,null,null,null,1,1,1,1,1,1,{"$f":"IF(#REF!=\"\",1,0)","v":{"$error":"#REF!"}},1,1,1,1,1,1,1,1,1,1,1,1,1,1,1,{"$f":"0","v":0},1,{"$f":"IF(#REF!=\"No\",0,IF(#REF!=\"\",1,0))","v":{"$error":"#REF!"}},{"$f":"IF(#REF!=\"No\",0,IF(#REF!=\"ONLY TRAINING CAMP\",0,IF(#REF!=\"\",1,0)))","v":{"$error":"#REF!"}},{"$f":"IF(#REF!=\"No\",0,IF(#REF!=\"ONLY TRAINING CAMP\",0,IF(#REF!=\"\",1,0)))","v":{"$error":"#REF!"}},{"$f":"0","v":0},{"$f":"IF(#REF!=\"No\",0,IF(#REF!=\"ONLY TRAINING CAMP\",0,IF(#REF!=\"\",1,0)))","v":{"$error":"#REF!"}}]
[0,"63",null,null,null,null,null,null,null,null,null,null,null,null,null,null,null,null,null,null,null,null,null,0,null,null,null,null,null,null,null,null,null,null,null,null,null,null,null,null,null,null,null,null,null,null,1,1,1,1,1,1,{"$f":"IF(#REF!=\"\",1,0)","v":{"$error":"#REF!"}},1,1,1,1,1,1,1,1,1,1,1,1,1,1,1,{"$f":"0","v":0},1,{"$f":"IF(#REF!=\"No\",0,IF(#REF!=\"\",1,0))","v":{"$error":"#REF!"}},{"$f":"IF(#REF!=\"No\",0,IF(#REF!=\"ONLY TRAINING CAMP\",0,IF(#REF!=\"\",1,0)))","v":{"$error":"#REF!"}},{"$f":"IF(#REF!=\"No\",0,IF(#REF!=\"ONLY TRAINING CAMP\",0,IF(#REF!=\"\",1,0)))","v":{"$error":"#REF!"}},{"$f":"0","v":0},{"$f":"IF(#REF!=\"No\",0,IF(#REF!=\"ONLY TRAINING CAMP\",0,IF(#REF!=\"\",1,0)))","v":{"$error":"#REF!"}}]
[0,"64",null,null,null,null,null,null,null,null,null,null,null,null,null,null,null,null,null,null,null,null,null,0,null,null,null,null,null,null,null,null,null,null,null,null,null,null,null,null,null,null,null,null,null,null,1,1,1,1,1,1,{"$f":"IF(#REF!=\"\",1,0)","v":{"$error":"#REF!"}},1,1,1,1,1,1,1,1,1,1,1,1,1,1,1,{"$f":"0","v":0},1,{"$f":"IF(#REF!=\"No\",0,IF(#REF!=\"\",1,0))","v":{"$error":"#REF!"}},{"$f":"IF(#REF!=\"No\",0,IF(#REF!=\"ONLY TRAINING CAMP\",0,IF(#REF!=\"\",1,0)))","v":{"$error":"#REF!"}},{"$f":"IF(#REF!=\"No\",0,IF(#REF!=\"ONLY TRAINING CAMP\",0,IF(#REF!=\"\",1,0)))","v":{"$error":"#REF!"}},{"$f":"0","v":0},{"$f":"IF(#REF!=\"No\",0,IF(#REF!=\"ONLY TRAINING CAMP\",0,IF(#REF!=\"\",1,0)))","v":{"$error":"#REF!"}}]
[{"$f":"IF(COUNTIF(C97:Y97,\"><\")=0,0,SUM(AU97:BW97))","v":0},"65",null,null,null,null,null,null,null,null,null,null,null,null,null,null,null,null,null,null,null,null,null,0,null,null,null,null,null,null,null,null,null,null,null,null,null,null,null,null,null,null,null,null,null,null,{"$f":"IF(C97=\"\",1,0)","v":1},{"$f":"IF(D97=\"\",1,0)","v":1},{"$f":"IF(E97=\"\",1,0)","v":1},{"$f":"IF(F97=\"\",1,0)","v":1},{"$f":"IF(G97=\"\",1,0)","v":1},{"$f":"IF(H97=\"\",1,0)","v":1},{"$f":"IF(#REF!=\"\",1,0)","v":{"$error":"#REF!"}},{"$f":"IF(I97=\"\",1,0)","v":1},{"$f":"IF(N97=\"No\",0,IF(J97=\"\",1,0))","v":1},{"$f":"IF(N97=\"No\",0,IF(K97=\"\",1,0))","v":1},{"$f":"IF(N97=\"No\",0,IF(L97=\"\",1,0))","v":1},{"$f":"IF(N97=\"No\",0,IF(M97=\"\",1,0))","v":1},{"$f":"IF(N97=\"\",1,0)","v":1},{"$f":"IF(O97=\"\",1,0)","v":1},{"$f":"IF(T97=\"No\",0,IF(P97=\"\",1,0))","v":1},{"$f":"IF(T97=\"No\",0,IF(Q97=\"\",1,0))","v":1},{"$f":"IF(T97=\"No\",0,IF(R97=\"\",1,0))","v":1},{"$f":"IF(T97=\"No\",0,IF(S97=\"\",1,0))","v":1},{"$f":"IF(T97=\"\",1,0)","v":1},{"$f":"IF(H97=\"No\",0,IF(U97=\"\",1,0))","v":1},{"$f":"IF(H97=\"No\",0,IF(V97=\"\",1,0))","v":1},{"$f":"IF(H97=\"No\",0,IF(W97=\"\",1,0))","v":1},{"$f":"0","v":0},{"$f":"IF(H97=\"No\",0,IF(Y97=\"\",1,0))","v":1},{"$f":"IF(#REF!=\"No\",0,IF(#REF!=\"\",1,0))","v":{"$error":"#REF!"}},{"$f":"IF(#REF!=\"No\",0,IF(#REF!=\"ONLY TRAINING CAMP\",0,IF(#REF!=\"\",1,0)))","v":{"$error":"#REF!"}},{"$f":"IF(#REF!=\"No\",0,IF(#REF!=\"ONLY TRAINING CAMP\",0,IF(#REF!=\"\",1,0)))","v":{"$error":"#REF!"}},{"$f":"0","v":0},{"$f":"IF(#REF!=\"No\",0,IF(#REF!=\"ONLY TRAINING CAMP\",0,IF(#REF!=\"\",1,0)))","v":{"$error":"#REF!"}}]
[0,"66",null,null,null,null,null,null,null,null,null,null,null,null,null,null,null,null,null,null,null,null,null,0,null,null,null,null,null,null,null,null,null,null,null,null,null,null,null,null,null,null,null,null,null,null,1,1,1,1,1,1,{"$f":"IF(#REF!=\"\",1,0)","v":{"$error":"#REF!"}},1,1,1,1,1,1,1,1,1,1,1,1,1,1,1,{"$f":"0","v":0},1,{"$f":"IF(#REF!=\"No\",0,IF(#REF!=\"\",1,0))","v":{"$error":"#REF!"}},{"$f":"IF(#REF!=\"No\",0,IF(#REF!=\"ONLY TRAINING CAMP\",0,IF(#REF!=\"\",1,0)))","v":{"$error":"#REF!"}},{"$f":"IF(#REF!=\"No\",0,IF(#REF!=\"ONLY TRAINING CAMP\",0,IF(#REF!=\"\",1,0)))","v":{"$error":"#REF!"}},{"$f":"0","v":0},{"$f":"IF(#REF!=\"No\",0,IF(#REF!=\"ONLY TRAINING CAMP\",0,IF(#REF!=\"\",1,0)))","v":{"$error":"#REF!"}}]
[0,"67",null,null,null,null,null,null,null,null,null,null,null,null,null,null,null,null,null,null,null,null,null,0,null,null,null,null,null,null,null,null,null,null,null,null,null,null,null,null,null,null,null,null,null,null,1,1,1,1,1,1,{"$f":"IF(#REF!=\"\",1,0)","v":{"$error":"#REF!"}},1,1,1,1,1,1,1,1,1,1,1,1,1,1,1,{"$f":"0","v":0},1,{"$f":"IF(#REF!=\"No\",0,IF(#REF!=\"\",1,0))","v":{"$error":"#REF!"}},{"$f":"IF(#REF!=\"No\",0,IF(#REF!=\"ONLY TRAINING CAMP\",0,IF(#REF!=\"\",1,0)))","v":{"$error":"#REF!"}},{"$f":"IF(#REF!=\"No\",0,IF(#REF!=\"ONLY TRAINING CAMP\",0,IF(#REF!=\"\",1,0)))","v":{"$error":"#REF!"}},{"$f":"0","v":0},{"$f":"IF(#REF!=\"No\",0,IF(#REF!=\"ONLY TRAINING CAMP\",0,IF(#REF!=\"\",1,0)))","v":{"$error":"#REF!"}}]
[0,"68",null,null,null,null,null,null,null,null,null,null,null,null,null,null,null,null,null,null,null,null,null,0,null,null,null,null,null,null,null,null,null,null,null,null,null,null,null,null,null,null,null,null,null,null,1,1,1,1,1,1,{"$f":"IF(#REF!=\"\",1,0)","v":{"$error":"#REF!"}},1,1,1,1,1,1,1,1,1,1,1,1,1,1,1,{"$f":"0","v":0},1,{"$f":"IF(#REF!=\"No\",0,IF(#REF!=\"\",1,0))","v":{"$error":"#REF!"}},{"$f":"IF(#REF!=\"No\",0,IF(#REF!=\"ONLY TRAINING CAMP\",0,IF(#REF!=\"\",1,0)))","v":{"$error":"#REF!"}},{"$f":"IF(#REF!=\"No\",0,IF(#REF!=\"ONLY TRAINING CAMP\",0,IF(#REF!=\"\",1,0)))","v":{"$error":"#REF!"}},{"$f":"0","v":0},{"$f":"IF(#REF!=\"No\",0,IF(#REF!=\"ONLY TRAINING CAMP\",0,IF(#REF!=\"\",1,0)))","v":{"$error":"#REF!"}}]
[0,"69",null,null,null,null,null,null,null,null,null,null,null,null,null,null,null,null,null,null,null,null,null,0,null,null,null,null,null,null,null,null,null,null,null,null,null,null,null,null,null,null,null,null,null,null,1,1,1,1,1,1,{"$f":"IF(#REF!=\"\",1,0)","v":{"$error":"#REF!"}},1,1,1,1,1,1,1,1,1,1,1,1,1,1,1,{"$f":"0","v":0},1,{"$f":"IF(#REF!=\"No\",0,IF(#REF!=\"\",1,0))","v":{"$error":"#REF!"}},{"$f":"IF(#REF!=\"No\",0,IF(#REF!=\"ONLY TRAINING CAMP\",0,IF(#REF!=\"\",1,0)))","v":{"$error":"#REF!"}},{"$f":"IF(#REF!=\"No\",0,IF(#REF!=\"ONLY TRAINING CAMP\",0,IF(#REF!=\"\",1,0)))","v":{"$error":"#REF!"}},{"$f":"0","v":0},{"$f":"IF(#REF!=\"No\",0,IF(#REF!=\"ONLY TRAINING CAMP\",0,IF(#REF!=\"\",1,0)))","v":{"$error":"#REF!"}}]
[0,"70",null,null,null,null,null,null,null,null,null,null,null,null,null,null,null,null,null,null,null,null,null,0,null,null,null,null,null,null,null,null,null,null,null,null,null,null,null,null,null,null,null,null,null,null,1,1,1,1,1,1,{"$f":"IF(#REF!=\"\",1,0)","v":{"$error":"#REF!"}},1,1,1,1,1,1,1,1,1,1,1,1,1,1,1,{"$f":"0","v":0},1,{"$f":"IF(#REF!=\"No\",0,IF(#REF!=\"\",1,0))","v":{"$error":"#REF!"}},{"$f":"IF(#REF!=\"No\",0,IF(#REF!=\"ONLY TRAINING CAMP\",0,IF(#REF!=\"\",1,0)))","v":{"$error":"#REF!"}},{"$f":"IF(#REF!=\"No\",0,IF(#REF!=\"ONLY TRAINING CAMP\",0,IF(#REF!=\"\",1,0)))","v":{"$error":"#REF!"}},{"$f":"0","v":0},{"$f":"IF(#REF!=\"No\",0,IF(#REF!=\"ONLY TRAINING CAMP\",0,IF(#REF!=\"\",1,0)))","v":{"$error":"#REF!"}}]
[0,"71",null,null,null,null,null,null,null,null,null,null,null,null,null,null,null,null,null,null,null,null,null,0,null,null,null,null,null,null,null,null,null,null,null,null,null,null,null,null,null,null,null,null,null,null,1,1,1,1,1,1,{"$f":"IF(#REF!=\"\",1,0)","v":{"$error":"#REF!"}},1,1,1,1,1,1,1,1,1,1,1,1,1,1,1,{"$f":"0","v":0},1,{"$f":"IF(#REF!=\"No\",0,IF(#REF!=\"\",1,0))","v":{"$error":"#REF!"}},{"$f":"IF(#REF!=\"No\",0,IF(#REF!=\"ONLY TRAINING CAMP\",0,IF(#REF!=\"\",1,0)))","v":{"$error":"#REF!"}},{"$f":"IF(#REF!=\"No\",0,IF(#REF!=\"ONLY TRAINING CAMP\",0,IF(#REF!=\"\",1,0)))","v":{"$error":"#REF!"}},{"$f":"0","v":0},{"$f":"IF(#REF!=\"No\",0,IF(#REF!=\"ONLY TRAINING CAMP\",0,IF(#REF!=\"\",1,0)))","v":{"$error":"#REF!"}}]
[0,"72",null,null,null,null,null,null,null,null,null,null,null,null,null,null,null,null,null,null,null,null,null,0,null,null,null,null,null,null,null,null,null,null,null,null,null,null,null,null,null,null,null,null,null,null,1,1,1,1,1,1,{"$f":"IF(#REF!=\"\",1,0)","v":{"$error":"#REF!"}},1,1,1,1,1,1,1,1,1,1,1,1,1,1,1,{"$f":"0","v":0},1,{"$f":"IF(#REF!=\"No\",0,IF(#REF!=\"\",1,0))","v":{"$error":"#REF!"}},{"$f":"IF(#REF!=\"No\",0,IF(#REF!=\"ONLY TRAINING CAMP\",0,IF(#REF!=\"\",1,0)))","v":{"$error":"#REF!"}},{"$f":"IF(#REF!=\"No\",0,IF(#REF!=\"ONLY TRAINING CAMP\",0,IF(#REF!=\"\",1,0)))","v":{"$error":"#REF!"}},{"$f":"0","v":0},{"$f":"IF(#REF!=\"No\",0,IF(#REF!=\"ONLY TRAINING CAMP\",0,IF(#REF!=\"\",1,0)))","v":{"$error":"#REF!"}}]
[0,"73",null,null,null,null,null,null,null,null,null,null,null,null,null,null,null,null,null,null,null,null,null,0,null,null,null,null,null,null,null,null,null,null,null,null,null,null,null,null,null,null,null,null,null,null,1,1,1,1,1,1,{"$f":"IF(#REF!=\"\",1,0)","v":{"$error":"#REF!"}},1,1,1,1,1,1,1,1,1,1,1,1,1,1,1,{"$f":"0","v":0},1,{"$f":"IF(#REF!=\"No\",0,IF(#REF!=\"\",1,0))","v":{"$error":"#REF!"}},{"$f":"IF(#REF!=\"No\",0,IF(#REF!=\"ONLY TRAINING CAMP\",0,IF(#REF!=\"\",1,0)))","v":{"$error":"#REF!"}},{"$f":"IF(#REF!=\"No\",0,IF(#REF!=\"ONLY TRAINING CAMP\",0,IF(#REF!=\"\",1,0)))","v":{"$error":"#REF!"}},{"$f":"0","v":0},{"$f":"IF(#REF!=\"No\",0,IF(#REF!=\"ONLY TRAINING CAMP\",0,IF(#REF!=\"\",1,0)))","v":{"$error":"#REF!"}}]
[0,"74",null,null,null,null,null,null,null,null,null,null,null,null,null,null,null,null,null,null,null,null,null,0,null,null,null,null,null,null,null,null,null,null,null,null,null,null,null,null,null,null,null,null,null,null,1,1,1,1,1,1,{"$f":"IF(#REF!=\"\",1,0)","v":{"$error":"#REF!"}},1,1,1,1,1,1,1,1,1,1,1,1,1,1,1,{"$f":"0","v":0},1,{"$f":"IF(#REF!=\"No\",0,IF(#REF!=\"\",1,0))","v":{"$error":"#REF!"}},{"$f":"IF(#REF!=\"No\",0,IF(#REF!=\"ONLY TRAINING CAMP\",0,IF(#REF!=\"\",1,0)))","v":{"$error":"#REF!"}},{"$f":"IF(#REF!=\"No\",0,IF(#REF!=\"ONLY TRAINING CAMP\",0,IF(#REF!=\"\",1,0)))","v":{"$error":"#REF!"}},{"$f":"0","v":0},{"$f":"IF(#REF!=\"No\",0,IF(#REF!=\"ONLY TRAINING CAMP\",0,IF(#REF!=\"\",1,0)))","v":{"$error":"#REF!"}}]
[0,"75",null,null,null,null,null,null,null,null,null,null,null,null,null,null,null,null,null,null,null,null,null,0,null,null,null,null,null,null,null,null,null,null,null,null,null,null,null,null,null,null,null,null,null,null,1,1,1,1,1,1,{"$f":"IF(#REF!=\"\",1,0)","v":{"$error":"#REF!"}},1,1,1,1,1,1,1,1,1,1,1,1,1,1,1,{"$f":"0","v":0},1,{"$f":"IF(#REF!=\"No\",0,IF(#REF!=\"\",1,0))","v":{"$error":"#REF!"}},{"$f":"IF(#REF!=\"No\",0,IF(#REF!=\"ONLY TRAINING CAMP\",0,IF(#REF!=\"\",1,0)))","v":{"$error":"#REF!"}},{"$f":"IF(#REF!=\"No\",0,IF(#REF!=\"ONLY TRAINING CAMP\",0,IF(#REF!=\"\",1,0)))","v":{"$error":"#REF!"}},{"$f":"0","v":0},{"$f":"IF(#REF!=\"No\",0,IF(#REF!=\"ONLY TRAINING CAMP\",0,IF(#REF!=\"\",1,0)))","v":{"$error":"#REF!"}}]
[0,"76",null,null,null,null,null,null,null,null,null,null,null,null,null,null,null,null,null,null,null,null,null,0,null,null,null,null,null,null,null,null,null,null,null,null,null,null,null,null,null,null,null,null,null,null,1,1,1,1,1,1,{"$f":"IF(#REF!=\"\",1,0)","v":{"$error":"#REF!"}},1,1,1,1,1,1,1,1,1,1,1,1,1,1,1,{"$f":"0","v":0},1,{"$f":"IF(#REF!=\"No\",0,IF(#REF!=\"\",1,0))","v":{"$error":"#REF!"}},{"$f":"IF(#REF!=\"No\",0,IF(#REF!=\"ONLY TRAINING CAMP\",0,IF(#REF!=\"\",1,0)))","v":{"$error":"#REF!"}},{"$f":"IF(#REF!=\"No\",0,IF(#REF!=\"ONLY TRAINING CAMP\",0,IF(#REF!=\"\",1,0)))","v":{"$error":"#REF!"}},{"$f":"0","v":0},{"$f":"IF(#REF!=\"No\",0,IF(#REF!=\"ONLY TRAINING CAMP\",0,IF(#REF!=\"\",1,0)))","v":{"$error":"#REF!"}}]
[0,"77",null,null,null,null,null,null,null,null,null,null,null,null,null,null,null,null,null,null,null,null,null,0,null,null,null,null,null,null,null,null,null,null,null,null,null,null,null,null,null,null,null,null,null,null,1,1,1,1,1,1,{"$f":"IF(#REF!=\"\",1,0)","v":{"$error":"#REF!"}},1,1,1,1,1,1,1,1,1,1,1,1,1,1,1,{"$f":"0","v":0},1,{"$f":"IF(#REF!=\"No\",0,IF(#REF!=\"\",1,0))","v":{"$error":"#REF!"}},{"$f":"IF(#REF!=\"No\",0,IF(#REF!=\"ONLY TRAINING CAMP\",0,IF(#REF!=\"\",1,0)))","v":{"$error":"#REF!"}},{"$f":"IF(#REF!=\"No\",0,IF(#REF!=\"ONLY TRAINING CAMP\",0,IF(#REF!=\"\",1,0)))","v":{"$error":"#REF!"}},{"$f":"0","v":0},{"$f":"IF(#REF!=\"No\",0,IF(#REF!=\"ONLY TRAINING CAMP\",0,IF(#REF!=\"\",1,0)))","v":{"$error":"#REF!"}}]
[0,"78",null,null,null,null,null,null,null,null,null,null,null,null,null,null,null,null,null,null,null,null,null,0,null,null,null,null,null,null,null,null,null,null,null,null,null,null,null,null,null,null,null,null,null,null,1,1,1,1,1,1,{"$f":"IF(#REF!=\"\",1,0)","v":{"$error":"#REF!"}},1,1,1,1,1,1,1,1,1,1,1,1,1,1,1,{"$f":"0","v":0},1,{"$f":"IF(#REF!=\"No\",0,IF(#REF!=\"\",1,0))","v":{"$error":"#REF!"}},{"$f":"IF(#REF!=\"No\",0,IF(#REF!=\"ONLY TRAINING CAMP\",0,IF(#REF!=\"\",1,0)))","v":{"$error":"#REF!"}},{"$f":"IF(#REF!=\"No\",0,IF(#REF!=\"ONLY TRAINING CAMP\",0,IF(#REF!=\"\",1,0)))","v":{"$error":"#REF!"}},{"$f":"0","v":0},{"$f":"IF(#REF!=\"No\",0,IF(#REF!=\"ONLY TRAINING CAMP\",0,IF(#REF!=\"\",1,0)))","v":{"$error":"#REF!"}}]
[0,"79",null,null,null,null,null,null,null,null,null,null,null,null,null,null,null,null,null,null,null,null,null,0,null,null,null,null,null,null,null,null,null,null,null,null,null,null,null,null,null,null,null,null,null,null,1,1,1,1,1,1,{"$f":"IF(#REF!=\"\",1,0)","v":{"$error":"#REF!"}},1,1,1,1,1,1,1,1,1,1,1,1,1,1,1,{"$f":"0","v":0},1,{"$f":"IF(#REF!=\"No\",0,IF(#REF!=\"\",1,0))","v":{"$error":"#REF!"}},{"$f":"IF(#REF!=\"No\",0,IF(#REF!=\"ONLY TRAINING CAMP\",0,IF(#REF!=\"\",1,0)))","v":{"$error":"#REF!"}},{"$f":"IF(#REF!=\"No\",0,IF(#REF!=\"ONLY TRAINING CAMP\",0,IF(#REF!=\"\",1,0)))","v":{"$error":"#REF!"}},{"$f":"0","v":0},{"$f":"IF(#REF!=\"No\",0,IF(#REF!=\"ONLY TRAINING CAMP\",0,IF(#REF!=\"\",1,0)))","v":{"$error":"#REF!"}}]
[0,"80",null,null,null,null,null,null,null,null,null,null,null,null,null,null,null,null,null,null,null,null,null,0,null,null,null,null,null,null,null,null,null,null,null,null,null,null,null,null,null,null,null,null,null,null,1,1,1,1,1,1,{"$f":"IF(#REF!=\"\",1,0)","v":{"$error":"#REF!"}},1,1,1,1,1,1,1,1,1,1,1,1,1,1,1,{"$f":"0","v":0},1,{"$f":"IF(#REF!=\"No\",0,IF(#REF!=\"\",1,0))","v":{"$error":"#REF!"}},{"$f":"IF(#REF!=\"No\",0,IF(#REF!=\"ONLY TRAINING CAMP\",0,IF(#REF!=\"\",1,0)))","v":{"$error":"#REF!"}},{"$f":"IF(#REF!=\"No\",0,IF(#REF!=\"ONLY TRAINING CAMP\",0,IF(#REF!=\"\",1,0)))","v":{"$error":"#REF!"}},{"$f":"0","v":0},{"$f":"IF(#REF!=\"No\",0,IF(#REF!=\"ONLY TRAINING CAMP\",0,IF(#REF!=\"\",1,0)))","v":{"$error":"#REF!"}}]
[0,"81",null,null,null,null,null,null,null,null,null,null,null,null,null,null,null,null,null,null,null,null,null,0,null,null,null,null,null,null,null,null,null,null,null,null,null,null,null,null,null,"",null,null,null,null,1,1,1,1,1,1,{"$f":"IF(#REF!=\"\",1,0)","v":{"$error":"#REF!"}},1,1,1,1,1,1,1,1,1,1,1,1,1,1,1,{"$f":"0","v":0},1,{"$f":"IF(#REF!=\"No\",0,IF(#REF!=\"\",1,0))","v":{"$error":"#REF!"}},{"$f":"IF(#REF!=\"No\",0,IF(#REF!=\"ONLY TRAINING CAMP\",0,IF(#REF!=\"\",1,0)))","v":{"$error":"#REF!"}},{"$f":"IF(#REF!=\"No\",0,IF(#REF!=\"ONLY TRAINING CAMP\",0,IF(#REF!=\"\",1,0)))","v":{"$error":"#REF!"}},{"$f":"0","v":0},{"$f":"IF(#REF!=\"No\",0,IF(#REF!=\"ONLY TRAINING CAMP\",0,IF(#REF!=\"\",1,0)))","v":{"$error":"#REF!"}}]
[0,"82",null,null,null,null,null,null,null,null,null,null,null,null,null,null,null,null,null,null,null,null,null,0,null,null,null,null,null,null,null,null,null,null,null,null,null,null,null,null,null,"",null,null,null,null,1,1,1,1,1,1,{"$f":"IF(#REF!=\"\",1,0)","v":{"$error":"#REF!"}},1,1,1,1,1,1,1,1,1,1,1,1,1,1,1,{"$f":"0","v":0},1,{"$f":"IF(#REF!=\"No\",0,IF(#REF!=\"\",1,0))","v":{"$error":"#REF!"}},{"$f":"IF(#REF!=\"No\",0,IF(#REF!=\"ONLY TRAINING CAMP\",0,IF(#REF!=\"\",1,0)))","v":{"$error":"#REF!"}},{"$f":"IF(#REF!=\"No\",0,IF(#REF!=\"ONLY TRAINING CAMP\",0,IF(#REF!=\"\",1,0)))","v":{"$error":"#REF!"}},{"$f":"0","v":0},{"$f":"IF(#REF!=\"No\",0,IF(#REF!=\"ONLY TRAINING CAMP\",0,IF(#REF!=\"\",1,0)))","v":{"$error":"#REF!"}}]
[0,"83",null,null,null,null,null,null,null,null,null,null,null,null,null,null,null,null,null,null,null,null,null,0,null,null,null,null,null,null,null,null,null,null,null,null,null,null,null,null,null,"",null,null,null,null,1,1,1,1,1,1,{"$f":"IF(#REF!=\"\",1,0)","v":{"$error":"#REF!"}},1,1,1,1,1,1,1,1,1,1,1,1,1,1,1,{"$f":"0","v":0},1,{"$f":"IF(#REF!=\"No\",0,IF(#REF!=\"\",1,0))","v":{"$error":"#REF!"}},{"$f":"IF(#REF!=\"No\",0,IF(#REF!=\"ONLY TRAINING CAMP\",0,IF(#REF!=\"\",1,0)))","v":{"$error":"#REF!"}},{"$f":"IF(#REF!=\"No\",0,IF(#REF!=\"ONLY TRAINING CAMP\",0,IF(#REF!=\"\",1,0)))","v":{"$error":"#REF!"}},{"$f":"0","v":0},{"$f":"IF(#REF!=\"No\",0,IF(#REF!=\"ONLY TRAINING CAMP\",0,IF(#REF!=\"\",1,0)))","v":{"$error":"#REF!"}}]
[0,"84",null,null,null,null,null,null,null,null,null,null,null,null,null,null,null,null,null,null,null,null,null,0,null,null,null,null,null,null,null,null,null,null,null,null,null,null,null,null,null,"",null,null,null,null,1,1,1,1,1,1,{"$f":"IF(#REF!=\"\",1,0)","v":{"$error":"#REF!"}},1,1,1,1,1,1,1,1,1,1,1,1,1,1,1,{"$f":"0","v":0},1,{"$f":"IF(#REF!=\"No\",0,IF(#REF!=\"\",1,0))","v":{"$error":"#REF!"}},{"$f":"IF(#REF!=\"No\",0,IF(#REF!=\"ONLY TRAINING CAMP\",0,IF(#REF!=\"\",1,0)))","v":{"$error":"#REF!"}},{"$f":"IF(#REF!=\"No\",0,IF(#REF!=\"ONLY TRAINING CAMP\",0,IF(#REF!=\"\",1,0)))","v":{"$error":"#REF!"}},{"$f":"0","v":0},{"$f":"IF(#REF!=\"No\",0,IF(#REF!=\"ONLY TRAINING CAMP\",0,IF(#REF!=\"\",1,0)))","v":{"$error":"#REF!"}}]
[0,"85",null,null,null,null,null,null,null,null,null,null,null,null,null,null,null,null,null,null,null,null,null,0,null,null,null,null,null,null,null,null,null,null,null,null,null,null,null,null,null,"",null,null,null,null,1,1,1,1,1,1,{"$f":"IF(#REF!=\"\",1,0)","v":{"$error":"#REF!"}},1,1,1,1,1,1,1,1,1,1,1,1,1,1,1,{"$f":"0","v":0},1,{"$f":"IF(#REF!=\"No\",0,IF(#REF!=\"\",1,0))","v":{"$error":"#REF!"}},{"$f":"IF(#REF!=\"No\",0,IF(#REF!=\"ONLY TRAINING CAMP\",0,IF(#REF!=\"\",1,0)))","v":{"$error":"#REF!"}},{"$f":"IF(#REF!=\"No\",0,IF(#REF!=\"ONLY TRAINING CAMP\",0,IF(#REF!=\"\",1,0)))","v":{"$error":"#REF!"}},{"$f":"0","v":0},{"$f":"IF(#REF!=\"No\",0,IF(#REF!=\"ONLY TRAINING CAMP\",0,IF(#REF!=\"\",1,0)))","v":{"$error":"#REF!"}}]
[0,"86",null,null,null,null,null,null,null,null,null,null,null,null,null,null,null,null,null,null,null,null,null,0,null,null,null,null,null,null,null,null,null,null,null,null,null,null,null,null,null,"",null,null,null,null,1,1,1,1,1,1,{"$f":"IF(#REF!=\"\",1,0)","v":{"$error":"#REF!"}},1,1,1,1,1,1,1,1,1,1,1,1,1,1,1,{"$f":"0","v":0},1,{"$f":"IF(#REF!=\"No\",0,IF(#REF!=\"\",1,0))","v":{"$error":"#REF!"}},{"$f":"IF(#REF!=\"No\",0,IF(#REF!=\"ONLY TRAINING CAMP\",0,IF(#REF!=\"\",1,0)))","v":{"$error":"#REF!"}},{"$f":"IF(#REF!=\"No\",0,IF(#REF!=\"ONLY TRAINING CAMP\",0,IF(#REF!=\"\",1,0)))","v":{"$error":"#REF!"}},{"$f":"0","v":0},{"$f":"IF(#REF!=\"No\",0,IF(#REF!=\"ONLY TRAINING CAMP\",0,IF(#REF!=\"\",1,0)))","v":{"$error":"#REF!"}}]
[0,"87",null,null,null,null,null,null,null,null,null,null,null,null,null,null,null,null,null,null,null,null,null,0,null,null,null,null,null,null,null,null,null,null,null,null,null,null,null,null,null,"",null,null,null,null,1,1,1,1,1,1,{"$f":"IF(#REF!=\"\",1,0)","v":{"$error":"#REF!"}},1,1,1,1,1,1,1,1,1,1,1,1,1,1,1,{"$f":"0","v":0},1,{"$f":"IF(#REF!=\"No\",0,IF(#REF!=\"\",1,0))","v":{"$error":"#REF!"}},{"$f":"IF(#REF!=\"No\",0,IF(#REF!=\"ONLY TRAINING CAMP\",0,IF(#REF!=\"\",1,0)))","v":{"$error":"#REF!"}},{"$f":"IF(#REF!=\"No\",0,IF(#REF!=\"ONLY TRAINING CAMP\",0,IF(#REF!=\"\",1,0)))","v":{"$error":"#REF!"}},{"$f":"0","v":0},{"$f":"IF(#REF!=\"No\",0,IF(#REF!=\"ONLY TRAINING CAMP\",0,IF(#REF!=\"\",1,0)))","v":{"$error":"#REF!"}}]
[0,"88",null,null,null,null,null,null,null,null,null,null,null,null,null,null,null,null,null,null,null,null,null,0,null,null,null,null,null,null,null,null,null,null,null,null,null,null,null,null,null,"",null,null,null,null,1,1,1,1,1,1,{"$f":"IF(#REF!=\"\",1,0)","v":{"$error":"#REF!"}},1,1,1,1,1,1,1,1,1,1,1,1,1,1,1,{"$f":"0","v":0},1,{"$f":"IF(#REF!=\"No\",0,IF(#REF!=\"\",1,0))","v":{"$error":"#REF!"}},{"$f":"IF(#REF!=\"No\",0,IF(#REF!=\"ONLY TRAINING CAMP\",0,IF(#REF!=\"\",1,0)))","v":{"$error":"#REF!"}},{"$f":"IF(#REF!=\"No\",0,IF(#REF!=\"ONLY TRAINING CAMP\",0,IF(#REF!=\"\",1,0)))","v":{"$error":"#REF!"}},{"$f":"0","v":0},{"$f":"IF(#REF!=\"No\",0,IF(#REF!=\"ONLY TRAINING CAMP\",0,IF(#REF!=\"\",1,0)))","v":{"$error":"#REF!"}}]
[0,"89",null,null,null,null,null,null,null,null,null,null,null,null,null,null,null,null,null,null,null,null,null,0,null,null,null,null,null,null,null,null,null,null,null,null,null,null,null,null,null,"",null,null,null,null,1,1,1,1,1,1,{"$f":"IF(#REF!=\"\",1,0)","v":{"$error":"#REF!"}},1,1,1,1,1,1,1,1,1,1,1,1,1,1,1,{"$f":"0","v":0},1,{"$f":"IF(#REF!=\"No\",0,IF(#REF!=\"\",1,0))","v":{"$error":"#REF!"}},{"$f":"IF(#REF!=\"No\",0,IF(#REF!=\"ONLY TRAINING CAMP\",0,IF(#REF!=\"\",1,0)))","v":{"$error":"#REF!"}},{"$f":"IF(#REF!=\"No\",0,IF(#REF!=\"ONLY TRAINING CAMP\",0,IF(#REF!=\"\",1,0)))","v":{"$error":"#REF!"}},{"$f":"0","v":0},{"$f":"IF(#REF!=\"No\",0,IF(#REF!=\"ONLY TRAINING CAMP\",0,IF(#REF!=\"\",1,0)))","v":{"$error":"#REF!"}}]
[0,"90",null,null,null,null,null,null,null,null,null,null,null,null,null,null,null,null,null,null,null,null,null,0,null,null,null,null,null,null,null,null,null,null,null,null,null,null,null,null,null,"",null,null,null,null,1,1,1,1,1,1,{"$f":"IF(#REF!=\"\",1,0)","v":{"$error":"#REF!"}},1,1,1,1,1,1,1,1,1,1,1,1,1,1,1,{"$f":"0","v":0},1,{"$f":"IF(#REF!=\"No\",0,IF(#REF!=\"\",1,0))","v":{"$error":"#REF!"}},{"$f":"IF(#REF!=\"No\",0,IF(#REF!=\"ONLY TRAINING CAMP\",0,IF(#REF!=\"\",1,0)))","v":{"$error":"#REF!"}},{"$f":"IF(#REF!=\"No\",0,IF(#REF!=\"ONLY TRAINING CAMP\",0,IF(#REF!=\"\",1,0)))","v":{"$error":"#REF!"}},{"$f":"0","v":0},{"$f":"IF(#REF!=\"No\",0,IF(#REF!=\"ONLY TRAINING CAMP\",0,IF(#REF!=\"\",1,0)))","v":{"$error":"#REF!"}}]
[0,"91",null,null,null,null,null,null,null,null,null,null,null,null,null,null,null,null,null,null,null,null,null,0,null,null,null,null,null,null,null,null,null,null,null,null,null,null,null,null,null,"",null,null,null,null,1,1,1,1,1,1,{"$f":"IF(#REF!=\"\",1,0)","v":{"$error":"#REF!"}},1,1,1,1,1,1,1,1,1,1,1,1,1,1,1,{"$f":"0","v":0},1,{"$f":"IF(#REF!=\"No\",0,IF(#REF!=\"\",1,0))","v":{"$error":"#REF!"}},{"$f":"IF(#REF!=\"No\",0,IF(#REF!=\"ONLY TRAINING CAMP\",0,IF(#REF!=\"\",1,0)))","v":{"$error":"#REF!"}},{"$f":"IF(#REF!=\"No\",0,IF(#REF!=\"ONLY TRAINING CAMP\",0,IF(#REF!=\"\",1,0)))","v":{"$error":"#REF!"}},{"$f":"0","v":0},{"$f":"IF(#REF!=\"No\",0,IF(#REF!=\"ONLY TRAINING CAMP\",0,IF(#REF!=\"\",1,0)))","v":{"$error":"#REF!"}}]
[0,"92",null,null,null,null,null,null,null,null,null,null,null,null,null,null,null,null,null,null,null,null,null,0,null,null,null,null,null,null,null,null,null,null,null,null,null,null,null,null,null,"",null,null,null,null,1,1,1,1,1,1,{"$f":"IF(#REF!=\"\",1,0)","v":{"$error":"#REF!"}},1,1,1,1,1,1,1,1,1,1,1,1,1,1,1,{"$f":"0","v":0},1,{"$f":"IF(#REF!=\"No\",0,IF(#REF!=\"\",1,0))","v":{"$error":"#REF!"}},{"$f":"IF(#REF!=\"No\",0,IF(#REF!=\"ONLY TRAINING CAMP\",0,IF(#REF!=\"\",1,0)))","v":{"$error":"#REF!"}},{"$f":"IF(#REF!=\"No\",0,IF(#REF!=\"ONLY TRAINING CAMP\",0,IF(#REF!=\"\",1,0)))","v":{"$error":"#REF!"}},{"$f":"0","v":0},{"$f":"IF(#REF!=\"No\",0,IF(#REF!=\"ONLY TRAINING CAMP\",0,IF(#REF!=\"\",1,0)))","v":{"$error":"#REF!"}}]
[0,"93",null,null,null,null,null,null,null,null,null,null,null,null,null,null,null,null,null,null,null,null,null,0,null,null,null,null,null,null,null,null,null,null,null,null,null,null,null,null,null,"",null,null,null,null,1,1,1,1,1,1,{"$f":"IF(#REF!=\"\",1,0)","v":{"$error":"#REF!"}},1,1,1,1,1,1,1,1,1,1,1,1,1,1,1,{"$f":"0","v":0},1,{"$f":"IF(#REF!=\"No\",0,IF(#REF!=\"\",1,0))","v":{"$error":"#REF!"}},{"$f":"IF(#REF!=\"No\",0,IF(#REF!=\"ONLY TRAINING CAMP\",0,IF(#REF!=\"\",1,0)))","v":{"$error":"#REF!"}},{"$f":"IF(#REF!=\"No\",0,IF(#REF!=\"ONLY TRAINING CAMP\",0,IF(#REF!=\"\",1,0)))","v":{"$error":"#REF!"}},{"$f":"0","v":0},{"$f":"IF(#REF!=\"No\",0,IF(#REF!=\"ONLY TRAINING CAMP\",0,IF(#REF!=\"\",1,0)))","v":{"$error":"#REF!"}}]
[0,"94",null,null,null,null,null,null,null,null,null,null,null,null,null,null,null,null,null,null,null,null,null,0,null,null,null,null,null,null,null,null,null,null,null,null,null,null,null,null,null,"",null,null,null,null,1,1,1,1,1,1,{"$f":"IF(#REF!=\"\",1,0)","v":{"$error":"#REF!"}},1,1,1,1,1,1,1,1,1,1,1,1,1,1,1,{"$f":"0","v":0},1,{"$f":"IF(#REF!=\"No\",0,IF(#REF!=\"\",1,0))","v":{"$error":"#REF!"}},{"$f":"IF(#REF!=\"No\",0,IF(#REF!=\"ONLY TRAINING CAMP\",0,IF(#REF!=\"\",1,0)))","v":{"$error":"#REF!"}},{"$f":"IF(#REF!=\"No\",0,IF(#REF!=\"ONLY TRAINING CAMP\",0,IF(#REF!=\"\",1,0)))","v":{"$error":"#REF!"}},{"$f":"0","v":0},{"$f":"IF(#REF!=\"No\",0,IF(#REF!=\"ONLY TRAINING CAMP\",0,IF(#REF!=\"\",1,0)))","v":{"$error":"#REF!"}}]
[0,"95",null,null,null,null,null,null,null,null,null,null,null,null,null,null,null,null,null,null,null,null,null,0,null,null,null,null,null,null,null,null,null,null,null,null,null,null,null,null,null,"",null,null,null,null,1,1,1,1,1,1,{"$f":"IF(#REF!=\"\",1,0)","v":{"$error":"#REF!"}},1,1,1,1,1,1,1,1,1,1,1,1,1,1,1,{"$f":"0","v":0},1,{"$f":"IF(#REF!=\"No\",0,IF(#REF!=\"\",1,0))","v":{"$error":"#REF!"}},{"$f":"IF(#REF!=\"No\",0,IF(#REF!=\"ONLY TRAINING CAMP\",0,IF(#REF!=\"\",1,0)))","v":{"$error":"#REF!"}},{"$f":"IF(#REF!=\"No\",0,IF(#REF!=\"ONLY TRAINING CAMP\",0,IF(#REF!=\"\",1,0)))","v":{"$error":"#REF!"}},{"$f":"0","v":0},{"$f":"IF(#REF!=\"No\",0,IF(#REF!=\"ONLY TRAINING CAMP\",0,IF(#REF!=\"\",1,0)))","v":{"$error":"#REF!"}}]
[0,"96",null,null,null,null,null,null,null,null,null,null,null,null,null,null,null,null,null,null,null,null,null,0,null,null,null,null,null,null,null,null,null,null,null,null,null,null,null,null,null,"",null,null,null,null,1,1,1,1,1,1,{"$f":"IF(#REF!=\"\",1,0)","v":{"$error":"#REF!"}},1,1,1,1,1,1,1,1,1,1,1,1,1,1,1,{"$f":"0","v":0},1,{"$f":"IF(#REF!=\"No\",0,IF(#REF!=\"\",1,0))","v":{"$error":"#REF!"}},{"$f":"IF(#REF!=\"No\",0,IF(#REF!=\"ONLY TRAINING CAMP\",0,IF(#REF!=\"\",1,0)))","v":{"$error":"#REF!"}},{"$f":"IF(#REF!=\"No\",0,IF(#REF!=\"ONLY TRAINING CAMP\",0,IF(#REF!=\"\",1,0)))","v":{"$error":"#REF!"}},{"$f":"0","v":0},{"$f":"IF(#REF!=\"No\",0,IF(#REF!=\"ONLY TRAINING CAMP\",0,IF(#REF!=\"\",1,0)))","v":{"$error":"#REF!"}}]
[0,"97",null,null,null,null,null,null,null,null,null,null,null,null,null,null,null,null,null,null,null,null,null,0,null,null,null,null,null,null,null,null,null,null,null,null,null,null,null,null,null,"",null,null,null,null,1,1,1,1,1,1,{"$f":"IF(#REF!=\"\",1,0)","v":{"$error":"#REF!"}},1,1,1,1,1,1,1,1,1,1,1,1,1,1,1,{"$f":"0","v":0},1,{"$f":"IF(#REF!=\"No\",0,IF(#REF!=\"\",1,0))","v":{"$error":"#REF!"}},{"$f":"IF(#REF!=\"No\",0,IF(#REF!=\"ONLY TRAINING CAMP\",0,IF(#REF!=\"\",1,0)))","v":{"$error":"#REF!"}},{"$f":"IF(#REF!=\"No\",0,IF(#REF!=\"ONLY TRAINING CAMP\",0,IF(#REF!=\"\",1,0)))","v":{"$error":"#REF!"}},{"$f":"0","v":0},{"$f":"IF(#REF!=\"No\",0,IF(#REF!=\"ONLY TRAINING CAMP\",0,IF(#REF!=\"\",1,0)))","v":{"$error":"#REF!"}}]
[0,"98",null,null,null,null,null,null,null,null,null,null,null,null,null,null,null,null,null,null,null,null,null,0,null,null,null,null,null,null,null,null,null,null,null,null,null,null,null,null,null,"",null,null,null,null,1,1,1,1,1,1,{"$f":"IF(#REF!=\"\",1,0)","v":{"$error":"#REF!"}},1,1,1,1,1,1,1,1,1,1,1,1,1,1,1,{"$f":"0","v":0},1,{"$f":"IF(#REF!=\"No\",0,IF(#REF!=\"\",1,0))","v":{"$error":"#REF!"}},{"$f":"IF(#REF!=\"No\",0,IF(#REF!=\"ONLY TRAINING CAMP\",0,IF(#REF!=\"\",1,0)))","v":{"$error":"#REF!"}},{"$f":"IF(#REF!=\"No\",0,IF(#REF!=\"ONLY TRAINING CAMP\",0,IF(#REF!=\"\",1,0)))","v":{"$error":"#REF!"}},{"$f":"0","v":0},{"$f":"IF(#REF!=\"No\",0,IF(#REF!=\"ONLY TRAINING CAMP\",0,IF(#REF!=\"\",1,0)))","v":{"$error":"#REF!"}}]
[0,"99",null,null,null,null,null,null,null,null,null,null,null,null,null,null,null,null,null,null,null,null,null,0,null,null,null,null,null,null,null,null,null,null,null,null,null,null,null,null,null,"",null,null,null,null,1,1,1,1,1,1,{"$f":"IF(#REF!=\"\",1,0)","v":{"$error":"#REF!"}},1,1,1,1,1,1,1,1,1,1,1,1,1,1,1,{"$f":"0","v":0},1,{"$f":"IF(#REF!=\"No\",0,IF(#REF!=\"\",1,0))","v":{"$error":"#REF!"}},{"$f":"IF(#REF!=\"No\",0,IF(#REF!=\"ONLY TRAINING CAMP\",0,IF(#REF!=\"\",1,0)))","v":{"$error":"#REF!"}},{"$f":"IF(#REF!=\"No\",0,IF(#REF!=\"ONLY TRAINING CAMP\",0,IF(#REF!=\"\",1,0)))","v":{"$error":"#REF!"}},{"$f":"0","v":0},{"$f":"IF(#REF!=\"No\",0,IF(#REF!=\"ONLY TRAINING CAMP\",0,IF(#REF!=\"\",1,0)))","v":{"$error":"#REF!"}}]
[0,"100",null,null,null,null,null,null,null,null,null,null,null,null,null,null,null,null,null,null,null,null,null,0,null,null,null,null,null,null,null,null,null,null,null,null,null,null,null,null,null,"",null,null,null,null,1,1,1,1,1,1,{"$f":"IF(#REF!=\"\",1,0)","v":{"$error":"#REF!"}},1,1,1,1,1,1,1,1,1,1,1,1,1,1,1,{"$f":"0","v":0},1,{"$f":"IF(#REF!=\"No\",0,IF(#REF!=\"\",1,0))","v":{"$error":"#REF!"}},{"$f":"IF(#REF!=\"No\",0,IF(#REF!=\"ONLY TRAINING CAMP\",0,IF(#REF!=\"\",1,0)))","v":{"$error":"#REF!"}},{"$f":"IF(#REF!=\"No\",0,IF(#REF!=\"ONLY TRAINING CAMP\",0,IF(#REF!=\"\",1,0)))","v":{"$error":"#REF!"}},{"$f":"0","v":0},{"$f":"IF(#REF!=\"No\",0,IF(#REF!=\"ONLY TRAINING CAMP\",0,IF(#REF!=\"\",1,0)))","v":{"$error":"#REF!"}}]

{"sheet":"AMOUNT","index":1,"n_rows":112,"n_cols":38,"rows_kept":112,"cut":false,"hidden":false,"merged":[[6,1,8,1],[1,8,1,9],[6,3,6,13],[0,3,0,10],[8,8,8,12],[8,3,8,7]]}
[null,null,null,"                    Paris Judo Grand Slam 2021          ",null,null,null,null,null,null,null,null,null,null,null,null,null,null,null,null,null,null,null,null,null,null,null,null,null,null,null,null,null,null,null,null,"HOTEL NAME - GS","Price"]
[null,null,null,null,null,"Period :       From",{"$f":"MIN(FORM!$I$33:$I$132)","v":"00:00:00"},"     to",{"$f":"MAX(FORM!$O$33:$O$132)","v":"00:00:00"},null,null,null,null,null,null,null,null,null,null,null,null,null,null,null,null,null,null,null,null,null,null,null,null,null,null,null,"NOVOTEL Single B&B",259]
[null,null,null,null,null,null,null,null,null,null,null,null,null,null,null,null,null,null,null,null,null,null,null,null,null,null,null,null,null,null,null,null,null,null,null,null,"NOVOTEL Twin B&B",159]
[null,null,null,"Team :   ",{"$f":"FORM!$F$20","v":{"$error":"#N/A"}},null,null,null,null,"Nb of persons :",{"$f":"COUNTA(FORM!D33:D132)","v":0},null,null,null,null,null,null,null,null,null,null,null,null,null,null,null,null,null,null,null,null,null,null,null,null,null,"NOVOTEL Single HB",285]
[null,null,null,null,{"$f":"VLOOKUP(FORM!$E$20,Lexique!$A$2:$D$204,4,FALSE)","v":{"$error":"#N/A"}},null,null,null,null,null,null,null,null,null,null,null,null,null,null,null,null,null,null,null,null,null,null,null,null,null,null,null,null,null,null,null,"NOVOTEL Twin HB",185]
[null,null,null,null,null,null,null,null,null,null,null,null,null,null,null,null,null,null,null,null,null,null,null,null,null,null,null,null,null,null,null,null,null,null,null,null,"NOVOTEL Single FB",310]
[null,{"$f":"IF(FORM!$N$15=\"-> Quota for officials exceeded ! Fee for additional team official (who must be registered in judobase) is 100 US $ per accreditation.\",\"Il faut ajouter des frais pour excédents d'officiels égal à \"&B11&\" $.\",\"\")","v":""},null,"THIS DOCUMENT IS NOT AN INVOICE",null,null,null,null,null,null,null,null,null,null,null,null,null,null,null,null,null,null,null,null,null,null,null,null,null,null,null,null,null,null,null,null,"NOVOTEL Twin FB",210]
[null,null,null,null,null,null,null,null,null,null,null,null,null,null,null,null,null,null,null,null,null,null,null,null,null,null,null,null,null,null,null,null,null,null,null,null,"IBIS STYLES BERCY Single B&B",229]
[null,null,null,"TOTAL :",null,null,null,null,{"$f":"SUM(M13:M112)","v":0},null,null,null,null,null,null,null,null,null,null,null,null,null,null,null,null,null,null,null,null,null,null,null,null,null,null,null,"IBIS STYLES BERCY Twin B&B",144]
[null,null,null,null,null,null,null,null,null,null,null,null,null,null,null,null,null,null,null,null,null,null,null,null,null,null,null,null,null,null,null,null,null,null,null,null,"IBIS STYLES BERCY Single HB",254]
[null,{"$f":"(FORM!B11-FORM!P12)*100","v":{"$error":"#VALUE!"}},null,null,null,null,null,null,null,null,null,null,null,null,null,null,null,null,null,null,null,null,null,null,null,null,null,null,null,null,null,null,null,null,null,null,"IBIS STYLES BERCY Twin HB",169]
[null,"Delegates",null,"Selected hotel","Type of room","Type of catering","Hotel + Type room + Catering","Check-in","Check-out","Nights","Unit price (€)","Tests PCR","Total (€)",null,null,null,null,null,null,null,null,null,null,null,null,null,null,null,null,null,null,null,null,null,null,null,"IBIS STYLES BERCY Single FB",279]
[{"$f":"IF(FORM!D33=\"\",0,1)","v":0},{"$f":"IF($A13=1,FORM!$D33&\" \"&FORM!$E33&\" / \"&FORM!$F33&\" / [\"&FORM!$AP33&\"]\",\"\")","v":""},null,{"$f":"IF($A13=1,FORM!$U33,\"\")","v":""},{"$f":"IF($A13=1,FORM!$Y33,\"\")","v":""},{"$f":"IF($A13=1,FORM!$Z33,\"\")","v":""},{"$f":"IF($A13=1,$D13&\" \"&$E13&\" \"&$F13,\"\")","v":""},{"$f":"IF($A13=1,FORM!$V33,\"\")","v":""},{"$f":"IF($A13=1,FORM!$W33,\"\")","v":""},{"$f":"IF($A13=1,$I13-$H13,\"\")","v":""},{"$f":"IF($A13=1,VLOOKUP($G13,$AK$2:$AL$24,2,FALSE),\"\")","v":""},{"$f":"IF($A13=1,FORM!$H33*100,\"\")","v":""},{"$f":"IF($A13=1,(($J13*$K13)+$L13),\"\")","v":""},null,null,null,null,null,null,null,null,null,null,null,null,null,null,null,null,null,null,null,null,null,null,null,"IBIS STYLES BERCY Twin FB",194]
[{"$f":"IF(FORM!D34=\"\",0,1)","v":0},{"$f":"IF($A14=1,FORM!$D34&\" \"&FORM!$E34&\" / \"&FORM!$F34&\" / [\"&FORM!$AP34&\"]\",\"\")","v":""},null,{"$f":"IF($A14=1,FORM!$U34,\"\")","v":""},{"$f":"IF($A14=1,FORM!$Y34,\"\")","v":""},{"$f":"IF($A14=1,FORM!$Z34,\"\")","v":""},{"$f":"IF($A14=1,$D14&\" \"&$E14&\" \"&$F14,\"\")","v":""},{"$f":"IF($A14=1,FORM!$V34,\"\")","v":""},{"$f":"IF($A14=1,FORM!$W34,\"\")","v":""},{"$f":"IF($A14=1,$I14-$H14,\"\")","v":""},"",{"$f":"IF($A14=1,FORM!$H34*100,\"\")","v":""},{"$f":"IF($A14=1,(($J14*$K14)+$L14),\"\")","v":""},null,null,null,null,null,null,null,null,null,null,null,null,null,null,null,null,null,null,null,null,null,null,null,"IBIS PARIS BERCY VILLAGE Single B&B",229]
[{"$f":"IF(FORM!D35=\"\",0,1)","v":0},{"$f":"IF($A15=1,FORM!$D35&\" \"&FORM!$E35&\" / \"&FORM!$F35&\" / [\"&FORM!$AP35&\"]\",\"\")","v":""},null,{"$f":"IF($A15=1,FORM!$U35,\"\")","v":""},{"$f":"IF($A15=1,FORM!$Y35,\"\")","v":""},{"$f":"IF($A15=1,FORM!$Z35,\"\")","v":""},"",{"$f":"IF($A15=1,FORM!$V35,\"\")","v":""},{"$f":"IF($A15=1,FORM!$W35,\"\")","v":""},"","",{"$f":"IF($A15=1,FORM!$H35*100,\"\")","v":""},"",null,null,null,null,null,null,null,null,null,null,null,null,null,null,null,null,null,null,null,null,null,null,null,"IBIS PARIS BERCY VILLAGE Twin B&B",144]
[{"$f":"IF(FORM!D36=\"\",0,1)","v":0},{"$f":"IF($A16=1,FORM!$D36&\" \"&FORM!$E36&\" / \"&FORM!$F36&\" / [\"&FORM!$AP36&\"]\",\"\")","v":""},null,{"$f":"IF($A16=1,FORM!$U36,\"\")","v":""},{"$f":"IF($A16=1,FORM!$Y36,\"\")","v":""},{"$f":"IF($A16=1,FORM!$Z36,\"\")","v":""},"",{"$f":"IF($A16=1,FORM!$V36,\"\")","v":""},{"$f":"IF($A16=1,FORM!$W36,\"\")","v":""},"","",{"$f":"IF($A16=1,FORM!$H36*100,\"\")","v":""},"",null,null,null,null,null,null,null,null,null,null,null,null,null,null,null,null,null,null,null,null,null,null,null,"IBIS PARIS BERCY VILLAGE Single HB",254]
[{"$f":"IF(FORM!D37=\"\",0,1)","v":0},{"$f":"IF($A17=1,FORM!$D37&\" \"&FORM!$E37&\" / \"&FORM!$F37&\" / [\"&FORM!$AP37&\"]\",\"\")","v":""},null,{"$f":"IF($A17=1,FORM!$U37,\"\")","v":""},{"$f":"IF($A17=1,FORM!$Y37,\"\")","v":""},{"$f":"IF($A17=1,FORM!$Z37,\"\")","v":""},"",{"$f":"IF($A17=1,FORM!$V37,\"\")","v":""},{"$f":"IF($A17=1,FORM!$W37,\"\")","v":""},"","",{"$f":"IF($A17=1,FORM!$H37*100,\"\")","v":""},"",null,null,null,null,null,null,null,null,null,null,null,null,null,null,null,null,null,null,null,null,null,null,null,"IBIS PARIS BERCY VILLAGE Twin HB",169]
[{"$f":"IF(FORM!D38=\"\",0,1)","v":0},{"$f":"IF($A18=1,FORM!$D38&\" \"&FORM!$E38&\" / \"&FORM!$F38&\" / [\"&FORM!$AP38&\"]\",\"\")","v":""},null,{"$f":"IF($A18=1,FORM!$U38,\"\")","v":""},{"$f":"IF($A18=1,FORM!$Y38,\"\")","v":""},{"$f":"IF($A18=1,FORM!$Z38,\"\")","v":""},"",{"$f":"IF($A18=1,FORM!$V38,\"\")","v":""},{"$f":"IF($A18=1,FORM!$W38,\"\")","v":""},"","",{"$f":"IF($A18=1,FORM!$H38*100,\"\")","v":""},"",null,null,null,null,null,null,null,null,null,null,null,null,null,null,null,null,null,null,null,null,null,null,null,"IBIS PARIS BERCY VILLAGE Single FB",279]
[{"$f":"IF(FORM!D39=\"\",0,1)","v":0},{"$f":"IF($A19=1,FORM!$D39&\" \"&FORM!$E39&\" / \"&FORM!$F39&\" / [\"&FORM!$AP39&\"]\",\"\")","v":""},null,{"$f":"IF($A19=1,FORM!$U39,\"\")","v":""},{"$f":"IF($A19=1,FORM!$Y39,\"\")","v":""},{"$f":"IF($A19=1,FORM!$Z39,\"\")","v":""},"",{"$f":"IF($A19=1,FORM!$V39,\"\")","v":""},{"$f":"IF($A19=1,FORM!$W39,\"\")","v":""},"","",{"$f":"IF($A19=1,FORM!$H39*100,\"\")","v":""},"",null,null,null,null,null,null,null,null,null,null,null,null,null,null,null,null,null,null,null,null,null,null,null,"IBIS PARIS BERCY VILLAGE Twin FB",194]
[{"$f":"IF(FORM!D40=\"\",0,1)","v":0},{"$f":"IF($A20=1,FORM!$D40&\" \"&FORM!$E40&\" / \"&FORM!$F40&\" / [\"&FORM!$AP40&\"]\",\"\")","v":""},null,{"$f":"IF($A20=1,FORM!$U40,\"\")","v":""},{"$f":"IF($A20=1,FORM!$Y40,\"\")","v":""},{"$f":"IF($A20=1,FORM!$Z40,\"\")","v":""},"",{"$f":"IF($A20=1,FORM!$V40,\"\")","v":""},{"$f":"IF($A20=1,FORM!$W40,\"\")","v":""},"","",{"$f":"IF($A20=1,FORM!$H40*100,\"\")","v":""},"",null,null,null,null,null,null,null,null,null,null,null,null,null,null,null,null,null,null,null,null,null,null,null,"FORMULE 1 Single B&B",130]
[{"$f":"IF(FORM!D41=\"\",0,1)","v":0},{"$f":"IF($A21=1,FORM!$D41&\" \"&FORM!$E41&\" / \"&FORM!$F41&\" / [\"&FORM!$AP41&\"]\",\"\")","v":""},null,{"$f":"IF($A21=1,FORM!$U41,\"\")","v":""},{"$f":"IF($A21=1,FORM!$Y41,\"\")","v":""},{"$f":"IF($A21=1,FORM!$Z41,\"\")","v":""},"",{"$f":"IF($A21=1,FORM!$V41,\"\")","v":""},{"$f":"IF($A21=1,FORM!$W41,\"\")","v":""},"","",{"$f":"IF($A21=1,FORM!$H41*100,\"\")","v":""},"",null,null,null,null,null,null,null,null,null,null,null,null,null,null,null,null,null,null,null,null,null,null,null,"FORMULE 1 Twin B&B",90]
[{"$f":"IF(FORM!D42=\"\",0,1)","v":0},{"$f":"IF($A22=1,FORM!$D42&\" \"&FORM!$E42&\" / \"&FORM!$F42&\" / [\"&FORM!$AP42&\"]\",\"\")","v":""},null,{"$f":"IF($A22=1,FORM!$U42,\"\")","v":""},{"$f":"IF($A22=1,FORM!$Y42,\"\")","v":""},{"$f":"IF($A22=1,FORM!$Z42,\"\")","v":""},"",{"$f":"IF($A22=1,FORM!$V42,\"\")","v":""},{"$f":"IF($A22=1,FORM!$W42,\"\")","v":""},"","",{"$f":"IF($A22=1,FORM!$H42*100,\"\")","v":""},"",null,null,null,null,null,null,null,null,null,null,null,null,null,null,null,null,null,null,null,null,null,null,null,"FORMULE 1 Single HB",155]
[{"$f":"IF(FORM!D43=\"\",0,1)","v":0},{"$f":"IF($A23=1,FORM!$D43&\" \"&FORM!$E43&\" / \"&FORM!$F43&\" / [\"&FORM!$AP43&\"]\",\"\")","v":""},null,{"$f":"IF($A23=1,FORM!$U43,\"\")","v":""},{"$f":"IF($A23=1,FORM!$Y43,\"\")","v":""},{"$f":"IF($A23=1,FORM!$Z43,\"\")","v":""},"",{"$f":"IF($A23=1,FORM!$V43,\"\")","v":""},{"$f":"IF($A23=1,FORM!$W43,\"\")","v":""},"","",{"$f":"IF($A23=1,FORM!$H43*100,\"\")","v":""},"",null,null,null,null,null,null,null,null,null,null,null,null,null,null,null,null,null,null,null,null,null,null,null,"FORMULE 1 Twin HB",115]
[{"$f":"IF(FORM!D44=\"\",0,1)","v":0},{"$f":"IF($A24=1,FORM!$D44&\" \"&FORM!$E44&\" / \"&FORM!$F44&\" / [\"&FORM!$AP44&\"]\",\"\")","v":""},null,{"$f":"IF($A24=1,FORM!$U44,\"\")","v":""},{"$f":"IF($A24=1,FORM!$Y44,\"\")","v":""},{"$f":"IF($A24=1,FORM!$Z44,\"\")","v":""},"",{"$f":"IF($A24=1,FORM!$V44,\"\")","v":""},{"$f":"IF($A24=1,FORM!$W44,\"\")","v":""},"","",{"$f":"IF($A24=1,FORM!$H44*100,\"\")","v":""},"",null,null,null,null,null,null,null,null,null,null,null,null,null,null,null,null,null,null,null,null,null,null,null,"FORMULE 1 Single FB",180]
[{"$f":"IF(FORM!D45=\"\",0,1)","v":0},{"$f":"IF($A25=1,FORM!$D45&\" \"&FORM!$E45&\" / \"&FORM!$F45&\" / [\"&FORM!$AP45&\"]\",\"\")","v":""},null,{"$f":"IF($A25=1,FORM!$U45,\"\")","v":""},{"$f":"IF($A25=1,FORM!$Y45,\"\")","v":""},{"$f":"IF($A25=1,FORM!$Z45,\"\")","v":""},"",{"$f":"IF($A25=1,FORM!$V45,\"\")","v":""},{"$f":"IF($A25=1,FORM!$W45,\"\")","v":""},"","",{"$f":"IF($A25=1,FORM!$H45*100,\"\")","v":""},"",null,null,null,null,null,null,null,null,null,null,null,null,null,null,null,null,null,null,null,null,null,null,null,"FORMULE 1 Twin FB",140]
[{"$f":"IF(FORM!D46=\"\",0,1)","v":0},{"$f":"IF($A26=1,FORM!$D46&\" \"&FORM!$E46&\" / \"&FORM!$F46&\" / [\"&FORM!$AP46&\"]\",\"\")","v":""},null,{"$f":"IF($A26=1,FORM!$U46,\"\")","v":""},{"$f":"IF($A26=1,FORM!$Y46,\"\")","v":""},{"$f":"IF($A26=1,FORM!$Z46,\"\")","v":""},"",{"$f":"IF($A26=1,FORM!$V46,\"\")","v":""},{"$f":"IF($A26=1,FORM!$W46,\"\")","v":""},"","",{"$f":"IF($A26=1,FORM!$H46*100,\"\")","v":""},""]
[{"$f":"IF(FORM!D47=\"\",0,1)","v":0},{"$f":"IF($A27=1,FORM!$D47&\" \"&FORM!$E47&\" / \"&FORM!$F47&\" / [\"&FORM!$AP47&\"]\",\"\")","v":""},null,{"$f":"IF($A27=1,FORM!$U47,\"\")","v":""},{"$f":"IF($A27=1,FORM!$Y47,\"\")","v":""},{"$f":"IF($A27=1,FORM!$Z47,\"\")","v":""},"",{"$f":"IF($A27=1,FORM!$V47,\"\")","v":""},{"$f":"IF($A27=1,FORM!$W47,\"\")","v":""},"","",{"$f":"IF($A27=1,FORM!$H47*100,\"\")","v":""},""]
[{"$f":"IF(FORM!D48=\"\",0,1)","v":0},{"$f":"IF($A28=1,FORM!$D48&\" \"&FORM!$E48&\" / \"&FORM!$F48&\" / [\"&FORM!$AP48&\"]\",\"\")","v":""},null,{"$f":"IF($A28=1,FORM!$U48,\"\")","v":""},{"$f":"IF($A28=1,FORM!$Y48,\"\")","v":""},{"$f":"IF($A28=1,FORM!$Z48,\"\")","v":""},"",{"$f":"IF($A28=1,FORM!$V48,\"\")","v":""},{"$f":"IF($A28=1,FORM!$W48,\"\")","v":""},"","",{"$f":"IF($A28=1,FORM!$H48*100,\"\")","v":""},""]
[{"$f":"IF(FORM!D49=\"\",0,1)","v":0},{"$f":"IF($A29=1,FORM!$D49&\" \"&FORM!$E49&\" / \"&FORM!$F49&\" / [\"&FORM!$AP49&\"]\",\"\")","v":""},null,{"$f":"IF($A29=1,FORM!$U49,\"\")","v":""},{"$f":"IF($A29=1,FORM!$Y49,\"\")","v":""},{"$f":"IF($A29=1,FORM!$Z49,\"\")","v":""},"",{"$f":"IF($A29=1,FORM!$V49,\"\")","v":""},{"$f":"IF($A29=1,FORM!$W49,\"\")","v":""},"","",{"$f":"IF($A29=1,FORM!$H49*100,\"\")","v":""},""]
[{"$f":"IF(FORM!D50=\"\",0,1)","v":0},{"$f":"IF($A30=1,FORM!$D50&\" \"&FORM!$E50&\" / \"&FORM!$F50&\" / [\"&FORM!$AP50&\"]\",\"\")","v":""},null,{"$f":"IF($A30=1,FORM!$U50,\"\")","v":""},{"$f":"IF($A30=1,FORM!$Y50,\"\")","v":""},{"$f":"IF($A30=1,FORM!$Z50,\"\")","v":""},"",{"$f":"IF($A30=1,FORM!$V50,\"\")","v":""},{"$f":"IF($A30=1,FORM!$W50,\"\")","v":""},"","",{"$f":"IF($A30=1,FORM!$H50*100,\"\")","v":""},""]
[{"$f":"IF(FORM!D51=\"\",0,1)","v":0},{"$f":"IF($A31=1,FORM!$D51&\" \"&FORM!$E51&\" / \"&FORM!$F51&\" / [\"&FORM!$AP51&\"]\",\"\")","v":""},null,{"$f":"IF($A31=1,FORM!$U51,\"\")","v":""},{"$f":"IF($A31=1,FORM!$Y51,\"\")","v":""},{"$f":"IF($A31=1,FORM!$Z51,\"\")","v":""},"",{"$f":"IF($A31=1,FORM!$V51,\"\")","v":""},{"$f":"IF($A31=1,FORM!$W51,\"\")","v":""},"","",{"$f":"IF($A31=1,FORM!$H51*100,\"\")","v":""},""]
[{"$f":"IF(FORM!D52=\"\",0,1)","v":0},{"$f":"IF($A32=1,FORM!$D52&\" \"&FORM!$E52&\" / \"&FORM!$F52&\" / [\"&FORM!$AP52&\"]\",\"\")","v":""},null,{"$f":"IF($A32=1,FORM!$U52,\"\")","v":""},{"$f":"IF($A32=1,FORM!$Y52,\"\")","v":""},{"$f":"IF($A32=1,FORM!$Z52,\"\")","v":""},"",{"$f":"IF($A32=1,FORM!$V52,\"\")","v":""},{"$f":"IF($A32=1,FORM!$W52,\"\")","v":""},"","",{"$f":"IF($A32=1,FORM!$H52*100,\"\")","v":""},""]
[{"$f":"IF(FORM!D53=\"\",0,1)","v":0},{"$f":"IF($A33=1,FORM!$D53&\" \"&FORM!$E53&\" / \"&FORM!$F53&\" / [\"&FORM!$AP53&\"]\",\"\")","v":""},null,{"$f":"IF($A33=1,FORM!$U53,\"\")","v":""},{"$f":"IF($A33=1,FORM!$Y53,\"\")","v":""},{"$f":"IF($A33=1,FORM!$Z53,\"\")","v":""},"",{"$f":"IF($A33=1,FORM!$V53,\"\")","v":""},{"$f":"IF($A33=1,FORM!$W53,\"\")","v":""},"","",{"$f":"IF($A33=1,FORM!$H53*100,\"\")","v":""},""]
[{"$f":"IF(FORM!D54=\"\",0,1)","v":0},{"$f":"IF($A34=1,FORM!$D54&\" \"&FORM!$E54&\" / \"&FORM!$F54&\" / [\"&FORM!$AP54&\"]\",\"\")","v":""},null,{"$f":"IF($A34=1,FORM!$U54,\"\")","v":""},{"$f":"IF($A34=1,FORM!$Y54,\"\")","v":""},{"$f":"IF($A34=1,FORM!$Z54,\"\")","v":""},"",{"$f":"IF($A34=1,FORM!$V54,\"\")","v":""},{"$f":"IF($A34=1,FORM!$W54,\"\")","v":""},"","",{"$f":"IF($A34=1,FORM!$H54*100,\"\")","v":""},""]
[{"$f":"IF(FORM!D55=\"\",0,1)","v":0},{"$f":"IF($A35=1,FORM!$D55&\" \"&FORM!$E55&\" / \"&FORM!$F55&\" / [\"&FORM!$AP55&\"]\",\"\")","v":""},null,{"$f":"IF($A35=1,FORM!$U55,\"\")","v":""},{"$f":"IF($A35=1,FORM!$Y55,\"\")","v":""},{"$f":"IF($A35=1,FORM!$Z55,\"\")","v":""},"",{"$f":"IF($A35=1,FORM!$V55,\"\")","v":""},{"$f":"IF($A35=1,FORM!$W55,\"\")","v":""},"","",{"$f":"IF($A35=1,FORM!$H55*100,\"\")","v":""},""]
[{"$f":"IF(FORM!D56=\"\",0,1)","v":0},{"$f":"IF($A36=1,FORM!$D56&\" \"&FORM!$E56&\" / \"&FORM!$F56&\" / [\"&FORM!$AP56&\"]\",\"\")","v":""},null,{"$f":"IF($A36=1,FORM!$U56,\"\")","v":""},{"$f":"IF($A36=1,FORM!$Y56,\"\")","v":""},{"$f":"IF($A36=1,FORM!$Z56,\"\")","v":""},"",{"$f":"IF($A36=1,FORM!$V56,\"\")","v":""},{"$f":"IF($A36=1,FORM!$W56,\"\")","v":""},"","",{"$f":"IF($A36=1,FORM!$H56*100,\"\")","v":""},""]
[{"$f":"IF(FORM!D57=\"\",0,1)","v":0},{"$f":"IF($A37=1,FORM!$D57&\" \"&FORM!$E57&\" / \"&FORM!$F57&\" / [\"&FORM!$AP57&\"]\",\"\")","v":""},null,{"$f":"IF($A37=1,FORM!$U57,\"\")","v":""},{"$f":"IF($A37=1,FORM!$Y57,\"\")","v":""},{"$f":"IF($A37=1,FORM!$Z57,\"\")","v":""},"",{"$f":"IF($A37=1,FORM!$V57,\"\")","v":""},{"$f":"IF($A37=1,FORM!$W57,\"\")","v":""},"","",{"$f":"IF($A37=1,FORM!$H57*100,\"\")","v":""},""]
[{"$f":"IF(FORM!D58=\"\",0,1)","v":0},{"$f":"IF($A38=1,FORM!$D58&\" \"&FORM!$E58&\" / \"&FORM!$F58&\" / [\"&FORM!$AP58&\"]\",\"\")","v":""},null,{"$f":"IF($A38=1,FORM!$U58,\"\")","v":""},{"$f":"IF($A38=1,FORM!$Y58,\"\")","v":""},{"$f":"IF($A38=1,FORM!$Z58,\"\")","v":""},"",{"$f":"IF($A38=1,FORM!$V58,\"\")","v":""},{"$f":"IF($A38=1,FORM!$W58,\"\")","v":""},"","",{"$f":"IF($A38=1,FORM!$H58*100,\"\")","v":""},""]
[{"$f":"IF(FORM!D59=\"\",0,1)","v":0},{"$f":"IF($A39=1,FORM!$D59&\" \"&FORM!$E59&\" / \"&FORM!$F59&\" / [\"&FORM!$AP59&\"]\",\"\")","v":""},null,{"$f":"IF($A39=1,FORM!$U59,\"\")","v":""},{"$f":"IF($A39=1,FORM!$Y59,\"\")","v":""},{"$f":"IF($A39=1,FORM!$Z59,\"\")","v":""},"",{"$f":"IF($A39=1,FORM!$V59,\"\")","v":""},{"$f":"IF($A39=1,FORM!$W59,\"\")","v":""},"","",{"$f":"IF($A39=1,FORM!$H59*100,\"\")","v":""},""]
[{"$f":"IF(FORM!D60=\"\",0,1)","v":0},{"$f":"IF($A40=1,FORM!$D60&\" \"&FORM!$E60&\" / \"&FORM!$F60&\" / [\"&FORM!$AP60&\"]\",\"\")","v":""},null,{"$f":"IF($A40=1,FORM!$U60,\"\")","v":""},{"$f":"IF($A40=1,FORM!$Y60,\"\")","v":""},{"$f":"IF($A40=1,FORM!$Z60,\"\")","v":""},"",{"$f":"IF($A40=1,FORM!$V60,\"\")","v":""},{"$f":"IF($A40=1,FORM!$W60,\"\")","v":""},"","",{"$f":"IF($A40=1,FORM!$H60*100,\"\")","v":""},""]
[{"$f":"IF(FORM!D61=\"\",0,1)","v":0},{"$f":"IF($A41=1,FORM!$D61&\" \"&FORM!$E61&\" / \"&FORM!$F61&\" / [\"&FORM!$AP61&\"]\",\"\")","v":""},null,{"$f":"IF($A41=1,FORM!$U61,\"\")","v":""},{"$f":"IF($A41=1,FORM!$Y61,\"\")","v":""},{"$f":"IF($A41=1,FORM!$Z61,\"\")","v":""},"",{"$f":"IF($A41=1,FORM!$V61,\"\")","v":""},{"$f":"IF($A41=1,FORM!$W61,\"\")","v":""},"","",{"$f":"IF($A41=1,FORM!$H61*100,\"\")","v":""},""]
[{"$f":"IF(FORM!D62=\"\",0,1)","v":0},{"$f":"IF($A42=1,FORM!$D62&\" \"&FORM!$E62&\" / \"&FORM!$F62&\" / [\"&FORM!$AP62&\"]\",\"\")","v":""},null,{"$f":"IF($A42=1,FORM!$U62,\"\")","v":""},{"$f":"IF($A42=1,FORM!$Y62,\"\")","v":""},{"$f":"IF($A42=1,FORM!$Z62,\"\")","v":""},"",{"$f":"IF($A42=1,FORM!$V62,\"\")","v":""},{"$f":"IF($A42=1,FORM!$W62,\"\")","v":""},"","",{"$f":"IF($A42=1,FORM!$H62*100,\"\")","v":""},""]
[{"$f":"IF(FORM!D63=\"\",0,1)","v":0},{"$f":"IF($A43=1,FORM!$D63&\" \"&FORM!$E63&\" / \"&FORM!$F63&\" / [\"&FORM!$AP63&\"]\",\"\")","v":""},null,{"$f":"IF($A43=1,FORM!$U63,\"\")","v":""},{"$f":"IF($A43=1,FORM!$Y63,\"\")","v":""},{"$f":"IF($A43=1,FORM!$Z63,\"\")","v":""},"",{"$f":"IF($A43=1,FORM!$V63,\"\")","v":""},{"$f":"IF($A43=1,FORM!$W63,\"\")","v":""},"","",{"$f":"IF($A43=1,FORM!$H63*100,\"\")","v":""},""]
[{"$f":"IF(FORM!D64=\"\",0,1)","v":0},{"$f":"IF($A44=1,FORM!$D64&\" \"&FORM!$E64&\" / \"&FORM!$F64&\" / [\"&FORM!$AP64&\"]\",\"\")","v":""},null,{"$f":"IF($A44=1,FORM!$U64,\"\")","v":""},{"$f":"IF($A44=1,FORM!$Y64,\"\")","v":""},{"$f":"IF($A44=1,FORM!$Z64,\"\")","v":""},"",{"$f":"IF($A44=1,FORM!$V64,\"\")","v":""},{"$f":"IF($A44=1,FORM!$W64,\"\")","v":""},"","",{"$f":"IF($A44=1,FORM!$H64*100,\"\")","v":""},""]
[{"$f":"IF(FORM!D65=\"\",0,1)","v":0},{"$f":"IF($A45=1,FORM!$D65&\" \"&FORM!$E65&\" / \"&FORM!$F65&\" / [\"&FORM!$AP65&\"]\",\"\")","v":""},null,{"$f":"IF($A45=1,FORM!$U65,\"\")","v":""},{"$f":"IF($A45=1,FORM!$Y65,\"\")","v":""},{"$f":"IF($A45=1,FORM!$Z65,\"\")","v":""},"",{"$f":"IF($A45=1,FORM!$V65,\"\")","v":""},{"$f":"IF($A45=1,FORM!$W65,\"\")","v":""},"",{"$f":"IF($A45=1,VLOOKUP($G45,$AK$2:$AL$24,2,FALSE),\"\")","v":""},{"$f":"IF($A45=1,FORM!$H65*100,\"\")","v":""},""]
[{"$f":"IF(FORM!D66=\"\",0,1)","v":0},{"$f":"IF($A46=1,FORM!$D66&\" \"&FORM!$E66&\" / \"&FORM!$F66&\" / [\"&FORM!$AP66&\"]\",\"\")","v":""},null,{"$f":"IF($A46=1,FORM!$U66,\"\")","v":""},{"$f":"IF($A46=1,FORM!$Y66,\"\")","v":""},{"$f":"IF($A46=1,FORM!$Z66,\"\")","v":""},"",{"$f":"IF($A46=1,FORM!$V66,\"\")","v":""},{"$f":"IF($A46=1,FORM!$W66,\"\")","v":""},"","",{"$f":"IF($A46=1,FORM!$H66*100,\"\")","v":""},""]
[{"$f":"IF(FORM!D67=\"\",0,1)","v":0},{"$f":"IF($A47=1,FORM!$D67&\" \"&FORM!$E67&\" / \"&FORM!$F67&\" / [\"&FORM!$AP67&\"]\",\"\")","v":""},null,{"$f":"IF($A47=1,FORM!$U67,\"\")","v":""},{"$f":"IF($A47=1,FORM!$Y67,\"\")","v":""},{"$f":"IF($A47=1,FORM!$Z67,\"\")","v":""},"",{"$f":"IF($A47=1,FORM!$V67,\"\")","v":""},{"$f":"IF($A47=1,FORM!$W67,\"\")","v":""},"","",{"$f":"IF($A47=1,FORM!$H67*100,\"\")","v":""},""]
[{"$f":"IF(FORM!D68=\"\",0,1)","v":0},{"$f":"IF($A48=1,FORM!$D68&\" \"&FORM!$E68&\" / \"&FORM!$F68&\" / [\"&FORM!$AP68&\"]\",\"\")","v":""},null,{"$f":"IF($A48=1,FORM!$U68,\"\")","v":""},{"$f":"IF($A48=1,FORM!$Y68,\"\")","v":""},{"$f":"IF($A48=1,FORM!$Z68,\"\")","v":""},"",{"$f":"IF($A48=1,FORM!$V68,\"\")","v":""},{"$f":"IF($A48=1,FORM!$W68,\"\")","v":""},"","",{"$f":"IF($A48=1,FORM!$H68*100,\"\")","v":""},""]
[{"$f":"IF(FORM!D69=\"\",0,1)","v":0},{"$f":"IF($A49=1,FORM!$D69&\" \"&FORM!$E69&\" / \"&FORM!$F69&\" / [\"&FORM!$AP69&\"]\",\"\")","v":""},null,{"$f":"IF($A49=1,FORM!$U69,\"\")","v":""},{"$f":"IF($A49=1,FORM!$Y69,\"\")","v":""},{"$f":"IF($A49=1,FORM!$Z69,\"\")","v":""},"",{"$f":"IF($A49=1,FORM!$V69,\"\")","v":""},{"$f":"IF($A49=1,FORM!$W69,\"\")","v":""},"","",{"$f":"IF($A49=1,FORM!$H69*100,\"\")","v":""},""]
[{"$f":"IF(FORM!D70=\"\",0,1)","v":0},{"$f":"IF($A50=1,FORM!$D70&\" \"&FORM!$E70&\" / \"&FORM!$F70&\" / [\"&FORM!$AP70&\"]\",\"\")","v":""},null,{"$f":"IF($A50=1,FORM!$U70,\"\")","v":""},{"$f":"IF($A50=1,FORM!$Y70,\"\")","v":""},{"$f":"IF($A50=1,FORM!$Z70,\"\")","v":""},"",{"$f":"IF($A50=1,FORM!$V70,\"\")","v":""},{"$f":"IF($A50=1,FORM!$W70,\"\")","v":""},"","",{"$f":"IF($A50=1,FORM!$H70*100,\"\")","v":""},""]
[{"$f":"IF(FORM!D71=\"\",0,1)","v":0},{"$f":"IF($A51=1,FORM!$D71&\" \"&FORM!$E71&\" / \"&FORM!$F71&\" / [\"&FORM!$AP71&\"]\",\"\")","v":""},null,{"$f":"IF($A51=1,FORM!$U71,\"\")","v":""},{"$f":"IF($A51=1,FORM!$Y71,\"\")","v":""},{"$f":"IF($A51=1,FORM!$Z71,\"\")","v":""},"",{"$f":"IF($A51=1,FORM!$V71,\"\")","v":""},{"$f":"IF($A51=1,FORM!$W71,\"\")","v":""},"","",{"$f":"IF($A51=1,FORM!$H71*100,\"\")","v":""},""]
[{"$f":"IF(FORM!D72=\"\",0,1)","v":0},{"$f":"IF($A52=1,FORM!$D72&\" \"&FORM!$E72&\" / \"&FORM!$F72&\" / [\"&FORM!$AP72&\"]\",\"\")","v":""},null,{"$f":"IF($A52=1,FORM!$U72,\"\")","v":""},{"$f":"IF($A52=1,FORM!$Y72,\"\")","v":""},{"$f":"IF($A52=1,FORM!$Z72,\"\")","v":""},"",{"$f":"IF($A52=1,FORM!$V72,\"\")","v":""},{"$f":"IF($A52=1,FORM!$W72,\"\")","v":""},"","",{"$f":"IF($A52=1,FORM!$H72*100,\"\")","v":""},""]
[{"$f":"IF(FORM!D73=\"\",0,1)","v":0},{"$f":"IF($A53=1,FORM!$D73&\" \"&FORM!$E73&\" / \"&FORM!$F73&\" / [\"&FORM!$AP73&\"]\",\"\")","v":""},null,{"$f":"IF($A53=1,FORM!$U73,\"\")","v":""},{"$f":"IF($A53=1,FORM!$Y73,\"\")","v":""},{"$f":"IF($A53=1,FORM!$Z73,\"\")","v":""},"",{"$f":"IF($A53=1,FORM!$V73,\"\")","v":""},{"$f":"IF($A53=1,FORM!$W73,\"\")","v":""},"","",{"$f":"IF($A53=1,FORM!$H73*100,\"\")","v":""},""]
[{"$f":"IF(FORM!D74=\"\",0,1)","v":0},{"$f":"IF($A54=1,FORM!$D74&\" \"&FORM!$E74&\" / \"&FORM!$F74&\" / [\"&FORM!$AP74&\"]\",\"\")","v":""},null,{"$f":"IF($A54=1,FORM!$U74,\"\")","v":""},{"$f":"IF($A54=1,FORM!$Y74,\"\")","v":""},{"$f":"IF($A54=1,FORM!$Z74,\"\")","v":""},"",{"$f":"IF($A54=1,FORM!$V74,\"\")","v":""},{"$f":"IF($A54=1,FORM!$W74,\"\")","v":""},"","",{"$f":"IF($A54=1,FORM!$H74*100,\"\")","v":""},""]
[{"$f":"IF(FORM!D75=\"\",0,1)","v":0},{"$f":"IF($A55=1,FORM!$D75&\" \"&FORM!$E75&\" / \"&FORM!$F75&\" / [\"&FORM!$AP75&\"]\",\"\")","v":""},null,{"$f":"IF($A55=1,FORM!$U75,\"\")","v":""},{"$f":"IF($A55=1,FORM!$Y75,\"\")","v":""},{"$f":"IF($A55=1,FORM!$Z75,\"\")","v":""},"",{"$f":"IF($A55=1,FORM!$V75,\"\")","v":""},{"$f":"IF($A55=1,FORM!$W75,\"\")","v":""},"","",{"$f":"IF($A55=1,FORM!$H75*100,\"\")","v":""},""]
[{"$f":"IF(FORM!D76=\"\",0,1)","v":0},{"$f":"IF($A56=1,FORM!$D76&\" \"&FORM!$E76&\" / \"&FORM!$F76&\" / [\"&FORM!$AP76&\"]\",\"\")","v":""},null,{"$f":"IF($A56=1,FORM!$U76,\"\")","v":""},{"$f":"IF($A56=1,FORM!$Y76,\"\")","v":""},{"$f":"IF($A56=1,FORM!$Z76,\"\")","v":""},"",{"$f":"IF($A56=1,FORM!$V76,\"\")","v":""},{"$f":"IF($A56=1,FORM!$W76,\"\")","v":""},"","",{"$f":"IF($A56=1,FORM!$H76*100,\"\")","v":""},""]
[{"$f":"IF(FORM!D77=\"\",0,1)","v":0},{"$f":"IF($A57=1,FORM!$D77&\" \"&FORM!$E77&\" / \"&FORM!$F77&\" / [\"&FORM!$AP77&\"]\",\"\")","v":""},null,{"$f":"IF($A57=1,FORM!$U77,\"\")","v":""},{"$f":"IF($A57=1,FORM!$Y77,\"\")","v":""},{"$f":"IF($A57=1,FORM!$Z77,\"\")","v":""},"",{"$f":"IF($A57=1,FORM!$V77,\"\")","v":""},{"$f":"IF($A57=1,FORM!$W77,\"\")","v":""},"","",{"$f":"IF($A57=1,FORM!$H77*100,\"\")","v":""},""]
[{"$f":"IF(FORM!D78=\"\",0,1)","v":0},{"$f":"IF($A58=1,FORM!$D78&\" \"&FORM!$E78&\" / \"&FORM!$F78&\" / [\"&FORM!$AP78&\"]\",\"\")","v":""},null,{"$f":"IF($A58=1,FORM!$U78,\"\")","v":""},{"$f":"IF($A58=1,FORM!$Y78,\"\")","v":""},{"$f":"IF($A58=1,FORM!$Z78,\"\")","v":""},"",{"$f":"IF($A58=1,FORM!$V78,\"\")","v":""},{"$f":"IF($A58=1,FORM!$W78,\"\")","v":""},"","",{"$f":"IF($A58=1,FORM!$H78*100,\"\")","v":""},""]
[{"$f":"IF(FORM!D79=\"\",0,1)","v":0},{"$f":"IF($A59=1,FORM!$D79&\" \"&FORM!$E79&\" / \"&FORM!$F79&\" / [\"&FORM!$AP79&\"]\",\"\")","v":""},null,{"$f":"IF($A59=1,FORM!$U79,\"\")","v":""},{"$f":"IF($A59=1,FORM!$Y79,\"\")","v":""},{"$f":"IF($A59=1,FORM!$Z79,\"\")","v":""},"",{"$f":"IF($A59=1,FORM!$V79,\"\")","v":""},{"$f":"IF($A59=1,FORM!$W79,\"\")","v":""},"","",{"$f":"IF($A59=1,FORM!$H79*100,\"\")","v":""},""]
[{"$f":"IF(FORM!D80=\"\",0,1)","v":0},{"$f":"IF($A60=1,FORM!$D80&\" \"&FORM!$E80&\" / \"&FORM!$F80&\" / [\"&FORM!$AP80&\"]\",\"\")","v":""},null,{"$f":"IF($A60=1,FORM!$U80,\"\")","v":""},{"$f":"IF($A60=1,FORM!$Y80,\"\")","v":""},{"$f":"IF($A60=1,FORM!$Z80,\"\")","v":""},"",{"$f":"IF($A60=1,FORM!$V80,\"\")","v":""},{"$f":"IF($A60=1,FORM!$W80,\"\")","v":""},"","",{"$f":"IF($A60=1,FORM!$H80*100,\"\")","v":""},""]
[{"$f":"IF(FORM!D81=\"\",0,1)","v":0},{"$f":"IF($A61=1,FORM!$D81&\" \"&FORM!$E81&\" / \"&FORM!$F81&\" / [\"&FORM!$AP81&\"]\",\"\")","v":""},null,{"$f":"IF($A61=1,FORM!$U81,\"\")","v":""},{"$f":"IF($A61=1,FORM!$Y81,\"\")","v":""},{"$f":"IF($A61=1,FORM!$Z81,\"\")","v":""},"",{"$f":"IF($A61=1,FORM!$V81,\"\")","v":""},{"$f":"IF($A61=1,FORM!$W81,\"\")","v":""},"","",{"$f":"IF($A61=1,FORM!$H81*100,\"\")","v":""},""]
[{"$f":"IF(FORM!D82=\"\",0,1)","v":0},{"$f":"IF($A62=1,FORM!$D82&\" \"&FORM!$E82&\" / \"&FORM!$F82&\" / [\"&FORM!$AP82&\"]\",\"\")","v":""},null,{"$f":"IF($A62=1,FORM!$U82,\"\")","v":""},{"$f":"IF($A62=1,FORM!$Y82,\"\")","v":""},{"$f":"IF($A62=1,FORM!$Z82,\"\")","v":""},"",{"$f":"IF($A62=1,FORM!$V82,\"\")","v":""},{"$f":"IF($A62=1,FORM!$W82,\"\")","v":""},"","",{"$f":"IF($A62=1,FORM!$H82*100,\"\")","v":""},""]
[{"$f":"IF(FORM!D83=\"\",0,1)","v":0},{"$f":"IF($A63=1,FORM!$D83&\" \"&FORM!$E83&\" / \"&FORM!$F83&\" / [\"&FORM!$AP83&\"]\",\"\")","v":""},null,{"$f":"IF($A63=1,FORM!$U83,\"\")","v":""},{"$f":"IF($A63=1,FORM!$Y83,\"\")","v":""},{"$f":"IF($A63=1,FORM!$Z83,\"\")","v":""},"",{"$f":"IF($A63=1,FORM!$V83,\"\")","v":""},{"$f":"IF($A63=1,FORM!$W83,\"\")","v":""},"","",{"$f":"IF($A63=1,FORM!$H83*100,\"\")","v":""},""]
[{"$f":"IF(FORM!D84=\"\",0,1)","v":0},{"$f":"IF($A64=1,FORM!$D84&\" \"&FORM!$E84&\" / \"&FORM!$F84&\" / [\"&FORM!$AP84&\"]\",\"\")","v":""},null,{"$f":"IF($A64=1,FORM!$U84,\"\")","v":""},{"$f":"IF($A64=1,FORM!$Y84,\"\")","v":""},{"$f":"IF($A64=1,FORM!$Z84,\"\")","v":""},"",{"$f":"IF($A64=1,FORM!$V84,\"\")","v":""},{"$f":"IF($A64=1,FORM!$W84,\"\")","v":""},"","",{"$f":"IF($A64=1,FORM!$H84*100,\"\")","v":""},""]
[{"$f":"IF(FORM!D85=\"\",0,1)","v":0},{"$f":"IF($A65=1,FORM!$D85&\" \"&FORM!$E85&\" / \"&FORM!$F85&\" / [\"&FORM!$AP85&\"]\",\"\")","v":""},null,{"$f":"IF($A65=1,FORM!$U85,\"\")","v":""},{"$f":"IF($A65=1,FORM!$Y85,\"\")","v":""},{"$f":"IF($A65=1,FORM!$Z85,\"\")","v":""},"",{"$f":"IF($A65=1,FORM!$V85,\"\")","v":""},{"$f":"IF($A65=1,FORM!$W85,\"\")","v":""},"","",{"$f":"IF($A65=1,FORM!$H85*100,\"\")","v":""},""]
[{"$f":"IF(FORM!D86=\"\",0,1)","v":0},{"$f":"IF($A66=1,FORM!$D86&\" \"&FORM!$E86&\" / \"&FORM!$F86&\" / [\"&FORM!$AP86&\"]\",\"\")","v":""},null,{"$f":"IF($A66=1,FORM!$U86,\"\")","v":""},{"$f":"IF($A66=1,FORM!$Y86,\"\")","v":""},{"$f":"IF($A66=1,FORM!$Z86,\"\")","v":""},"",{"$f":"IF($A66=1,FORM!$V86,\"\")","v":""},{"$f":"IF($A66=1,FORM!$W86,\"\")","v":""},"","",{"$f":"IF($A66=1,FORM!$H86*100,\"\")","v":""},""]
[{"$f":"IF(FORM!D87=\"\",0,1)","v":0},{"$f":"IF($A67=1,FORM!$D87&\" \"&FORM!$E87&\" / \"&FORM!$F87&\" / [\"&FORM!$AP87&\"]\",\"\")","v":""},null,{"$f":"IF($A67=1,FORM!$U87,\"\")","v":""},{"$f":"IF($A67=1,FORM!$Y87,\"\")","v":""},{"$f":"IF($A67=1,FORM!$Z87,\"\")","v":""},"",{"$f":"IF($A67=1,FORM!$V87,\"\")","v":""},{"$f":"IF($A67=1,FORM!$W87,\"\")","v":""},"","",{"$f":"IF($A67=1,FORM!$H87*100,\"\")","v":""},""]
[{"$f":"IF(FORM!D88=\"\",0,1)","v":0},{"$f":"IF($A68=1,FORM!$D88&\" \"&FORM!$E88&\" / \"&FORM!$F88&\" / [\"&FORM!$AP88&\"]\",\"\")","v":""},null,{"$f":"IF($A68=1,FORM!$U88,\"\")","v":""},{"$f":"IF($A68=1,FORM!$Y88,\"\")","v":""},{"$f":"IF($A68=1,FORM!$Z88,\"\")","v":""},"",{"$f":"IF($A68=1,FORM!$V88,\"\")","v":""},{"$f":"IF($A68=1,FORM!$W88,\"\")","v":""},"","",{"$f":"IF($A68=1,FORM!$H88*100,\"\")","v":""},""]
[{"$f":"IF(FORM!D89=\"\",0,1)","v":0},{"$f":"IF($A69=1,FORM!$D89&\" \"&FORM!$E89&\" / \"&FORM!$F89&\" / [\"&FORM!$AP89&\"]\",\"\")","v":""},null,{"$f":"IF($A69=1,FORM!$U89,\"\")","v":""},{"$f":"IF($A69=1,FORM!$Y89,\"\")","v":""},{"$f":"IF($A69=1,FORM!$Z89,\"\")","v":""},"",{"$f":"IF($A69=1,FORM!$V89,\"\")","v":""},{"$f":"IF($A69=1,FORM!$W89,\"\")","v":""},"","",{"$f":"IF($A69=1,FORM!$H89*100,\"\")","v":""},""]
[{"$f":"IF(FORM!D90=\"\",0,1)","v":0},{"$f":"IF($A70=1,FORM!$D90&\" \"&FORM!$E90&\" / \"&FORM!$F90&\" / [\"&FORM!$AP90&\"]\",\"\")","v":""},null,{"$f":"IF($A70=1,FORM!$U90,\"\")","v":""},{"$f":"IF($A70=1,FORM!$Y90,\"\")","v":""},{"$f":"IF($A70=1,FORM!$Z90,\"\")","v":""},"",{"$f":"IF($A70=1,FORM!$V90,\"\")","v":""},{"$f":"IF($A70=1,FORM!$W90,\"\")","v":""},"","",{"$f":"IF($A70=1,FORM!$H90*100,\"\")","v":""},""]
[{"$f":"IF(FORM!D91=\"\",0,1)","v":0},{"$f":"IF($A71=1,FORM!$D91&\" \"&FORM!$E91&\" / \"&FORM!$F91&\" / [\"&FORM!$AP91&\"]\",\"\")","v":""},null,{"$f":"IF($A71=1,FORM!$U91,\"\")","v":""},{"$f":"IF($A71=1,FORM!$Y91,\"\")","v":""},{"$f":"IF($A71=1,FORM!$Z91,\"\")","v":""},"",{"$f":"IF($A71=1,FORM!$V91,\"\")","v":""},{"$f":"IF($A71=1,FORM!$W91,\"\")","v":""},"","",{"$f":"IF($A71=1,FORM!$H91*100,\"\")","v":""},""]
[{"$f":"IF(FORM!D92=\"\",0,1)","v":0},{"$f":"IF($A72=1,FORM!$D92&\" \"&FORM!$E92&\" / \"&FORM!$F92&\" / [\"&FORM!$AP92&\"]\",\"\")","v":""},null,{"$f":"IF($A72=1,FORM!$U92,\"\")","v":""},{"$f":"IF($A72=1,FORM!$Y92,\"\")","v":""},{"$f":"IF($A72=1,FORM!$Z92,\"\")","v":""},"",{"$f":"IF($A72=1,FORM!$V92,\"\")","v":""},{"$f":"IF($A72=1,FORM!$W92,\"\")","v":""},"","",{"$f":"IF($A72=1,FORM!$H92*100,\"\")","v":""},""]
[{"$f":"IF(FORM!D93=\"\",0,1)","v":0},{"$f":"IF($A73=1,FORM!$D93&\" \"&FORM!$E93&\" / \"&FORM!$F93&\" / [\"&FORM!$AP93&\"]\",\"\")","v":""},null,{"$f":"IF($A73=1,FORM!$U93,\"\")","v":""},{"$f":"IF($A73=1,FORM!$Y93,\"\")","v":""},{"$f":"IF($A73=1,FORM!$Z93,\"\")","v":""},"",{"$f":"IF($A73=1,FORM!$V93,\"\")","v":""},{"$f":"IF($A73=1,FORM!$W93,\"\")","v":""},"","",{"$f":"IF($A73=1,FORM!$H93*100,\"\")","v":""},""]
[{"$f":"IF(FORM!D94=\"\",0,1)","v":0},{"$f":"IF($A74=1,FORM!$D94&\" \"&FORM!$E94&\" / \"&FORM!$F94&\" / [\"&FORM!$AP94&\"]\",\"\")","v":""},null,{"$f":"IF($A74=1,FORM!$U94,\"\")","v":""},{"$f":"IF($A74=1,FORM!$Y94,\"\")","v":""},{"$f":"IF($A74=1,FORM!$Z94,\"\")","v":""},"",{"$f":"IF($A74=1,FORM!$V94,\"\")","v":""},{"$f":"IF($A74=1,FORM!$W94,\"\")","v":""},"","",{"$f":"IF($A74=1,FORM!$H94*100,\"\")","v":""},""]
[{"$f":"IF(FORM!D95=\"\",0,1)","v":0},{"$f":"IF($A75=1,FORM!$D95&\" \"&FORM!$E95&\" / \"&FORM!$F95&\" / [\"&FORM!$AP95&\"]\",\"\")","v":""},null,{"$f":"IF($A75=1,FORM!$U95,\"\")","v":""},{"$f":"IF($A75=1,FORM!$Y95,\"\")","v":""},{"$f":"IF($A75=1,FORM!$Z95,\"\")","v":""},"",{"$f":"IF($A75=1,FORM!$V95,\"\")","v":""},{"$f":"IF($A75=1,FORM!$W95,\"\")","v":""},"","",{"$f":"IF($A75=1,FORM!$H95*100,\"\")","v":""},""]
[{"$f":"IF(FORM!D96=\"\",0,1)","v":0},{"$f":"IF($A76=1,FORM!$D96&\" \"&FORM!$E96&\" / \"&FORM!$F96&\" / [\"&FORM!$AP96&\"]\",\"\")","v":""},null,{"$f":"IF($A76=1,FORM!$U96,\"\")","v":""},{"$f":"IF($A76=1,FORM!$Y96,\"\")","v":""},{"$f":"IF($A76=1,FORM!$Z96,\"\")","v":""},"",{"$f":"IF($A76=1,FORM!$V96,\"\")","v":""},{"$f":"IF($A76=1,FORM!$W96,\"\")","v":""},"","",{"$f":"IF($A76=1,FORM!$H96*100,\"\")","v":""},""]
[{"$f":"IF(FORM!D97=\"\",0,1)","v":0},{"$f":"IF($A77=1,FORM!$D97&\" \"&FORM!$E97&\" / \"&FORM!$F97&\" / [\"&FORM!$AP97&\"]\",\"\")","v":""},null,{"$f":"IF($A77=1,FORM!$U97,\"\")","v":""},{"$f":"IF($A77=1,FORM!$Y97,\"\")","v":""},{"$f":"IF($A77=1,FORM!$Z97,\"\")","v":""},"",{"$f":"IF($A77=1,FORM!$V97,\"\")","v":""},{"$f":"IF($A77=1,FORM!$W97,\"\")","v":""},"",{"$f":"IF($A77=1,VLOOKUP($G77,$AK$2:$AL$24,2,FALSE),\"\")","v":""},{"$f":"IF($A77=1,FORM!$H97*100,\"\")","v":""},""]
[{"$f":"IF(FORM!D98=\"\",0,1)","v":0},{"$f":"IF($A78=1,FORM!$D98&\" \"&FORM!$E98&\" / \"&FORM!$F98&\" / [\"&FORM!$AP98&\"]\",\"\")","v":""},null,{"$f":"IF($A78=1,FORM!$U98,\"\")","v":""},{"$f":"IF($A78=1,FORM!$Y98,\"\")","v":""},{"$f":"IF($A78=1,FORM!$Z98,\"\")","v":""},{"$f":"IF($A78=1,$D78&\" \"&$E78&\" \"&$F78,\"\")","v":""},{"$f":"IF($A78=1,FORM!$V98,\"\")","v":""},{"$f":"IF($A78=1,FORM!$W98,\"\")","v":""},{"$f":"IF($A78=1,$I78-$H78,\"\")","v":""},"",{"$f":"IF($A78=1,FORM!$H98*100,\"\")","v":""},{"$f":"IF($A78=1,(($J78*$K78)+$L78),\"\")","v":""}]
[{"$f":"IF(FORM!D99=\"\",0,1)","v":0},{"$f":"IF($A79=1,FORM!$D99&\" \"&FORM!$E99&\" / \"&FORM!$F99&\" / [\"&FORM!$AP99&\"]\",\"\")","v":""},null,{"$f":"IF($A79=1,FORM!$U99,\"\")","v":""},{"$f":"IF($A79=1,FORM!$Y99,\"\")","v":""},{"$f":"IF($A79=1,FORM!$Z99,\"\")","v":""},"",{"$f":"IF($A79=1,FORM!$V99,\"\")","v":""},{"$f":"IF($A79=1,FORM!$W99,\"\")","v":""},"","",{"$f":"IF($A79=1,FORM!$H99*100,\"\")","v":""},""]
[{"$f":"IF(FORM!D100=\"\",0,1)","v":0},{"$f":"IF($A80=1,FORM!$D100&\" \"&FORM!$E100&\" / \"&FORM!$F100&\" / [\"&FORM!$AP100&\"]\",\"\")","v":""},null,{"$f":"IF($A80=1,FORM!$U100,\"\")","v":""},{"$f":"IF($A80=1,FORM!$Y100,\"\")","v":""},{"$f":"IF($A80=1,FORM!$Z100,\"\")","v":""},"",{"$f":"IF($A80=1,FORM!$V100,\"\")","v":""},{"$f":"IF($A80=1,FORM!$W100,\"\")","v":""},"","",{"$f":"IF($A80=1,FORM!$H100*100,\"\")","v":""},""]
[{"$f":"IF(FORM!D101=\"\",0,1)","v":0},{"$f":"IF($A81=1,FORM!$D101&\" \"&FORM!$E101&\" / \"&FORM!$F101&\" / [\"&FORM!$AP101&\"]\",\"\")","v":""},null,{"$f":"IF($A81=1,FORM!$U101,\"\")","v":""},{"$f":"IF($A81=1,FORM!$Y101,\"\")","v":""},{"$f":"IF($A81=1,FORM!$Z101,\"\")","v":""},"",{"$f":"IF($A81=1,FORM!$V101,\"\")","v":""},{"$f":"IF($A81=1,FORM!$W101,\"\")","v":""},"","",{"$f":"IF($A81=1,FORM!$H101*100,\"\")","v":""},""]
[{"$f":"IF(FORM!D102=\"\",0,1)","v":0},{"$f":"IF($A82=1,FORM!$D102&\" \"&FORM!$E102&\" / \"&FORM!$F102&\" / [\"&FORM!$AP102&\"]\",\"\")","v":""},null,{"$f":"IF($A82=1,FORM!$U102,\"\")","v":""},{"$f":"IF($A82=1,FORM!$Y102,\"\")","v":""},{"$f":"IF($A82=1,FORM!$Z102,\"\")","v":""},"",{"$f":"IF($A82=1,FORM!$V102,\"\")","v":""},{"$f":"IF($A82=1,FORM!$W102,\"\")","v":""},"","",{"$f":"IF($A82=1,FORM!$H102*100,\"\")","v":""},""]
[{"$f":"IF(FORM!D103=\"\",0,1)","v":0},{"$f":"IF($A83=1,FORM!$D103&\" \"&FORM!$E103&\" / \"&FORM!$F103&\" / [\"&FORM!$AP103&\"]\",\"\")","v":""},null,{"$f":"IF($A83=1,FORM!$U103,\"\")","v":""},{"$f":"IF($A83=1,FORM!$Y103,\"\")","v":""},{"$f":"IF($A83=1,FORM!$Z103,\"\")","v":""},"",{"$f":"IF($A83=1,FORM!$V103,\"\")","v":""},{"$f":"IF($A83=1,FORM!$W103,\"\")","v":""},"","",{"$f":"IF($A83=1,FORM!$H103*100,\"\")","v":""},""]
[{"$f":"IF(FORM!D104=\"\",0,1)","v":0},{"$f":"IF($A84=1,FORM!$D104&\" \"&FORM!$E104&\" / \"&FORM!$F104&\" / [\"&FORM!$AP104&\"]\",\"\")","v":""},null,{"$f":"IF($A84=1,FORM!$U104,\"\")","v":""},{"$f":"IF($A84=1,FORM!$Y104,\"\")","v":""},{"$f":"IF($A84=1,FORM!$Z104,\"\")","v":""},"",{"$f":"IF($A84=1,FORM!$V104,\"\")","v":""},{"$f":"IF($A84=1,FORM!$W104,\"\")","v":""},"","",{"$f":"IF($A84=1,FORM!$H104*100,\"\")","v":""},""]
[{"$f":"IF(FORM!D105=\"\",0,1)","v":0},{"$f":"IF($A85=1,FORM!$D105&\" \"&FORM!$E105&\" / \"&FORM!$F105&\" / [\"&FORM!$AP105&\"]\",\"\")","v":""},null,{"$f":"IF($A85=1,FORM!$U105,\"\")","v":""},{"$f":"IF($A85=1,FORM!$Y105,\"\")","v":""},{"$f":"IF($A85=1,FORM!$Z105,\"\")","v":""},"",{"$f":"IF($A85=1,FORM!$V105,\"\")","v":""},{"$f":"IF($A85=1,FORM!$W105,\"\")","v":""},"","",{"$f":"IF($A85=1,FORM!$H105*100,\"\")","v":""},""]
[{"$f":"IF(FORM!D106=\"\",0,1)","v":0},{"$f":"IF($A86=1,FORM!$D106&\" \"&FORM!$E106&\" / \"&FORM!$F106&\" / [\"&FORM!$AP106&\"]\",\"\")","v":""},null,{"$f":"IF($A86=1,FORM!$U106,\"\")","v":""},{"$f":"IF($A86=1,FORM!$Y106,\"\")","v":""},{"$f":"IF($A86=1,FORM!$Z106,\"\")","v":""},"",{"$f":"IF($A86=1,FORM!$V106,\"\")","v":""},{"$f":"IF($A86=1,FORM!$W106,\"\")","v":""},"","",{"$f":"IF($A86=1,FORM!$H106*100,\"\")","v":""},""]
[{"$f":"IF(FORM!D107=\"\",0,1)","v":0},{"$f":"IF($A87=1,FORM!$D107&\" \"&FORM!$E107&\" / \"&FORM!$F107&\" / [\"&FORM!$AP107&\"]\",\"\")","v":""},null,{"$f":"IF($A87=1,FORM!$U107,\"\")","v":""},{"$f":"IF($A87=1,FORM!$Y107,\"\")","v":""},{"$f":"IF($A87=1,FORM!$Z107,\"\")","v":""},"",{"$f":"IF($A87=1,FORM!$V107,\"\")","v":""},{"$f":"IF($A87=1,FORM!$W107,\"\")","v":""},"","",{"$f":"IF($A87=1,FORM!$H107*100,\"\")","v":""},""]
[{"$f":"IF(FORM!D108=\"\",0,1)","v":0},{"$f":"IF($A88=1,FORM!$D108&\" \"&FORM!$E108&\" / \"&FORM!$F108&\" / [\"&FORM!$AP108&\"]\",\"\")","v":""},null,{"$f":"IF($A88=1,FORM!$U108,\"\")","v":""},{"$f":"IF($A88=1,FORM!$Y108,\"\")","v":""},{"$f":"IF($A88=1,FORM!$Z108,\"\")","v":""},"",{"$f":"IF($A88=1,FORM!$V108,\"\")","v":""},{"$f":"IF($A88=1,FORM!$W108,\"\")","v":""},"","",{"$f":"IF($A88=1,FORM!$H108*100,\"\")","v":""},""]
[{"$f":"IF(FORM!D109=\"\",0,1)","v":0},{"$f":"IF($A89=1,FORM!$D109&\" \"&FORM!$E109&\" / \"&FORM!$F109&\" / [\"&FORM!$AP109&\"]\",\"\")","v":""},null,{"$f":"IF($A89=1,FORM!$U109,\"\")","v":""},{"$f":"IF($A89=1,FORM!$Y109,\"\")","v":""},{"$f":"IF($A89=1,FORM!$Z109,\"\")","v":""},"",{"$f":"IF($A89=1,FORM!$V109,\"\")","v":""},{"$f":"IF($A89=1,FORM!$W109,\"\")","v":""},"","",{"$f":"IF($A89=1,FORM!$H109*100,\"\")","v":""},""]
[{"$f":"IF(FORM!D110=\"\",0,1)","v":0},{"$f":"IF($A90=1,FORM!$D110&\" \"&FORM!$E110&\" / \"&FORM!$F110&\" / [\"&FORM!$AP110&\"]\",\"\")","v":""},null,{"$f":"IF($A90=1,FORM!$U110,\"\")","v":""},{"$f":"IF($A90=1,FORM!$Y110,\"\")","v":""},{"$f":"IF($A90=1,FORM!$Z110,\"\")","v":""},"",{"$f":"IF($A90=1,FORM!$V110,\"\")","v":""},{"$f":"IF($A90=1,FORM!$W110,\"\")","v":""},"","",{"$f":"IF($A90=1,FORM!$H110*100,\"\")","v":""},""]
[{"$f":"IF(FORM!D111=\"\",0,1)","v":0},{"$f":"IF($A91=1,FORM!$D111&\" \"&FORM!$E111&\" / \"&FORM!$F111&\" / [\"&FORM!$AP111&\"]\",\"\")","v":""},null,{"$f":"IF($A91=1,FORM!$U111,\"\")","v":""},{"$f":"IF($A91=1,FORM!$Y111,\"\")","v":""},{"$f":"IF($A91=1,FORM!$Z111,\"\")","v":""},"",{"$f":"IF($A91=1,FORM!$V111,\"\")","v":""},{"$f":"IF($A91=1,FORM!$W111,\"\")","v":""},"","",{"$f":"IF($A91=1,FORM!$H111*100,\"\")","v":""},""]
[{"$f":"IF(FORM!D112=\"\",0,1)","v":0},{"$f":"IF($A92=1,FORM!$D112&\" \"&FORM!$E112&\" / \"&FORM!$F112&\" / [\"&FORM!$AP112&\"]\",\"\")","v":""},null,{"$f":"IF($A92=1,FORM!$U112,\"\")","v":""},{"$f":"IF($A92=1,FORM!$Y112,\"\")","v":""},{"$f":"IF($A92=1,FORM!$Z112,\"\")","v":""},"",{"$f":"IF($A92=1,FORM!$V112,\"\")","v":""},{"$f":"IF($A92=1,FORM!$W112,\"\")","v":""},"","",{"$f":"IF($A92=1,FORM!$H112*100,\"\")","v":""},""]
[{"$f":"IF(FORM!D113=\"\",0,1)","v":0},{"$f":"IF($A93=1,FORM!$D113&\" \"&FORM!$E113&\" / \"&FORM!$F113&\" / [\"&FORM!$AP113&\"]\",\"\")","v":""},null,{"$f":"IF($A93=1,FORM!$U113,\"\")","v":""},{"$f":"IF($A93=1,FORM!$Y113,\"\")","v":""},{"$f":"IF($A93=1,FORM!$Z113,\"\")","v":""},"",{"$f":"IF($A93=1,FORM!$V113,\"\")","v":""},{"$f":"IF($A93=1,FORM!$W113,\"\")","v":""},"","",{"$f":"IF($A93=1,FORM!$H113*100,\"\")","v":""},""]
[{"$f":"IF(FORM!D114=\"\",0,1)","v":0},{"$f":"IF($A94=1,FORM!$D114&\" \"&FORM!$E114&\" / \"&FORM!$F114&\" / [\"&FORM!$AP114&\"]\",\"\")","v":""},null,{"$f":"IF($A94=1,FORM!$U114,\"\")","v":""},{"$f":"IF($A94=1,FORM!$Y114,\"\")","v":""},{"$f":"IF($A94=1,FORM!$Z114,\"\")","v":""},"",{"$f":"IF($A94=1,FORM!$V114,\"\")","v":""},{"$f":"IF($A94=1,FORM!$W114,\"\")","v":""},"","",{"$f":"IF($A94=1,FORM!$H114*100,\"\")","v":""},""]
[{"$f":"IF(FORM!D115=\"\",0,1)","v":0},{"$f":"IF($A95=1,FORM!$D115&\" \"&FORM!$E115&\" / \"&FORM!$F115&\" / [\"&FORM!$AP115&\"]\",\"\")","v":""},null,{"$f":"IF($A95=1,FORM!$U115,\"\")","v":""},{"$f":"IF($A95=1,FORM!$Y115,\"\")","v":""},{"$f":"IF($A95=1,FORM!$Z115,\"\")","v":""},"",{"$f":"IF($A95=1,FORM!$V115,\"\")","v":""},{"$f":"IF($A95=1,FORM!$W115,\"\")","v":""},"","",{"$f":"IF($A95=1,FORM!$H115*100,\"\")","v":""},""]
[{"$f":"IF(FORM!D116=\"\",0,1)","v":0},{"$f":"IF($A96=1,FORM!$D116&\" \"&FORM!$E116&\" / \"&FORM!$F116&\" / [\"&FORM!$AP116&\"]\",\"\")","v":""},null,{"$f":"IF($A96=1,FORM!$U116,\"\")","v":""},{"$f":"IF($A96=1,FORM!$Y116,\"\")","v":""},{"$f":"IF($A96=1,FORM!$Z116,\"\")","v":""},"",{"$f":"IF($A96=1,FORM!$V116,\"\")","v":""},{"$f":"IF($A96=1,FORM!$W116,\"\")","v":""},"","",{"$f":"IF($A96=1,FORM!$H116*100,\"\")","v":""},""]
[{"$f":"IF(FORM!D117=\"\",0,1)","v":0},{"$f":"IF($A97=1,FORM!$D117&\" \"&FORM!$E117&\" / \"&FORM!$F117&\" / [\"&FORM!$AP117&\"]\",\"\")","v":""},null,{"$f":"IF($A97=1,FORM!$U117,\"\")","v":""},{"$f":"IF($A97=1,FORM!$Y117,\"\")","v":""},{"$f":"IF($A97=1,FORM!$Z117,\"\")","v":""},"",{"$f":"IF($A97=1,FORM!$V117,\"\")","v":""},{"$f":"IF($A97=1,FORM!$W117,\"\")","v":""},"","",{"$f":"IF($A97=1,FORM!$H117*100,\"\")","v":""},""]
[{"$f":"IF(FORM!D118=\"\",0,1)","v":0},{"$f":"IF($A98=1,FORM!$D118&\" \"&FORM!$E118&\" / \"&FORM!$F118&\" / [\"&FORM!$AP118&\"]\",\"\")","v":""},null,{"$f":"IF($A98=1,FORM!$U118,\"\")","v":""},{"$f":"IF($A98=1,FORM!$Y118,\"\")","v":""},{"$f":"IF($A98=1,FORM!$Z118,\"\")","v":""},"",{"$f":"IF($A98=1,FORM!$V118,\"\")","v":""},{"$f":"IF($A98=1,FORM!$W118,\"\")","v":""},"","",{"$f":"IF($A98=1,FORM!$H118*100,\"\")","v":""},""]
[{"$f":"IF(FORM!D119=\"\",0,1)","v":0},{"$f":"IF($A99=1,FORM!$D119&\" \"&FORM!$E119&\" / \"&FORM!$F119&\" / [\"&FORM!$AP119&\"]\",\"\")","v":""},null,{"$f":"IF($A99=1,FORM!$U119,\"\")","v":""},{"$f":"IF($A99=1,FORM!$Y119,\"\")","v":""},{"$f":"IF($A99=1,FORM!$Z119,\"\")","v":""},"",{"$f":"IF($A99=1,FORM!$V119,\"\")","v":""},{"$f":"IF($A99=1,FORM!$W119,\"\")","v":""},"","",{"$f":"IF($A99=1,FORM!$H119*100,\"\")","v":""},""]
[{"$f":"IF(FORM!D120=\"\",0,1)","v":0},{"$f":"IF($A100=1,FORM!$D120&\" \"&FORM!$E120&\" / \"&FORM!$F120&\" / [\"&FORM!$AP120&\"]\",\"\")","v":""},null,{"$f":"IF($A100=1,FORM!$U120,\"\")","v":""},{"$f":"IF($A100=1,FORM!$Y120,\"\")","v":""},{"$f":"IF($A100=1,FORM!$Z120,\"\")","v":""},"",{"$f":"IF($A100=1,FORM!$V120,\"\")","v":""},{"$f":"IF($A100=1,FORM!$W120,\"\")","v":""},"","",{"$f":"IF($A100=1,FORM!$H120*100,\"\")","v":""},""]
[{"$f":"IF(FORM!D121=\"\",0,1)","v":0},{"$f":"IF($A101=1,FORM!$D121&\" \"&FORM!$E121&\" / \"&FORM!$F121&\" / [\"&FORM!$AP121&\"]\",\"\")","v":""},null,{"$f":"IF($A101=1,FORM!$U121,\"\")","v":""},{"$f":"IF($A101=1,FORM!$Y121,\"\")","v":""},{"$f":"IF($A101=1,FORM!$Z121,\"\")","v":""},"",{"$f":"IF($A101=1,FORM!$V121,\"\")","v":""},{"$f":"IF($A101=1,FORM!$W121,\"\")","v":""},"","",{"$f":"IF($A101=1,FORM!$H121*100,\"\")","v":""},""]
[{"$f":"IF(FORM!D122=\"\",0,1)","v":0},{"$f":"IF($A102=1,FORM!$D122&\" \"&FORM!$E122&\" / \"&FORM!$F122&\" / [\"&FORM!$AP122&\"]\",\"\")","v":""},null,{"$f":"IF($A102=1,FORM!$U122,\"\")","v":""},{"$f":"IF($A102=1,FORM!$Y122,\"\")","v":""},{"$f":"IF($A102=1,FORM!$Z122,\"\")","v":""},"",{"$f":"IF($A102=1,FORM!$V122,\"\")","v":""},{"$f":"IF($A102=1,FORM!$W122,\"\")","v":""},"","",{"$f":"IF($A102=1,FORM!$H122*100,\"\")","v":""},""]
[{"$f":"IF(FORM!D123=\"\",0,1)","v":0},{"$f":"IF($A103=1,FORM!$D123&\" \"&FORM!$E123&\" / \"&FORM!$F123&\" / [\"&FORM!$AP123&\"]\",\"\")","v":""},null,{"$f":"IF($A103=1,FORM!$U123,\"\")","v":""},{"$f":"IF($A103=1,FORM!$Y123,\"\")","v":""},{"$f":"IF($A103=1,FORM!$Z123,\"\")","v":""},"",{"$f":"IF($A103=1,FORM!$V123,\"\")","v":""},{"$f":"IF($A103=1,FORM!$W123,\"\")","v":""},"","",{"$f":"IF($A103=1,FORM!$H123*100,\"\")","v":""},""]
[{"$f":"IF(FORM!D124=\"\",0,1)","v":0},{"$f":"IF($A104=1,FORM!$D124&\" \"&FORM!$E124&\" / \"&FORM!$F124&\" / [\"&FORM!$AP124&\"]\",\"\")","v":""},null,{"$f":"IF($A104=1,FORM!$U124,\"\")","v":""},{"$f":"IF($A104=1,FORM!$Y124,\"\")","v":""},{"$f":"IF($A104=1,FORM!$Z124,\"\")","v":""},"",{"$f":"IF($A104=1,FORM!$V124,\"\")","v":""},{"$f":"IF($A104=1,FORM!$W124,\"\")","v":""},"","",{"$f":"IF($A104=1,FORM!$H124*100,\"\")","v":""},""]
[{"$f":"IF(FORM!D125=\"\",0,1)","v":0},{"$f":"IF($A105=1,FORM!$D125&\" \"&FORM!$E125&\" / \"&FORM!$F125&\" / [\"&FORM!$AP125&\"]\",\"\")","v":""},null,{"$f":"IF($A105=1,FORM!$U125,\"\")","v":""},{"$f":"IF($A105=1,FORM!$Y125,\"\")","v":""},{"$f":"IF($A105=1,FORM!$Z125,\"\")","v":""},"",{"$f":"IF($A105=1,FORM!$V125,\"\")","v":""},{"$f":"IF($A105=1,FORM!$W125,\"\")","v":""},"","",{"$f":"IF($A105=1,FORM!$H125*100,\"\")","v":""},""]
[{"$f":"IF(FORM!D126=\"\",0,1)","v":0},{"$f":"IF($A106=1,FORM!$D126&\" \"&FORM!$E126&\" / \"&FORM!$F126&\" / [\"&FORM!$AP126&\"]\",\"\")","v":""},null,{"$f":"IF($A106=1,FORM!$U126,\"\")","v":""},{"$f":"IF($A106=1,FORM!$Y126,\"\")","v":""},{"$f":"IF($A106=1,FORM!$Z126,\"\")","v":""},"",{"$f":"IF($A106=1,FORM!$V126,\"\")","v":""},{"$f":"IF($A106=1,FORM!$W126,\"\")","v":""},"","",{"$f":"IF($A106=1,FORM!$H126*100,\"\")","v":""},""]
[{"$f":"IF(FORM!D127=\"\",0,1)","v":0},{"$f":"IF($A107=1,FORM!$D127&\" \"&FORM!$E127&\" / \"&FORM!$F127&\" / [\"&FORM!$AP127&\"]\",\"\")","v":""},null,{"$f":"IF($A107=1,FORM!$U127,\"\")","v":""},{"$f":"IF($A107=1,FORM!$Y127,\"\")","v":""},{"$f":"IF($A107=1,FORM!$Z127,\"\")","v":""},"",{"$f":"IF($A107=1,FORM!$V127,\"\")","v":""},{"$f":"IF($A107=1,FORM!$W127,\"\")","v":""},"","",{"$f":"IF($A107=1,FORM!$H127*100,\"\")","v":""},""]
[{"$f":"IF(FORM!D128=\"\",0,1)","v":0},{"$f":"IF($A108=1,FORM!$D128&\" \"&FORM!$E128&\" / \"&FORM!$F128&\" / [\"&FORM!$AP128&\"]\",\"\")","v":""},null,{"$f":"IF($A108=1,FORM!$U128,\"\")","v":""},{"$f":"IF($A108=1,FORM!$Y128,\"\")","v":""},{"$f":"IF($A108=1,FORM!$Z128,\"\")","v":""},"",{"$f":"IF($A108=1,FORM!$V128,\"\")","v":""},{"$f":"IF($A108=1,FORM!$W128,\"\")","v":""},"","",{"$f":"IF($A108=1,FORM!$H128*100,\"\")","v":""},""]
[{"$f":"IF(FORM!D129=\"\",0,1)","v":0},{"$f":"IF($A109=1,FORM!$D129&\" \"&FORM!$E129&\" / \"&FORM!$F129&\" / [\"&FORM!$AP129&\"]\",\"\")","v":""},null,{"$f":"IF($A109=1,FORM!$U129,\"\")","v":""},{"$f":"IF($A109=1,FORM!$Y129,\"\")","v":""},{"$f":"IF($A109=1,FORM!$Z129,\"\")","v":""},"",{"$f":"IF($A109=1,FORM!$V129,\"\")","v":""},{"$f":"IF($A109=1,FORM!$W129,\"\")","v":""},"","",{"$f":"IF($A109=1,FORM!$H129*100,\"\")","v":""},""]
[{"$f":"IF(FORM!D130=\"\",0,1)","v":0},{"$f":"IF($A110=1,FORM!$D130&\" \"&FORM!$E130&\" / \"&FORM!$F130&\" / [\"&FORM!$AP130&\"]\",\"\")","v":""},null,{"$f":"IF($A110=1,FORM!$U130,\"\")","v":""},{"$f":"IF($A110=1,FORM!$Y130,\"\")","v":""},{"$f":"IF($A110=1,FORM!$Z130,\"\")","v":""},"",{"$f":"IF($A110=1,FORM!$V130,\"\")","v":""},{"$f":"IF($A110=1,FORM!$W130,\"\")","v":""},"","",{"$f":"IF($A110=1,FORM!$H130*100,\"\")","v":""},""]
[{"$f":"IF(FORM!D131=\"\",0,1)","v":0},{"$f":"IF($A111=1,FORM!$D131&\" \"&FORM!$E131&\" / \"&FORM!$F131&\" / [\"&FORM!$AP131&\"]\",\"\")","v":""},null,{"$f":"IF($A111=1,FORM!$U131,\"\")","v":""},{"$f":"IF($A111=1,FORM!$Y131,\"\")","v":""},{"$f":"IF($A111=1,FORM!$Z131,\"\")","v":""},"",{"$f":"IF($A111=1,FORM!$V131,\"\")","v":""},{"$f":"IF($A111=1,FORM!$W131,\"\")","v":""},"","",{"$f":"IF($A111=1,FORM!$H131*100,\"\")","v":""},""]
[{"$f":"IF(FORM!D132=\"\",0,1)","v":0},{"$f":"IF($A112=1,FORM!$D132&\" \"&FORM!$E132&\" / \"&FORM!$F132&\" / [\"&FORM!$AP132&\"]\",\"\")","v":""},null,{"$f":"IF($A112=1,FORM!$U132,\"\")","v":""},{"$f":"IF($A112=1,FORM!$Y132,\"\")","v":""},{"$f":"IF($A112=1,FORM!$Z132,\"\")","v":""},"",{"$f":"IF($A112=1,FORM!$V132,\"\")","v":""},{"$f":"IF($A112=1,FORM!$W132,\"\")","v":""},"","",{"$f":"IF($A112=1,FORM!$H132*100,\"\")","v":""},""]

{"sheet":"Lexique","index":2,"n_rows":254,"n_cols":26,"rows_kept":254,"cut":false,"hidden":true,"merged":[]}
["Code 3 Letter","Country","Country IJF","UE / Non-UE",null,"Function",null,"Weight Man",null,"Weight Woman",null,"Autre",null,"To",null,"Hôtel Competition",null,"Year",null,"Month",null,"Day",null,"General_Arrival_Date",null,"General_ArrivalDeparture_Date"]
["AFG","Afghanistan","Afghanistan (AFG)","Non-UE",null,"Team Leader",null,"-60 kg",null,"-48 kg",null,"N/A",null,"CDG Airport [T1]",null,"NOVOTEL",null,2010,null,1,null,1,null,"2021-10-13",null,"2021-10-16"]
["ALB","Albanie","Albania (ALB)","UE",null,"Coach",null,"-66 kg",null,"-52 kg",null,null,null,"CDG Airport [T2A]",null,"IBIS STYLES BERCY",null,2009,null,2,null,2,null,"2021-10-14",null,"2021-10-17"]
["ALG","Algérie","Algeria (ALG)","Non-UE",null,"Competitor",null,"-73 kg",null,"-57 kg",null,null,null,"CDG Airport [T2B]",null,"IBIS PARIS BERCY VILLAGE",null,2008,null,3,null,3,null,"2021-10-15",null,"2021-10-18"]
["ASA","Samoa américaines","American Samoa (ASA)","Non-UE",null,"Official",null,"-81 kg",null,"-63 kg",null,null,null,"CDG Airport [T2C]",null,"FORMULE 1",null,2007,null,4,null,4,null,"2021-10-16"]
["AND","Andorre","Andorra (AND)","UE",null,"Referee",null,"-90 kg",null,"-70 kg",null,null,null,"CDG Airport [T2D]",null,null,null,2006,null,5,null,5]
["ANG","Angola","Angola (ANG)","Non-UE",null,"Physio",null,"-100 kg",null,"-78 kg",null,null,null,"CDG Airport [T2E]",null,null,null,2005,null,6,null,6]
["ARG","Argentine","Argentina (ARG)","Non-UE",null,"Doctor",null,"+100 kg",null,"+78 kg",null,null,null,"CDG Airport [T2F]",null,null,null,2004,null,7,null,7]
["ARM","Arménie","Armenia (ARM)","UE",null,"Training Partner",null,null,null,null,null,null,null,"CDG Airport [T2G]",null,null,null,2003,null,8,null,8]
["ARU","Aruba","Aruba (ARU)","Non-UE",null,"President",null,null,null,null,null,null,null,"CDG Airport [T3]",null,null,null,2002,null,9,null,9]
["AUS","Australie","Australia (AUS)","Non-UE",null,null,null,null,null,null,null,null,null,"ORLY Airport [T1]",null,null,null,2001,null,10,null,10]
["AUT","Autriche","Austria (AUT)","UE",null,null,null,null,null,null,null,null,null,"ORLY Airport [T2]",null,null,null,2000,null,11,null,11]
["AZE","Azerbaïdjan","Azerbaijan (AZE)","UE",null,null,null,null,null,null,null,null,null,"ORLY Airport [T3]",null,null,null,1999,null,12,null,12]
["BAH","Bahamas","Bahamas (BAH)","Non-UE",null,null,null,null,null,null,null,null,null,"ORLY Airport [T4]",null,null,null,1998,null,null,null,13]
["BRN","Bahreïn","Bahrain (BRN)","Non-UE",null,null,null,null,null,null,null,null,null,"GARE DU NORD",null,null,null,1997,null,null,null,14]
["BAN","Bangladesh","Bangladesh (BAN)","Non-UE",null,null,null,null,null,null,null,null,null,"GARE DE L'EST",null,null,null,1996,null,null,null,15]
["BAR","Barbades","Barbados (BAR)","Non-UE",null,null,null,null,null,null,null,null,null,"GARE DE LYON",null,null,null,1995,null,null,null,16]
["BLR","Biélorussie","Belarus (BLR)","UE",null,null,null,null,null,null,null,null,null,null,null,null,null,1994,null,null,null,17]
["BEL","Belgique","Belgium (BEL)","UE",null,null,null,null,null,null,null,null,null,null,null,null,null,1993,null,null,null,18]
["BIZ","Belize","Belize (BIZ)","Non-UE",null,null,null,null,null,null,null,null,null,null,null,null,null,1992,null,null,null,19]
["BEN","Bénin","Benin (BEN)","Non-UE",null,null,null,null,null,null,null,null,null,null,null,null,null,1991,null,null,null,20]
["BHU","Bhoutan","Bhutan (BHU)","Non-UE",null,null,null,null,null,null,null,null,null,null,null,null,null,1990,null,null,null,21]
["BOL","Bolivie","Bolivia (BOL)","Non-UE",null,null,null,null,null,null,null,null,null,null,null,null,null,1989,null,null,null,22]
["BIH","Bosnie-Herzégovine","Bosnia and Herzegovina (BIH)","UE",null,null,null,null,null,null,null,null,null,null,null,null,null,1988,null,null,null,23]
["BOT","Botswana","Botswana (BOT)","Non-UE",null,null,null,null,null,null,null,null,null,null,null,null,null,1987,null,null,null,24]
["BRA","Brésil","Brazil (BRA)","Non-UE",null,null,null,null,null,null,null,null,null,null,null,null,null,1986,null,null,null,25]
["BRU","Brunei","Brunei Darussalam (BRU)","Non-UE",null,null,null,null,null,null,null,null,null,null,null,null,null,1985,null,null,null,26]
["BUL","Bulgarie","Bulgaria (BUL)","UE",null,null,null,null,null,null,null,null,null,null,null,null,null,1984,null,null,null,27]
["BUR","Burkina Faso","Burkina Faso (BUR)","Non-UE",null,null,null,null,null,null,null,null,null,null,null,null,null,1983,null,null,null,28]
["BDI","Burundi","Burundi (BDI)","Non-UE",null,null,null,null,null,null,null,null,null,null,null,null,null,1982,null,null,null,29]
["CAM","Cambodge","Cambodia (CAM)","Non-UE",null,null,null,null,null,null,null,null,null,null,null,null,null,1981,null,null,null,30]
["CMR","Cameroun","Cameroon (CMR)","Non-UE",null,null,null,null,null,null,null,null,null,null,null,null,null,1980,null,null,null,31]
["CAN","Canada","Canada (CAN)","Non-UE",null,null,null,null,null,null,null,null,null,null,null,null,null,1979]
["CPV","Cap vert","Cape Verde (CPV)","Non-UE",null,null,null,null,null,null,null,null,null,null,null,null,null,1978]
["CAY","Îles Caïmans","Cayman Islands (CAY)","Non-UE",null,null,null,null,null,null,null,null,null,null,null,null,null,1977]
["CAF","République centrafricaine","Central African Republic (CAF)","Non-UE",null,null,null,null,null,null,null,null,null,null,null,null,null,1976]
["CHA","Tchad","Chad (CHA)","Non-UE",null,null,null,null,null,null,null,null,null,null,null,null,null,1975]
["CHI","Chili","Chile (CHI)","Non-UE",null,null,null,null,null,null,null,null,null,null,null,null,null,1974]
["TPE","Taiwan","Chinese Taipei (TPE)","Non-UE",null,null,null,null,null,null,null,null,null,null,null,null,null,1973]
["COL","Colombie","Colombia (COL)","Non-UE",null,null,null,null,null,null,null,null,null,null,null,null,null,1972]
["COM","Comores","Comoros (COM)","Non-UE",null,null,null,null,null,null,null,null,null,null,null,null,null,1971]
["CGO","République du Congo","Congo (CGO)","Non-UE",null,null,null,null,null,null,null,null,null,null,null,null,null,1970]
["COK","Îles Cook","Cook Islands (COK)","Non-UE",null,null,null,null,null,null,null,null,null,null,null,null,null,1969]
["CRC","Costa Rica","Costa Rica (CRC)","Non-UE",null,null,null,null,null,null,null,null,null,null,null,null,null,1968]
["CIV","Côte-d'Ivoire","Côte d'Ivoire (CIV)","Non-UE",null,null,null,null,null,null,null,null,null,null,null,null,null,1967]
["CRO","Croatie","Croatia (CRO)","UE",null,null,null,null,null,null,null,null,null,null,null,null,null,1966]
["CUB","Cuba","Cuba (CUB)","Non-UE",null,null,null,null,null,null,null,null,null,null,null,null,null,1965]
["CUW","Curaçao","Curacao (CUW)","Non-UE",null,null,null,null,null,null,null,null,null,null,null,null,null,1964]
["CYP","Chypre","Cyprus (CYP)","UE",null,null,null,null,null,null,null,null,null,null,null,null,null,1963]
["CZE","République Tchèque","Czech Republic (CZE)","UE",null,null,null,null,null,null,null,null,null,null,null,null,null,1962]
["PRK","Corée du Nord","Democratic People's Republic of Korea (PRK)","Non-UE",null,null,null,null,null,null,null,null,null,null,null,null,null,1961]
["COD","République démocratique du Congo","Democratic Republic of the Congo (COD)","Non-UE",null,null,null,null,null,null,null,null,null,null,null,null,null,1960]
["DEN","Danemark","Denmark (DEN)","UE",null,null,null,null,null,null,null,null,null,null,null,null,null,1959]
["DJI","Djibouti","Djibouti (DJI)","Non-UE",null,null,null,null,null,null,null,null,null,null,null,null,null,1958]
["DOM","République Dominicaine","Dominican Republic (DOM)","Non-UE",null,null,null,null,null,null,null,null,null,null,null,null,null,1957]
["ECU","Équateur","Ecuador (ECU)","Non-UE",null,null,null,null,null,null,null,null,null,null,null,null,null,1956]
["EGY","Égypte","Egypt (EGY)","Non-UE",null,null,null,null,null,null,null,null,null,null,null,null,null,1955]
["ESA","Le Salvador","El Salvador (ESA)","Non-UE",null,null,null,null,null,null,null,null,null,null,null,null,null,1954]
["GEQ","Guinée équatoriale","Equatorial Guinea (GEQ)","Non-UE",null,null,null,null,null,null,null,null,null,null,null,null,null,1953]
["EST","Estonie","Estonia (EST)","UE",null,null,null,null,null,null,null,null,null,null,null,null,null,1952]
["SWZ","Swaziland","Eswatini (SWZ)","Non-UE",null,null,null,null,null,null,null,null,null,null,null,null,null,1951]
["ETH","Éthiopie","Ethiopia (ETH)","Non-UE",null,null,null,null,null,null,null,null,null,null,null,null,null,1950]
["FRO","Îles Féroé","Faroe Islands (FRO)","UE",null,null,null,null,null,null,null,null,null,null,null,null,null,1949]
["FIJ","Fiji","Fiji (FIJ)","Non-UE",null,null,null,null,null,null,null,null,null,null,null,null,null,1948]
["FIN","Finlande","Finland (FIN)","UE",null,null,null,null,null,null,null,null,null,null,null,null,null,1947]
["FRA","France","France (FRA)","UE",null,null,null,null,null,null,null,null,null,null,null,null,null,1946]
["PYF","Polynésie française","French Polynesia (PYF)","Non-UE",null,null,null,null,null,null,null,null,null,null,null,null,null,1945]
["GAB","Gabon","Gabon (GAB)","Non-UE",null,null,null,null,null,null,null,null,null,null,null,null,null,1944]
["GAM","Gambie","Gambia (GAM)","Non-UE",null,null,null,null,null,null,null,null,null,null,null,null,null,1943]
["GEO","État de Géorgie","Georgia (GEO)","UE",null,null,null,null,null,null,null,null,null,null,null,null,null,1942]
["GER","Allemagne","Germany (GER)","UE",null,null,null,null,null,null,null,null,null,null,null,null,null,1941]
["GHA","Ghana","Ghana (GHA)","Non-UE",null,null,null,null,null,null,null,null,null,null,null,null,null,1940]
["GBR","Royaume-Uni","Great Britain (GBR)","UE"]
["GRE","Grèce","Greece (GRE)","UE"]
["GLP","Guadeloupe","Guadeloupe (GLP)","Non-UE"]
["GUM","Guam","Guam (GUM)","Non-UE"]
["GUA","Guatémala","Guatemala (GUA)","Non-UE"]
["GUI","Guinée","Guinea (GUI)","Non-UE"]
["GBS","Guinée-Bissau","Guinea-Bissau (GBS)","Non-UE"]
["GUY","Guyane","Guyana (GUY)","Non-UE"]
["HAI","Haïti","Haiti (HAI)","Non-UE"]
["HON","Honduras","Honduras (HON)","Non-UE"]
["HKG","Hong Kong","Hong Kong, China (HKG)","Non-UE"]
["HUN","Hongrie","Hungary (HUN)","UE"]
["ISL","Islande","Iceland (ISL)","UE"]
["IND","Inde","India (IND)","Non-UE"]
["INA","Indonésie","Indonesia (INA)","Non-UE"]
["IRQ","Irak","Iraq (IRQ)","Non-UE"]
["IRL","Irlande","Ireland (IRL)","UE"]
["IRI","Iran","Islamic Republic of Iran (IRI)","Non-UE"]
["ISR","Israël","Israel (ISR)","UE"]
["ITA","Italie","Italy (ITA)","UE"]
["JAM","Jamaïque","Jamaica (JAM)","Non-UE"]
["JPN","Japon","Japan (JPN)","Non-UE"]
["JOR","Jordanie","Jordan (JOR)","Non-UE"]
["KAZ","Kazakhstan","Kazakhstan (KAZ)","Non-UE"]
["KEN","Kenya","Kenya (KEN)","Non-UE"]
["KIR","Kiribati","Kiribati (KIR)","Non-UE"]
["KOS","Kosovo","Kosovo (KOS)","UE"]
["KUW","Koweït","Kuwait (KUW)","Non-UE"]
["KGZ","Kirghizistan","Kyrgyzstan (KGZ)","Non-UE"]
["LAO","Laos","Lao People's Democratic Republic (LAO)","Non-UE"]
["LAT","Lettonie","Latvia (LAT)","UE"]
["LBN","Liban","Lebanon (LBN)","Non-UE"]
["LES","Lesotho","Lesotho (LES)","Non-UE"]
["LBR","Libéria","Liberia (LBR)","Non-UE"]
["LBA","Libye","Libya (LBA)","Non-UE"]
["LIE","Liechtenstein","Liechtenstein (LIE)","UE"]
["LTU","Lituanie","Lithuania (LTU)","UE"]
["LUX","Luxembourg","Luxembourg (LUX)","UE"]
["MAC","Macao","Macau (MAC)","Non-UE"]
["MAD","Madagascar","Madagascar (MAD)","Non-UE"]
["MAW","Malawi","Malawi (MAW)","Non-UE"]
["MAS","Malaysie","Malaysia (MAS)","Non-UE"]
["MLI","Mali","Mali (MLI)","Non-UE"]
["MLT","Malte","Malta (MLT)","UE"]
["MHL","Îles Marshall","Marshall Islands (MHL)","Non-UE"]
["MTN","Mauritanie","Mauritania (MTN)","Non-UE"]
["MRI","Île Maurice","Mauritius (MRI)","Non-UE"]
["MEX","Mexique","Mexico (MEX)","Non-UE"]
["MON","Monaco","Monaco (MON)","UE"]
["MGL","Mongolie","Mongolia (MGL)","Non-UE"]
["MNE","Monténégro","Montenegro (MNE)","UE"]
["MAR","Maroc","Morocco (MAR)","Non-UE"]
["MOZ","Mozambique","Mozambique (MOZ)","Non-UE"]
["MYA","Myanmar","Myanmar (MYA)","Non-UE"]
["NAM","Namibie","Namibia (NAM)","Non-UE"]
["NRU","Nauru","Nauru (NRU)","Non-UE"]
["NEP","Népal","Nepal (NEP)","Non-UE"]
["NED","Pays-Bas","Netherlands (NED)","UE"]
["NCL","Nouvelle-Calédonie","New Caledonia (NCL)","Non-UE"]
["NZL","Nouvelle Zélande","New Zealand (NZL)","Non-UE"]
["NCA","Nicaragua","Nicaragua (NCA)","Non-UE"]
["NIG","Niger","Niger (NIG)","Non-UE"]
["NGR","Nigéria","Nigeria (NGR)","Non-UE"]
["NIU","Niue","Niue (NIU)","Non-UE"]
["NFI","Île Norfolk","Norfolk Island (NFI)","Non-UE"]
["MKD","Macédoine","North Macedonia (MKD)","UE"]
["MNP","Îles Mariannes du Nord","Northern Mariana Islands (MNP)","Non-UE"]
["NOR","Norvège","Norway (NOR)","UE"]
["PAK","Pakistan","Pakistan (PAK)","Non-UE"]
["PLW","Palaos","Palau (PLW)","Non-UE"]
["PLE","Territoire Palestinien","Palestine (PLE)","Non-UE"]
["PAN","Panama","Panama (PAN)","Non-UE"]
["PNG","Papouasie-Nouvelle-Guinée","Papua New Guinea (PNG)","Non-UE"]
["PAR","Paraguay","Paraguay (PAR)","Non-UE"]
["CHN","Chine","People's Republic of China (CHN)","Non-UE"]
["PER","Pérou","Peru (PER)","Non-UE"]
["PHI","Philippines","Philippines (PHI)","Non-UE"]
["POL","Pologne","Poland (POL)","UE"]
["POR","Portugal","Portugal (POR)","UE"]
["PUR","Puerto Rico","Puerto Rico (PUR)","Non-UE"]
["QAT","Qatar","Qatar (QAT)","Non-UE"]
["KOR","Corée du Sud","Republic of Korea (KOR)","Non-UE"]
["MDA","Moldavie","Republic of Moldova (MDA)","UE"]
["REU","La Réunion","Réunion (REU)","Non-UE"]
["ROU","Roumanie","Romania (ROU)","UE"]
["RUS","Russie","Russian Federation (RUS)","UE"]
["RWA","Rwanda","Rwanda (RWA)","Non-UE"]
["LCA","Sainte-Lucie","Saint Lucia (LCA)","Non-UE"]
["SAM","Samoa","Samoa (SAM)","Non-UE"]
["SMR","San Marin","San Marino (SMR)","UE"]
["KSA","Arabie Saoudite","Saudi Arabia (KSA)","Non-UE"]
["SEN","Sénégal","Senegal (SEN)","Non-UE"]
["SRB","Serbie","Serbia (SRB)","UE"]
["SEY","Seychelles","Seychelles (SEY)","Non-UE"]
["SLE","Sierra Leone","Sierra Leone (SLE)","Non-UE"]
["SGP","Singapour","Singapore (SGP)","Non-UE"]
["SXM","Saint-Martin","Sint Maarten (SXM)","Non-UE"]
["SVK","Slovaquie","Slovakia (SVK)","UE"]
["SLO","Slovénie","Slovenia (SLO)","UE"]
["SOL","Îles Salomon","Solomon Islands (SOL)","Non-UE"]
["SOM","Somalie","Somalia (SOM)","Non-UE"]
["RSA","Afrique du Sud","South Africa (RSA)","Non-UE"]
["SSD","Soudan du Sud","South Sudan (SSD)","Non-UE"]
["ESP","Espagne","Spain (ESP)","UE"]
["SRI","Sri Lanka","Sri Lanka (SRI)","Non-UE"]
["SUD","Soudan","Sudan (SUD)","Non-UE"]
["SUR","Surinam","Suriname (SUR)","Non-UE"]
["SWE","Suède","Sweden (SWE)","UE"]
["SUI","Suisse","Switzerland (SUI)","UE"]
["SYR","Syrie","Syrian Arab Republic (SYR)","Non-UE"]
["TJK","Tajikistan","Tajikistan (TJK)","Non-UE"]
["THA","Thaïlande","Thailand (THA)","Non-UE"]
["TLS","Timor oriental","Timor-Leste (TLS)","Non-UE"]
["TOG","Togo","Togo (TOG)","Non-UE"]
["TGA","Tonga","Tonga (TGA)","Non-UE"]
["TTO","Trinité et Tobago","Trinidad And Tobago (TTO)","Non-UE"]
["TUN","Tunisie","Tunisia (TUN)","Non-UE"]
["TUR","Turquie","Turkey (TUR)","UE"]
["TKM","Turkménistan","Turkmenistan (TKM)","Non-UE"]
["UGA","Ouganda","Uganda (UGA)","Non-UE"]
["UKR","Ukraine","Ukraine (UKR)","UE"]
["UAE","Émirats Arabes Unis","United Arab Emirates (UAE)","Non-UE"]
["TAN","Tanzanie","United Republic of Tanzania (TAN)","Non-UE"]
["USA","États-Unis (USA)","United States of America (USA)","Non-UE"]
["URU","Uruguay","Uruguay (URU)","Non-UE"]
["UZB","Ouzbékistan","Uzbekistan (UZB)","Non-UE"]
["VAN","Vanuatu","Vanuatu (VAN)","Non-UE"]
["VEN","Vénézuela","Venezuela (VEN)","Non-UE"]
["VIE","Vietnam","Vietnam (VIE)","Non-UE"]
["YEM","Yemen","Yemen (YEM)","Non-UE"]
["ZAM","Zambie","Zambia (ZAM)","Non-UE"]
["ZIM","Zimbabwe","Zimbabwe (ZIM)","Non-UE"]
[]
["AIA","Anguilla"]
["ALA","Îles Aland"]
["ANT","Antilles néerlandaises"]
["ATA","Antarctique"]
["ATF","Terres australes et antarctiques françaises"]
["ATG","Antigua-et-Barbuda"]
["BES","Saba, Saint-Eustache et Bonaire"]
["BLM","Saint Barthélemy"]
["BMU","Bermudes"]
["BVT","Île Bouvet"]
["CCK","Îles Cocos"]
["CXR","Îles Christmas"]
["DMA","Dominique"]
["ERI","Érythrée"]
["ESH","Sahara occidental"]
["FLK","Îles Falkland"]
["FSM","Micronésie"]
["GGY","Guernesey"]
["GIB","Gribraltar"]
["GRD","Grenade"]
["GRL","Groenland"]
["GUF","Guyane française"]
["HMD","Îles Heard et îles MacDonald"]
["IMN","Île de Man"]
["IOT","Territoire Britannique de l'Océan Indien"]
["JEY","Jersey"]
["KNA","Saint-Kitts-et-Nevis"]
["MAF","Saint-Martin"]
["MDV","Maldives"]
["MSR","Montserrat"]
["MTQ","Martinique"]
["MYT","Mayotte"]
["OMN","Oman"]
["PCN","Îles Pitcairn"]
["SCG","Serbie et Montenegro"]
["SGS","Géorgie du Sud et les îles Sandwich"]
["SHN","Sainte-Hélène"]
["SJM","Svalbard et Jan Mayen"]
["SPM","Saint Pierre et Miquelon"]
["TCA","Îles Turques et Caïques"]
["TKL","Tokelau"]
["TUV","Tuvalu"]
["UMI","Îles Mineures éloignées des États-Unis"]
["VAT","Vatican"]
["VCT","Saint-Vincent-et-les-Grenadines"]
["VGB","Îles Vierges britanniques"]
["VIR","Îles Vierges des États-Unis"]
["WLF","Wallis et Futuna"]
["STP","Sao Tomé-et-Principe"]

{"sheet":"Résumé","index":3,"n_rows":123,"n_cols":18,"rows_kept":123,"cut":false,"hidden":true,"merged":[[117,3,117,4],[105,7,114,7],[105,8,106,9],[107,8,108,9],[109,8,110,9],[111,8,112,9],[113,8,114,9]]}
[null,"No","Country 3 Letter Code","Groupe / Pays","Name / Function / [Gender]","Number of PCR Test required","Hôtel\nCompetition","Check-in\nCompetition","Check-out\nCompetition","Nb nights\nCompetition","Type Room\nCompetition","Type Catering\nCompetition","2021-10-13","2021-10-14","2021-10-15","2021-10-16","2021-10-17","2021-10-18"]
[null,{"$f":"IF(FORM!D33=\"\",0,1)","v":0},{"$f":"IF($B2=1,FORM!$E$20,\"\")","v":""},{"$f":"IF($B2=1,VLOOKUP($C2,Lexique!$A$1:$C$204,3,FALSE),\"\")","v":""},{"$f":"IF($B2=1,FORM!$D33&\" \"&FORM!$E33&\" / \"&FORM!$F33&\" / [\"&FORM!$AP33&\"]\",\"\")","v":""},{"$f":"IF($B2=1,FORM!$H33,\"\")","v":""},{"$f":"IF($B2=1,FORM!$U33,\"\")","v":""},{"$f":"IF($B2=1,FORM!$V33,\"\")","v":""},{"$f":"IF($B2=1,FORM!$W33,\"\")","v":""},{"$f":"IF($B2=1,$I2-$H2,\"\")","v":""},{"$f":"IF($B2=1,FORM!$Y33,\"\")","v":""},{"$f":"IF($B2=1,FORM!$Z33,\"\")","v":""},{"$f":"IF($B2=0,\"\",IF(AND($H2<=$M$1,$I2>$M$1),1,0))","v":""},{"$f":"IF($B2=0,\"\",IF(AND($H2<=$N$1,$I2>$N$1),1,0))","v":""},{"$f":"IF($B2=0,\"\",IF(AND($H2<=$O$1,$I2>$O$1),1,0))","v":""},{"$f":"IF($B2=0,\"\",IF(AND($H2<=$P$1,$I2>$P$1),1,0))","v":""},{"$f":"IF($B2=0,\"\",IF(AND($H2<=$Q$1,$I2>$Q$1),1,0))","v":""},{"$f":"IF($B2=0,\"\",IF(AND($H2<=$R$1,$I2>$R$1),1,0))","v":""}]
[null,{"$f":"IF(FORM!D34=\"\",0,1)","v":0},{"$f":"IF($B3=1,FORM!$E$20,\"\")","v":""},{"$f":"IF($B3=1,VLOOKUP($C3,Lexique!$A$1:$C$204,3,FALSE),\"\")","v":""},{"$f":"IF($B3=1,FORM!$D34&\" \"&FORM!$E34&\" / \"&FORM!$F34&\" / [\"&FORM!$AP34&\"]\",\"\")","v":""},{"$f":"IF($B3=1,FORM!$H34,\"\")","v":""},{"$f":"IF($B3=1,FORM!$U34,\"\")","v":""},{"$f":"IF($B3=1,FORM!$V34,\"\")","v":""},{"$f":"IF($B3=1,FORM!$W34,\"\")","v":""},{"$f":"IF($B3=1,$I3-$H3,\"\")","v":""},{"$f":"IF($B3=1,FORM!$Y34,\"\")","v":""},{"$f":"IF($B3=1,FORM!$Z34,\"\")","v":""},{"$f":"IF($B3=0,\"\",IF(AND($H3<=$M$1,$I3>$M$1),1,0))","v":""},{"$f":"IF($B3=0,\"\",IF(AND($H3<=$N$1,$I3>$N$1),1,0))","v":""},{"$f":"IF($B3=0,\"\",IF(AND($H3<=$O$1,$I3>$O$1),1,0))","v":""},{"$f":"IF($B3=0,\"\",IF(AND($H3<=$P$1,$I3>$P$1),1,0))","v":""},{"$f":"IF($B3=0,\"\",IF(AND($H3<=$Q$1,$I3>$Q$1),1,0))","v":""},{"$f":"IF($B3=0,\"\",IF(AND($H3<=$R$1,$I3>$R$1),1,0))","v":""}]
[null,{"$f":"IF(FORM!D35=\"\",0,1)","v":0},{"$f":"IF($B4=1,FORM!$E$20,\"\")","v":""},{"$f":"IF($B4=1,VLOOKUP($C4,Lexique!$A$1:$C$204,3,FALSE),\"\")","v":""},{"$f":"IF($B4=1,FORM!$D35&\" \"&FORM!$E35&\" / \"&FORM!$F35&\" / [\"&FORM!$AP35&\"]\",\"\")","v":""},{"$f":"IF($B4=1,FORM!$H35,\"\")","v":""},{"$f":"IF($B4=1,FORM!$U35,\"\")","v":""},{"$f":"IF($B4=1,FORM!$V35,\"\")","v":""},{"$f":"IF($B4=1,FORM!$W35,\"\")","v":""},"",{"$f":"IF($B4=1,FORM!$Y35,\"\")","v":""},{"$f":"IF($B4=1,FORM!$Z35,\"\")","v":""},"","","","","",""]
[null,{"$f":"IF(FORM!D36=\"\",0,1)","v":0},{"$f":"IF($B5=1,FORM!$E$20,\"\")","v":""},{"$f":"IF($B5=1,VLOOKUP($C5,Lexique!$A$1:$C$204,3,FALSE),\"\")","v":""},{"$f":"IF($B5=1,FORM!$D36&\" \"&FORM!$E36&\" / \"&FORM!$F36&\" / [\"&FORM!$AP36&\"]\",\"\")","v":""},{"$f":"IF($B5=1,FORM!$H36,\"\")","v":""},{"$f":"IF($B5=1,FORM!$U36,\"\")","v":""},{"$f":"IF($B5=1,FORM!$V36,\"\")","v":""},{"$f":"IF($B5=1,FORM!$W36,\"\")","v":""},"",{"$f":"IF($B5=1,FORM!$Y36,\"\")","v":""},{"$f":"IF($B5=1,FORM!$Z36,\"\")","v":""},"","","","","",""]
[null,{"$f":"IF(FORM!D37=\"\",0,1)","v":0},{"$f":"IF($B6=1,FORM!$E$20,\"\")","v":""},{"$f":"IF($B6=1,VLOOKUP($C6,Lexique!$A$1:$C$204,3,FALSE),\"\")","v":""},{"$f":"IF($B6=1,FORM!$D37&\" \"&FORM!$E37&\" / \"&FORM!$F37&\" / [\"&FORM!$AP37&\"]\",\"\")","v":""},{"$f":"IF($B6=1,FORM!$H37,\"\")","v":""},{"$f":"IF($B6=1,FORM!$U37,\"\")","v":""},{"$f":"IF($B6=1,FORM!$V37,\"\")","v":""},{"$f":"IF($B6=1,FORM!$W37,\"\")","v":""},"",{"$f":"IF($B6=1,FORM!$Y37,\"\")","v":""},{"$f":"IF($B6=1,FORM!$Z37,\"\")","v":""},"","","","","",""]
[null,{"$f":"IF(FORM!D38=\"\",0,1)","v":0},{"$f":"IF($B7=1,FORM!$E$20,\"\")","v":""},{"$f":"IF($B7=1,VLOOKUP($C7,Lexique!$A$1:$C$204,3,FALSE),\"\")","v":""},{"$f":"IF($B7=1,FORM!$D38&\" \"&FORM!$E38&\" / \"&FORM!$F38&\" / [\"&FORM!$AP38&\"]\",\"\")","v":""},{"$f":"IF($B7=1,FORM!$H38,\"\")","v":""},{"$f":"IF($B7=1,FORM!$U38,\"\")","v":""},{"$f":"IF($B7=1,FORM!$V38,\"\")","v":""},{"$f":"IF($B7=1,FORM!$W38,\"\")","v":""},"",{"$f":"IF($B7=1,FORM!$Y38,\"\")","v":""},{"$f":"IF($B7=1,FORM!$Z38,\"\")","v":""},"","","","","",""]
[null,{"$f":"IF(FORM!D39=\"\",0,1)","v":0},{"$f":"IF($B8=1,FORM!$E$20,\"\")","v":""},{"$f":"IF($B8=1,VLOOKUP($C8,Lexique!$A$1:$C$204,3,FALSE),\"\")","v":""},{"$f":"IF($B8=1,FORM!$D39&\" \"&FORM!$E39&\" / \"&FORM!$F39&\" / [\"&FORM!$AP39&\"]\",\"\")","v":""},{"$f":"IF($B8=1,FORM!$H39,\"\")","v":""},{"$f":"IF($B8=1,FORM!$U39,\"\")","v":""},{"$f":"IF($B8=1,FORM!$V39,\"\")","v":""},{"$f":"IF($B8=1,FORM!$W39,\"\")","v":""},"",{"$f":"IF($B8=1,FORM!$Y39,\"\")","v":""},{"$f":"IF($B8=1,FORM!$Z39,\"\")","v":""},"","","","","",""]
[null,{"$f":"IF(FORM!D40=\"\",0,1)","v":0},{"$f":"IF($B9=1,FORM!$E$20,\"\")","v":""},{"$f":"IF($B9=1,VLOOKUP($C9,Lexique!$A$1:$C$204,3,FALSE),\"\")","v":""},{"$f":"IF($B9=1,FORM!$D40&\" \"&FORM!$E40&\" / \"&FORM!$F40&\" / [\"&FORM!$AP40&\"]\",\"\")","v":""},{"$f":"IF($B9=1,FORM!$H40,\"\")","v":""},{"$f":"IF($B9=1,FORM!$U40,\"\")","v":""},{"$f":"IF($B9=1,FORM!$V40,\"\")","v":""},{"$f":"IF($B9=1,FORM!$W40,\"\")","v":""},"",{"$f":"IF($B9=1,FORM!$Y40,\"\")","v":""},{"$f":"IF($B9=1,FORM!$Z40,\"\")","v":""},"","","","","",""]
[null,{"$f":"IF(FORM!D41=\"\",0,1)","v":0},{"$f":"IF($B10=1,FORM!$E$20,\"\")","v":""},{"$f":"IF($B10=1,VLOOKUP($C10,Lexique!$A$1:$C$204,3,FALSE),\"\")","v":""},{"$f":"IF($B10=1,FORM!$D41&\" \"&FORM!$E41&\" / \"&FORM!$F41&\" / [\"&FORM!$AP41&\"]\",\"\")","v":""},{"$f":"IF($B10=1,FORM!$H41,\"\")","v":""},{"$f":"IF($B10=1,FORM!$U41,\"\")","v":""},{"$f":"IF($B10=1,FORM!$V41,\"\")","v":""},{"$f":"IF($B10=1,FORM!$W41,\"\")","v":""},"",{"$f":"IF($B10=1,FORM!$Y41,\"\")","v":""},{"$f":"IF($B10=1,FORM!$Z41,\"\")","v":""},"","","","","",""]
[null,{"$f":"IF(FORM!D42=\"\",0,1)","v":0},{"$f":"IF($B11=1,FORM!$E$20,\"\")","v":""},{"$f":"IF($B11=1,VLOOKUP($C11,Lexique!$A$1:$C$204,3,FALSE),\"\")","v":""},{"$f":"IF($B11=1,FORM!$D42&\" \"&FORM!$E42&\" / \"&FORM!$F42&\" / [\"&FORM!$AP42&\"]\",\"\")","v":""},{"$f":"IF($B11=1,FORM!$H42,\"\")","v":""},{"$f":"IF($B11=1,FORM!$U42,\"\")","v":""},{"$f":"IF($B11=1,FORM!$V42,\"\")","v":""},{"$f":"IF($B11=1,FORM!$W42,\"\")","v":""},"",{"$f":"IF($B11=1,FORM!$Y42,\"\")","v":""},{"$f":"IF($B11=1,FORM!$Z42,\"\")","v":""},"","","","","",""]
[null,{"$f":"IF(FORM!D43=\"\",0,1)","v":0},{"$f":"IF($B12=1,FORM!$E$20,\"\")","v":""},{"$f":"IF($B12=1,VLOOKUP($C12,Lexique!$A$1:$C$204,3,FALSE),\"\")","v":""},{"$f":"IF($B12=1,FORM!$D43&\" \"&FORM!$E43&\" / \"&FORM!$F43&\" / [\"&FORM!$AP43&\"]\",\"\")","v":""},{"$f":"IF($B12=1,FORM!$H43,\"\")","v":""},{"$f":"IF($B12=1,FORM!$U43,\"\")","v":""},{"$f":"IF($B12=1,FORM!$V43,\"\")","v":""},{"$f":"IF($B12=1,FORM!$W43,\"\")","v":""},"",{"$f":"IF($B12=1,FORM!$Y43,\"\")","v":""},{"$f":"IF($B12=1,FORM!$Z43,\"\")","v":""},"","","","","",""]
[null,{"$f":"IF(FORM!D44=\"\",0,1)","v":0},{"$f":"IF($B13=1,FORM!$E$20,\"\")","v":""},{"$f":"IF($B13=1,VLOOKUP($C13,Lexique!$A$1:$C$204,3,FALSE),\"\")","v":""},{"$f":"IF($B13=1,FORM!$D44&\" \"&FORM!$E44&\" / \"&FORM!$F44&\" / [\"&FORM!$AP44&\"]\",\"\")","v":""},{"$f":"IF($B13=1,FORM!$H44,\"\")","v":""},{"$f":"IF($B13=1,FORM!$U44,\"\")","v":""},{"$f":"IF($B13=1,FORM!$V44,\"\")","v":""},{"$f":"IF($B13=1,FORM!$W44,\"\")","v":""},"",{"$f":"IF($B13=1,FORM!$Y44,\"\")","v":""},{"$f":"IF($B13=1,FORM!$Z44,\"\")","v":""},"","","","","",""]
[null,{"$f":"IF(FORM!D45=\"\",0,1)","v":0},{"$f":"IF($B14=1,FORM!$E$20,\"\")","v":""},{"$f":"IF($B14=1,VLOOKUP($C14,Lexique!$A$1:$C$204,3,FALSE),\"\")","v":""},{"$f":"IF($B14=1,FORM!$D45&\" \"&FORM!$E45&\" / \"&FORM!$F45&\" / [\"&FORM!$AP45&\"]\",\"\")","v":""},{"$f":"IF($B14=1,FORM!$H45,\"\")","v":""},{"$f":"IF($B14=1,FORM!$U45,\"\")","v":""},{"$f":"IF($B14=1,FORM!$V45,\"\")","v":""},{"$f":"IF($B14=1,FORM!$W45,\"\")","v":""},"",{"$f":"IF($B14=1,FORM!$Y45,\"\")","v":""},{"$f":"IF($B14=1,FORM!$Z45,\"\")","v":""},"","","","","",""]
[null,{"$f":"IF(FORM!D46=\"\",0,1)","v":0},{"$f":"IF($B15=1,FORM!$E$20,\"\")","v":""},{"$f":"IF($B15=1,VLOOKUP($C15,Lexique!$A$1:$C$204,3,FALSE),\"\")","v":""},{"$f":"IF($B15=1,FORM!$D46&\" \"&FORM!$E46&\" / \"&FORM!$F46&\" / [\"&FORM!$AP46&\"]\",\"\")","v":""},{"$f":"IF($B15=1,FORM!$H46,\"\")","v":""},{"$f":"IF($B15=1,FORM!$U46,\"\")","v":""},{"$f":"IF($B15=1,FORM!$V46,\"\")","v":""},{"$f":"IF($B15=1,FORM!$W46,\"\")","v":""},"",{"$f":"IF($B15=1,FORM!$Y46,\"\")","v":""},{"$f":"IF($B15=1,FORM!$Z46,\"\")","v":""},"","","","","",""]
[null,{"$f":"IF(FORM!D47=\"\",0,1)","v":0},{"$f":"IF($B16=1,FORM!$E$20,\"\")","v":""},{"$f":"IF($B16=1,VLOOKUP($C16,Lexique!$A$1:$C$204,3,FALSE),\"\")","v":""},{"$f":"IF($B16=1,FORM!$D47&\" \"&FORM!$E47&\" / \"&FORM!$F47&\" / [\"&FORM!$AP47&\"]\",\"\")","v":""},{"$f":"IF($B16=1,FORM!$H47,\"\")","v":""},{"$f":"IF($B16=1,FORM!$U47,\"\")","v":""},{"$f":"IF($B16=1,FORM!$V47,\"\")","v":""},{"$f":"IF($B16=1,FORM!$W47,\"\")","v":""},"",{"$f":"IF($B16=1,FORM!$Y47,\"\")","v":""},{"$f":"IF($B16=1,FORM!$Z47,\"\")","v":""},"","","","","",""]
[null,{"$f":"IF(FORM!D48=\"\",0,1)","v":0},{"$f":"IF($B17=1,FORM!$E$20,\"\")","v":""},{"$f":"IF($B17=1,VLOOKUP($C17,Lexique!$A$1:$C$204,3,FALSE),\"\")","v":""},{"$f":"IF($B17=1,FORM!$D48&\" \"&FORM!$E48&\" / \"&FORM!$F48&\" / [\"&FORM!$AP48&\"]\",\"\")","v":""},{"$f":"IF($B17=1,FORM!$H48,\"\")","v":""},{"$f":"IF($B17=1,FORM!$U48,\"\")","v":""},{"$f":"IF($B17=1,FORM!$V48,\"\")","v":""},{"$f":"IF($B17=1,FORM!$W48,\"\")","v":""},"",{"$f":"IF($B17=1,FORM!$Y48,\"\")","v":""},{"$f":"IF($B17=1,FORM!$Z48,\"\")","v":""},"","","","","",""]
[null,{"$f":"IF(FORM!D49=\"\",0,1)","v":0},{"$f":"IF($B18=1,FORM!$E$20,\"\")","v":""},{"$f":"IF($B18=1,VLOOKUP($C18,Lexique!$A$1:$C$204,3,FALSE),\"\")","v":""},{"$f":"IF($B18=1,FORM!$D49&\" \"&FORM!$E49&\" / \"&FORM!$F49&\" / [\"&FORM!$AP49&\"]\",\"\")","v":""},{"$f":"IF($B18=1,FORM!$H49,\"\")","v":""},{"$f":"IF($B18=1,FORM!$U49,\"\")","v":""},{"$f":"IF($B18=1,FORM!$V49,\"\")","v":""},{"$f":"IF($B18=1,FORM!$W49,\"\")","v":""},"",{"$f":"IF($B18=1,FORM!$Y49,\"\")","v":""},{"$f":"IF($B18=1,FORM!$Z49,\"\")","v":""},"","","","","",""]
[null,{"$f":"IF(FORM!D50=\"\",0,1)","v":0},{"$f":"IF($B19=1,FORM!$E$20,\"\")","v":""},{"$f":"IF($B19=1,VLOOKUP($C19,Lexique!$A$1:$C$204,3,FALSE),\"\")","v":""},{"$f":"IF($B19=1,FORM!$D50&\" \"&FORM!$E50&\" / \"&FORM!$F50&\" / [\"&FORM!$AP50&\"]\",\"\")","v":""},{"$f":"IF($B19=1,FORM!$H50,\"\")","v":""},{"$f":"IF($B19=1,FORM!$U50,\"\")","v":""},{"$f":"IF($B19=1,FORM!$V50,\"\")","v":""},{"$f":"IF($B19=1,FORM!$W50,\"\")","v":""},"",{"$f":"IF($B19=1,FORM!$Y50,\"\")","v":""},{"$f":"IF($B19=1,FORM!$Z50,\"\")","v":""},"","","","","",""]
[null,{"$f":"IF(FORM!D51=\"\",0,1)","v":0},{"$f":"IF($B20=1,FORM!$E$20,\"\")","v":""},{"$f":"IF($B20=1,VLOOKUP($C20,Lexique!$A$1:$C$204,3,FALSE),\"\")","v":""},{"$f":"IF($B20=1,FORM!$D51&\" \"&FORM!$E51&\" / \"&FORM!$F51&\" / [\"&FORM!$AP51&\"]\",\"\")","v":""},{"$f":"IF($B20=1,FORM!$H51,\"\")","v":""},{"$f":"IF($B20=1,FORM!$U51,\"\")","v":""},{"$f":"IF($B20=1,FORM!$V51,\"\")","v":""},{"$f":"IF($B20=1,FORM!$W51,\"\")","v":""},"",{"$f":"IF($B20=1,FORM!$Y51,\"\")","v":""},{"$f":"IF($B20=1,FORM!$Z51,\"\")","v":""},"","","","","",""]
[null,{"$f":"IF(FORM!D52=\"\",0,1)","v":0},{"$f":"IF($B21=1,FORM!$E$20,\"\")","v":""},{"$f":"IF($B21=1,VLOOKUP($C21,Lexique!$A$1:$C$204,3,FALSE),\"\")","v":""},{"$f":"IF($B21=1,FORM!$D52&\" \"&FORM!$E52&\" / \"&FORM!$F52&\" / [\"&FORM!$AP52&\"]\",\"\")","v":""},{"$f":"IF($B21=1,FORM!$H52,\"\")","v":""},{"$f":"IF($B21=1,FORM!$U52,\"\")","v":""},{"$f":"IF($B21=1,FORM!$V52,\"\")","v":""},{"$f":"IF($B21=1,FORM!$W52,\"\")","v":""},"",{"$f":"IF($B21=1,FORM!$Y52,\"\")","v":""},{"$f":"IF($B21=1,FORM!$Z52,\"\")","v":""},"","","","","",""]
[null,{"$f":"IF(FORM!D53=\"\",0,1)","v":0},{"$f":"IF($B22=1,FORM!$E$20,\"\")","v":""},{"$f":"IF($B22=1,VLOOKUP($C22,Lexique!$A$1:$C$204,3,FALSE),\"\")","v":""},{"$f":"IF($B22=1,FORM!$D53&\" \"&FORM!$E53&\" / \"&FORM!$F53&\" / [\"&FORM!$AP53&\"]\",\"\")","v":""},{"$f":"IF($B22=1,FORM!$H53,\"\")","v":""},{"$f":"IF($B22=1,FORM!$U53,\"\")","v":""},{"$f":"IF($B22=1,FORM!$V53,\"\")","v":""},{"$f":"IF($B22=1,FORM!$W53,\"\")","v":""},"",{"$f":"IF($B22=1,FORM!$Y53,\"\")","v":""},{"$f":"IF($B22=1,FORM!$Z53,\"\")","v":""},"","","","","",""]
[null,{"$f":"IF(FORM!D54=\"\",0,1)","v":0},{"$f":"IF($B23=1,FORM!$E$20,\"\")","v":""},{"$f":"IF($B23=1,VLOOKUP($C23,Lexique!$A$1:$C$204,3,FALSE),\"\")","v":""},{"$f":"IF($B23=1,FORM!$D54&\" \"&FORM!$E54&\" / \"&FORM!$F54&\" / [\"&FORM!$AP54&\"]\",\"\")","v":""},{"$f":"IF($B23=1,FORM!$H54,\"\")","v":""},{"$f":"IF($B23=1,FORM!$U54,\"\")","v":""},{"$f":"IF($B23=1,FORM!$V54,\"\")","v":""},{"$f":"IF($B23=1,FORM!$W54,\"\")","v":""},"",{"$f":"IF($B23=1,FORM!$Y54,\"\")","v":""},{"$f":"IF($B23=1,FORM!$Z54,\"\")","v":""},"","","","","",""]
[null,{"$f":"IF(FORM!D55=\"\",0,1)","v":0},{"$f":"IF($B24=1,FORM!$E$20,\"\")","v":""},{"$f":"IF($B24=1,VLOOKUP($C24,Lexique!$A$1:$C$204,3,FALSE),\"\")","v":""},{"$f":"IF($B24=1,FORM!$D55&\" \"&FORM!$E55&\" / \"&FORM!$F55&\" / [\"&FORM!$AP55&\"]\",\"\")","v":""},{"$f":"IF($B24=1,FORM!$H55,\"\")","v":""},{"$f":"IF($B24=1,FORM!$U55,\"\")","v":""},{"$f":"IF($B24=1,FORM!$V55,\"\")","v":""},{"$f":"IF($B24=1,FORM!$W55,\"\")","v":""},"",{"$f":"IF($B24=1,FORM!$Y55,\"\")","v":""},{"$f":"IF($B24=1,FORM!$Z55,\"\")","v":""},"","","","","",""]
[null,{"$f":"IF(FORM!D56=\"\",0,1)","v":0},{"$f":"IF($B25=1,FORM!$E$20,\"\")","v":""},{"$f":"IF($B25=1,VLOOKUP($C25,Lexique!$A$1:$C$204,3,FALSE),\"\")","v":""},{"$f":"IF($B25=1,FORM!$D56&\" \"&FORM!$E56&\" / \"&FORM!$F56&\" / [\"&FORM!$AP56&\"]\",\"\")","v":""},{"$f":"IF($B25=1,FORM!$H56,\"\")","v":""},{"$f":"IF($B25=1,FORM!$U56,\"\")","v":""},{"$f":"IF($B25=1,FORM!$V56,\"\")","v":""},{"$f":"IF($B25=1,FORM!$W56,\"\")","v":""},"",{"$f":"IF($B25=1,FORM!$Y56,\"\")","v":""},{"$f":"IF($B25=1,FORM!$Z56,\"\")","v":""},"","","","","",""]
[null,{"$f":"IF(FORM!D57=\"\",0,1)","v":0},{"$f":"IF($B26=1,FORM!$E$20,\"\")","v":""},{"$f":"IF($B26=1,VLOOKUP($C26,Lexique!$A$1:$C$204,3,FALSE),\"\")","v":""},{"$f":"IF($B26=1,FORM!$D57&\" \"&FORM!$E57&\" / \"&FORM!$F57&\" / [\"&FORM!$AP57&\"]\",\"\")","v":""},{"$f":"IF($B26=1,FORM!$H57,\"\")","v":""},{"$f":"IF($B26=1,FORM!$U57,\"\")","v":""},{"$f":"IF($B26=1,FORM!$V57,\"\")","v":""},{"$f":"IF($B26=1,FORM!$W57,\"\")","v":""},"",{"$f":"IF($B26=1,FORM!$Y57,\"\")","v":""},{"$f":"IF($B26=1,FORM!$Z57,\"\")","v":""},"","","","","",""]
[null,{"$f":"IF(FORM!D58=\"\",0,1)","v":0},{"$f":"IF($B27=1,FORM!$E$20,\"\")","v":""},{"$f":"IF($B27=1,VLOOKUP($C27,Lexique!$A$1:$C$204,3,FALSE),\"\")","v":""},{"$f":"IF($B27=1,FORM!$D58&\" \"&FORM!$E58&\" / \"&FORM!$F58&\" / [\"&FORM!$AP58&\"]\",\"\")","v":""},{"$f":"IF($B27=1,FORM!$H58,\"\")","v":""},{"$f":"IF($B27=1,FORM!$U58,\"\")","v":""},{"$f":"IF($B27=1,FORM!$V58,\"\")","v":""},{"$f":"IF($B27=1,FORM!$W58,\"\")","v":""},"",{"$f":"IF($B27=1,FORM!$Y58,\"\")","v":""},{"$f":"IF($B27=1,FORM!$Z58,\"\")","v":""},"","","","","",""]
[null,{"$f":"IF(FORM!D59=\"\",0,1)","v":0},{"$f":"IF($B28=1,FORM!$E$20,\"\")","v":""},{"$f":"IF($B28=1,VLOOKUP($C28,Lexique!$A$1:$C$204,3,FALSE),\"\")","v":""},{"$f":"IF($B28=1,FORM!$D59&\" \"&FORM!$E59&\" / \"&FORM!$F59&\" / [\"&FORM!$AP59&\"]\",\"\")","v":""},{"$f":"IF($B28=1,FORM!$H59,\"\")","v":""},{"$f":"IF($B28=1,FORM!$U59,\"\")","v":""},{"$f":"IF($B28=1,FORM!$V59,\"\")","v":""},{"$f":"IF($B28=1,FORM!$W59,\"\")","v":""},"",{"$f":"IF($B28=1,FORM!$Y59,\"\")","v":""},{"$f":"IF($B28=1,FORM!$Z59,\"\")","v":""},"","","","","",""]
[null,{"$f":"IF(FORM!D60=\"\",0,1)","v":0},{"$f":"IF($B29=1,FORM!$E$20,\"\")","v":""},{"$f":"IF($B29=1,VLOOKUP($C29,Lexique!$A$1:$C$204,3,FALSE),\"\")","v":""},{"$f":"IF($B29=1,FORM!$D60&\" \"&FORM!$E60&\" / \"&FORM!$F60&\" / [\"&FORM!$AP60&\"]\",\"\")","v":""},{"$f":"IF($B29=1,FORM!$H60,\"\")","v":""},{"$f":"IF($B29=1,FORM!$U60,\"\")","v":""},{"$f":"IF($B29=1,FORM!$V60,\"\")","v":""},{"$f":"IF($B29=1,FORM!$W60,\"\")","v":""},"",{"$f":"IF($B29=1,FORM!$Y60,\"\")","v":""},{"$f":"IF($B29=1,FORM!$Z60,\"\")","v":""},"","","","","",""]
[null,{"$f":"IF(FORM!D61=\"\",0,1)","v":0},{"$f":"IF($B30=1,FORM!$E$20,\"\")","v":""},{"$f":"IF($B30=1,VLOOKUP($C30,Lexique!$A$1:$C$204,3,FALSE),\"\")","v":""},{"$f":"IF($B30=1,FORM!$D61&\" \"&FORM!$E61&\" / \"&FORM!$F61&\" / [\"&FORM!$AP61&\"]\",\"\")","v":""},{"$f":"IF($B30=1,FORM!$H61,\"\")","v":""},{"$f":"IF($B30=1,FORM!$U61,\"\")","v":""},{"$f":"IF($B30=1,FORM!$V61,\"\")","v":""},{"$f":"IF($B30=1,FORM!$W61,\"\")","v":""},"",{"$f":"IF($B30=1,FORM!$Y61,\"\")","v":""},{"$f":"IF($B30=1,FORM!$Z61,\"\")","v":""},"","","","","",""]
[null,{"$f":"IF(FORM!D62=\"\",0,1)","v":0},{"$f":"IF($B31=1,FORM!$E$20,\"\")","v":""},{"$f":"IF($B31=1,VLOOKUP($C31,Lexique!$A$1:$C$204,3,FALSE),\"\")","v":""},{"$f":"IF($B31=1,FORM!$D62&\" \"&FORM!$E62&\" / \"&FORM!$F62&\" / [\"&FORM!$AP62&\"]\",\"\")","v":""},{"$f":"IF($B31=1,FORM!$H62,\"\")","v":""},{"$f":"IF($B31=1,FORM!$U62,\"\")","v":""},{"$f":"IF($B31=1,FORM!$V62,\"\")","v":""},{"$f":"IF($B31=1,FORM!$W62,\"\")","v":""},"",{"$f":"IF($B31=1,FORM!$Y62,\"\")","v":""},{"$f":"IF($B31=1,FORM!$Z62,\"\")","v":""},"","","","","",""]
[null,{"$f":"IF(FORM!D63=\"\",0,1)","v":0},{"$f":"IF($B32=1,FORM!$E$20,\"\")","v":""},{"$f":"IF($B32=1,VLOOKUP($C32,Lexique!$A$1:$C$204,3,FALSE),\"\")","v":""},{"$f":"IF($B32=1,FORM!$D63&\" \"&FORM!$E63&\" / \"&FORM!$F63&\" / [\"&FORM!$AP63&\"]\",\"\")","v":""},{"$f":"IF($B32=1,FORM!$H63,\"\")","v":""},{"$f":"IF($B32=1,FORM!$U63,\"\")","v":""},{"$f":"IF($B32=1,FORM!$V63,\"\")","v":""},{"$f":"IF($B32=1,FORM!$W63,\"\")","v":""},"",{"$f":"IF($B32=1,FORM!$Y63,\"\")","v":""},{"$f":"IF($B32=1,FORM!$Z63,\"\")","v":""},"","","","","",""]
[null,{"$f":"IF(FORM!D64=\"\",0,1)","v":0},{"$f":"IF($B33=1,FORM!$E$20,\"\")","v":""},{"$f":"IF($B33=1,VLOOKUP($C33,Lexique!$A$1:$C$204,3,FALSE),\"\")","v":""},{"$f":"IF($B33=1,FORM!$D64&\" \"&FORM!$E64&\" / \"&FORM!$F64&\" / [\"&FORM!$AP64&\"]\",\"\")","v":""},{"$f":"IF($B33=1,FORM!$H64,\"\")","v":""},{"$f":"IF($B33=1,FORM!$U64,\"\")","v":""},{"$f":"IF($B33=1,FORM!$V64,\"\")","v":""},{"$f":"IF($B33=1,FORM!$W64,\"\")","v":""},"",{"$f":"IF($B33=1,FORM!$Y64,\"\")","v":""},{"$f":"IF($B33=1,FORM!$Z64,\"\")","v":""},"","","","","",""]
[null,{"$f":"IF(FORM!D65=\"\",0,1)","v":0},{"$f":"IF($B34=1,FORM!$E$20,\"\")","v":""},{"$f":"IF($B34=1,VLOOKUP($C34,Lexique!$A$1:$C$204,3,FALSE),\"\")","v":""},{"$f":"IF($B34=1,FORM!$D65&\" \"&FORM!$E65&\" / \"&FORM!$F65&\" / [\"&FORM!$AP65&\"]\",\"\")","v":""},{"$f":"IF($B34=1,FORM!$H65,\"\")","v":""},{"$f":"IF($B34=1,FORM!$U65,\"\")","v":""},{"$f":"IF($B34=1,FORM!$V65,\"\")","v":""},{"$f":"IF($B34=1,FORM!$W65,\"\")","v":""},"",{"$f":"IF($B34=1,FORM!$Y65,\"\")","v":""},{"$f":"IF($B34=1,FORM!$Z65,\"\")","v":""},"","","","","",""]
[null,{"$f":"IF(FORM!D66=\"\",0,1)","v":0},{"$f":"IF($B35=1,FORM!$E$20,\"\")","v":""},{"$f":"IF($B35=1,VLOOKUP($C35,Lexique!$A$1:$C$204,3,FALSE),\"\")","v":""},{"$f":"IF($B35=1,FORM!$D66&\" \"&FORM!$E66&\" / \"&FORM!$F66&\" / [\"&FORM!$AP66&\"]\",\"\")","v":""},{"$f":"IF($B35=1,FORM!$H66,\"\")","v":""},{"$f":"IF($B35=1,FORM!$U66,\"\")","v":""},{"$f":"IF($B35=1,FORM!$V66,\"\")","v":""},{"$f":"IF($B35=1,FORM!$W66,\"\")","v":""},"",{"$f":"IF($B35=1,FORM!$Y66,\"\")","v":""},{"$f":"IF($B35=1,FORM!$Z66,\"\")","v":""},"","","","","",""]
[null,{"$f":"IF(FORM!D67=\"\",0,1)","v":0},{"$f":"IF($B36=1,FORM!$E$20,\"\")","v":""},{"$f":"IF($B36=1,VLOOKUP($C36,Lexique!$A$1:$C$204,3,FALSE),\"\")","v":""},{"$f":"IF($B36=1,FORM!$D67&\" \"&FORM!$E67&\" / \"&FORM!$F67&\" / [\"&FORM!$AP67&\"]\",\"\")","v":""},{"$f":"IF($B36=1,FORM!$H67,\"\")","v":""},{"$f":"IF($B36=1,FORM!$U67,\"\")","v":""},{"$f":"IF($B36=1,FORM!$V67,\"\")","v":""},{"$f":"IF($B36=1,FORM!$W67,\"\")","v":""},"",{"$f":"IF($B36=1,FORM!$Y67,\"\")","v":""},{"$f":"IF($B36=1,FORM!$Z67,\"\")","v":""},"","","","","",""]
[null,{"$f":"IF(FORM!D68=\"\",0,1)","v":0},{"$f":"IF($B37=1,FORM!$E$20,\"\")","v":""},{"$f":"IF($B37=1,VLOOKUP($C37,Lexique!$A$1:$C$204,3,FALSE),\"\")","v":""},{"$f":"IF($B37=1,FORM!$D68&\" \"&FORM!$E68&\" / \"&FORM!$F68&\" / [\"&FORM!$AP68&\"]\",\"\")","v":""},{"$f":"IF($B37=1,FORM!$H68,\"\")","v":""},{"$f":"IF($B37=1,FORM!$U68,\"\")","v":""},{"$f":"IF($B37=1,FORM!$V68,\"\")","v":""},{"$f":"IF($B37=1,FORM!$W68,\"\")","v":""},"",{"$f":"IF($B37=1,FORM!$Y68,\"\")","v":""},{"$f":"IF($B37=1,FORM!$Z68,\"\")","v":""},"","","","","",""]
[null,{"$f":"IF(FORM!D69=\"\",0,1)","v":0},{"$f":"IF($B38=1,FORM!$E$20,\"\")","v":""},{"$f":"IF($B38=1,VLOOKUP($C38,Lexique!$A$1:$C$204,3,FALSE),\"\")","v":""},{"$f":"IF($B38=1,FORM!$D69&\" \"&FORM!$E69&\" / \"&FORM!$F69&\" / [\"&FORM!$AP69&\"]\",\"\")","v":""},{"$f":"IF($B38=1,FORM!$H69,\"\")","v":""},{"$f":"IF($B38=1,FORM!$U69,\"\")","v":""},{"$f":"IF($B38=1,FORM!$V69,\"\")","v":""},{"$f":"IF($B38=1,FORM!$W69,\"\")","v":""},"",{"$f":"IF($B38=1,FORM!$Y69,\"\")","v":""},{"$f":"IF($B38=1,FORM!$Z69,\"\")","v":""},"","","","","",""]
[null,{"$f":"IF(FORM!D70=\"\",0,1)","v":0},{"$f":"IF($B39=1,FORM!$E$20,\"\")","v":""},{"$f":"IF($B39=1,VLOOKUP($C39,Lexique!$A$1:$C$204,3,FALSE),\"\")","v":""},{"$f":"IF($B39=1,FORM!$D70&\" \"&FORM!$E70&\" / \"&FORM!$F70&\" / [\"&FORM!$AP70&\"]\",\"\")","v":""},{"$f":"IF($B39=1,FORM!$H70,\"\")","v":""},{"$f":"IF($B39=1,FORM!$U70,\"\")","v":""},{"$f":"IF($B39=1,FORM!$V70,\"\")","v":""},{"$f":"IF($B39=1,FORM!$W70,\"\")","v":""},"",{"$f":"IF($B39=1,FORM!$Y70,\"\")","v":""},{"$f":"IF($B39=1,FORM!$Z70,\"\")","v":""},"","","","","",""]
[null,{"$f":"IF(FORM!D71=\"\",0,1)","v":0},{"$f":"IF($B40=1,FORM!$E$20,\"\")","v":""},{"$f":"IF($B40=1,VLOOKUP($C40,Lexique!$A$1:$C$204,3,FALSE),\"\")","v":""},{"$f":"IF($B40=1,FORM!$D71&\" \"&FORM!$E71&\" / \"&FORM!$F71&\" / [\"&FORM!$AP71&\"]\",\"\")","v":""},{"$f":"IF($B40=1,FORM!$H71,\"\")","v":""},{"$f":"IF($B40=1,FORM!$U71,\"\")","v":""},{"$f":"IF($B40=1,FORM!$V71,\"\")","v":""},{"$f":"IF($B40=1,FORM!$W71,\"\")","v":""},"",{"$f":"IF($B40=1,FORM!$Y71,\"\")","v":""},{"$f":"IF($B40=1,FORM!$Z71,\"\")","v":""},"","","","","",""]
[null,{"$f":"IF(FORM!D72=\"\",0,1)","v":0},{"$f":"IF($B41=1,FORM!$E$20,\"\")","v":""},{"$f":"IF($B41=1,VLOOKUP($C41,Lexique!$A$1:$C$204,3,FALSE),\"\")","v":""},{"$f":"IF($B41=1,FORM!$D72&\" \"&FORM!$E72&\" / \"&FORM!$F72&\" / [\"&FORM!$AP72&\"]\",\"\")","v":""},{"$f":"IF($B41=1,FORM!$H72,\"\")","v":""},{"$f":"IF($B41=1,FORM!$U72,\"\")","v":""},{"$f":"IF($B41=1,FORM!$V72,\"\")","v":""},{"$f":"IF($B41=1,FORM!$W72,\"\")","v":""},"",{"$f":"IF($B41=1,FORM!$Y72,\"\")","v":""},{"$f":"IF($B41=1,FORM!$Z72,\"\")","v":""},"","","","","",""]
[null,{"$f":"IF(FORM!D73=\"\",0,1)","v":0},{"$f":"IF($B42=1,FORM!$E$20,\"\")","v":""},{"$f":"IF($B42=1,VLOOKUP($C42,Lexique!$A$1:$C$204,3,FALSE),\"\")","v":""},{"$f":"IF($B42=1,FORM!$D73&\" \"&FORM!$E73&\" / \"&FORM!$F73&\" / [\"&FORM!$AP73&\"]\",\"\")","v":""},{"$f":"IF($B42=1,FORM!$H73,\"\")","v":""},{"$f":"IF($B42=1,FORM!$U73,\"\")","v":""},{"$f":"IF($B42=1,FORM!$V73,\"\")","v":""},{"$f":"IF($B42=1,FORM!$W73,\"\")","v":""},"",{"$f":"IF($B42=1,FORM!$Y73,\"\")","v":""},{"$f":"IF($B42=1,FORM!$Z73,\"\")","v":""},"","","","","",""]
[null,{"$f":"IF(FORM!D74=\"\",0,1)","v":0},{"$f":"IF($B43=1,FORM!$E$20,\"\")","v":""},{"$f":"IF($B43=1,VLOOKUP($C43,Lexique!$A$1:$C$204,3,FALSE),\"\")","v":""},{"$f":"IF($B43=1,FORM!$D74&\" \"&FORM!$E74&\" / \"&FORM!$F74&\" / [\"&FORM!$AP74&\"]\",\"\")","v":""},{"$f":"IF($B43=1,FORM!$H74,\"\")","v":""},{"$f":"IF($B43=1,FORM!$U74,\"\")","v":""},{"$f":"IF($B43=1,FORM!$V74,\"\")","v":""},{"$f":"IF($B43=1,FORM!$W74,\"\")","v":""},"",{"$f":"IF($B43=1,FORM!$Y74,\"\")","v":""},{"$f":"IF($B43=1,FORM!$Z74,\"\")","v":""},"","","","","",""]
[null,{"$f":"IF(FORM!D75=\"\",0,1)","v":0},{"$f":"IF($B44=1,FORM!$E$20,\"\")","v":""},{"$f":"IF($B44=1,VLOOKUP($C44,Lexique!$A$1:$C$204,3,FALSE),\"\")","v":""},{"$f":"IF($B44=1,FORM!$D75&\" \"&FORM!$E75&\" / \"&FORM!$F75&\" / [\"&FORM!$AP75&\"]\",\"\")","v":""},{"$f":"IF($B44=1,FORM!$H75,\"\")","v":""},{"$f":"IF($B44=1,FORM!$U75,\"\")","v":""},{"$f":"IF($B44=1,FORM!$V75,\"\")","v":""},{"$f":"IF($B44=1,FORM!$W75,\"\")","v":""},"",{"$f":"IF($B44=1,FORM!$Y75,\"\")","v":""},{"$f":"IF($B44=1,FORM!$Z75,\"\")","v":""},"","","","","",""]
[null,{"$f":"IF(FORM!D76=\"\",0,1)","v":0},{"$f":"IF($B45=1,FORM!$E$20,\"\")","v":""},{"$f":"IF($B45=1,VLOOKUP($C45,Lexique!$A$1:$C$204,3,FALSE),\"\")","v":""},{"$f":"IF($B45=1,FORM!$D76&\" \"&FORM!$E76&\" / \"&FORM!$F76&\" / [\"&FORM!$AP76&\"]\",\"\")","v":""},{"$f":"IF($B45=1,FORM!$H76,\"\")","v":""},{"$f":"IF($B45=1,FORM!$U76,\"\")","v":""},{"$f":"IF($B45=1,FORM!$V76,\"\")","v":""},{"$f":"IF($B45=1,FORM!$W76,\"\")","v":""},"",{"$f":"IF($B45=1,FORM!$Y76,\"\")","v":""},{"$f":"IF($B45=1,FORM!$Z76,\"\")","v":""},"","","","","",""]
[null,{"$f":"IF(FORM!D77=\"\",0,1)","v":0},{"$f":"IF($B46=1,FORM!$E$20,\"\")","v":""},{"$f":"IF($B46=1,VLOOKUP($C46,Lexique!$A$1:$C$204,3,FALSE),\"\")","v":""},{"$f":"IF($B46=1,FORM!$D77&\" \"&FORM!$E77&\" / \"&FORM!$F77&\" / [\"&FORM!$AP77&\"]\",\"\")","v":""},{"$f":"IF($B46=1,FORM!$H77,\"\")","v":""},{"$f":"IF($B46=1,FORM!$U77,\"\")","v":""},{"$f":"IF($B46=1,FORM!$V77,\"\")","v":""},{"$f":"IF($B46=1,FORM!$W77,\"\")","v":""},"",{"$f":"IF($B46=1,FORM!$Y77,\"\")","v":""},{"$f":"IF($B46=1,FORM!$Z77,\"\")","v":""},"","","","","",""]
[null,{"$f":"IF(FORM!D78=\"\",0,1)","v":0},{"$f":"IF($B47=1,FORM!$E$20,\"\")","v":""},{"$f":"IF($B47=1,VLOOKUP($C47,Lexique!$A$1:$C$204,3,FALSE),\"\")","v":""},{"$f":"IF($B47=1,FORM!$D78&\" \"&FORM!$E78&\" / \"&FORM!$F78&\" / [\"&FORM!$AP78&\"]\",\"\")","v":""},{"$f":"IF($B47=1,FORM!$H78,\"\")","v":""},{"$f":"IF($B47=1,FORM!$U78,\"\")","v":""},{"$f":"IF($B47=1,FORM!$V78,\"\")","v":""},{"$f":"IF($B47=1,FORM!$W78,\"\")","v":""},"",{"$f":"IF($B47=1,FORM!$Y78,\"\")","v":""},{"$f":"IF($B47=1,FORM!$Z78,\"\")","v":""},"","","","","",""]
[null,{"$f":"IF(FORM!D79=\"\",0,1)","v":0},{"$f":"IF($B48=1,FORM!$E$20,\"\")","v":""},{"$f":"IF($B48=1,VLOOKUP($C48,Lexique!$A$1:$C$204,3,FALSE),\"\")","v":""},{"$f":"IF($B48=1,FORM!$D79&\" \"&FORM!$E79&\" / \"&FORM!$F79&\" / [\"&FORM!$AP79&\"]\",\"\")","v":""},{"$f":"IF($B48=1,FORM!$H79,\"\")","v":""},{"$f":"IF($B48=1,FORM!$U79,\"\")","v":""},{"$f":"IF($B48=1,FORM!$V79,\"\")","v":""},{"$f":"IF($B48=1,FORM!$W79,\"\")","v":""},"",{"$f":"IF($B48=1,FORM!$Y79,\"\")","v":""},{"$f":"IF($B48=1,FORM!$Z79,\"\")","v":""},"","","","","",""]
[null,{"$f":"IF(FORM!D80=\"\",0,1)","v":0},{"$f":"IF($B49=1,FORM!$E$20,\"\")","v":""},{"$f":"IF($B49=1,VLOOKUP($C49,Lexique!$A$1:$C$204,3,FALSE),\"\")","v":""},{"$f":"IF($B49=1,FORM!$D80&\" \"&FORM!$E80&\" / \"&FORM!$F80&\" / [\"&FORM!$AP80&\"]\",\"\")","v":""},{"$f":"IF($B49=1,FORM!$H80,\"\")","v":""},{"$f":"IF($B49=1,FORM!$U80,\"\")","v":""},{"$f":"IF($B49=1,FORM!$V80,\"\")","v":""},{"$f":"IF($B49=1,FORM!$W80,\"\")","v":""},"",{"$f":"IF($B49=1,FORM!$Y80,\"\")","v":""},{"$f":"IF($B49=1,FORM!$Z80,\"\")","v":""},"","","","","",""]
[null,{"$f":"IF(FORM!D81=\"\",0,1)","v":0},{"$f":"IF($B50=1,FORM!$E$20,\"\")","v":""},{"$f":"IF($B50=1,VLOOKUP($C50,Lexique!$A$1:$C$204,3,FALSE),\"\")","v":""},{"$f":"IF($B50=1,FORM!$D81&\" \"&FORM!$E81&\" / \"&FORM!$F81&\" / [\"&FORM!$AP81&\"]\",\"\")","v":""},{"$f":"IF($B50=1,FORM!$H81,\"\")","v":""},{"$f":"IF($B50=1,FORM!$U81,\"\")","v":""},{"$f":"IF($B50=1,FORM!$V81,\"\")","v":""},{"$f":"IF($B50=1,FORM!$W81,\"\")","v":""},"",{"$f":"IF($B50=1,FORM!$Y81,\"\")","v":""},{"$f":"IF($B50=1,FORM!$Z81,\"\")","v":""},"","","","","",""]
[null,{"$f":"IF(FORM!D82=\"\",0,1)","v":0},{"$f":"IF($B51=1,FORM!$E$20,\"\")","v":""},{"$f":"IF($B51=1,VLOOKUP($C51,Lexique!$A$1:$C$204,3,FALSE),\"\")","v":""},{"$f":"IF($B51=1,FORM!$D82&\" \"&FORM!$E82&\" / \"&FORM!$F82&\" / [\"&FORM!$AP82&\"]\",\"\")","v":""},{"$f":"IF($B51=1,FORM!$H82,\"\")","v":""},{"$f":"IF($B51=1,FORM!$U82,\"\")","v":""},{"$f":"IF($B51=1,FORM!$V82,\"\")","v":""},{"$f":"IF($B51=1,FORM!$W82,\"\")","v":""},"",{"$f":"IF($B51=1,FORM!$Y82,\"\")","v":""},{"$f":"IF($B51=1,FORM!$Z82,\"\")","v":""},"","","","","",""]
[null,{"$f":"IF(FORM!D83=\"\",0,1)","v":0},{"$f":"IF($B52=1,FORM!$E$20,\"\")","v":""},{"$f":"IF($B52=1,VLOOKUP($C52,Lexique!$A$1:$C$204,3,FALSE),\"\")","v":""},{"$f":"IF($B52=1,FORM!$D83&\" \"&FORM!$E83&\" / \"&FORM!$F83&\" / [\"&FORM!$AP83&\"]\",\"\")","v":""},{"$f":"IF($B52=1,FORM!$H83,\"\")","v":""},{"$f":"IF($B52=1,FORM!$U83,\"\")","v":""},{"$f":"IF($B52=1,FORM!$V83,\"\")","v":""},{"$f":"IF($B52=1,FORM!$W83,\"\")","v":""},"",{"$f":"IF($B52=1,FORM!$Y83,\"\")","v":""},{"$f":"IF($B52=1,FORM!$Z83,\"\")","v":""},"","","","","",""]
[null,{"$f":"IF(FORM!D84=\"\",0,1)","v":0},{"$f":"IF($B53=1,FORM!$E$20,\"\")","v":""},{"$f":"IF($B53=1,VLOOKUP($C53,Lexique!$A$1:$C$204,3,FALSE),\"\")","v":""},{"$f":"IF($B53=1,FORM!$D84&\" \"&FORM!$E84&\" / \"&FORM!$F84&\" / [\"&FORM!$AP84&\"]\",\"\")","v":""},{"$f":"IF($B53=1,FORM!$H84,\"\")","v":""},{"$f":"IF($B53=1,FORM!$U84,\"\")","v":""},{"$f":"IF($B53=1,FORM!$V84,\"\")","v":""},{"$f":"IF($B53=1,FORM!$W84,\"\")","v":""},"",{"$f":"IF($B53=1,FORM!$Y84,\"\")","v":""},{"$f":"IF($B53=1,FORM!$Z84,\"\")","v":""},"","","","","",""]
[null,{"$f":"IF(FORM!D85=\"\",0,1)","v":0},{"$f":"IF($B54=1,FORM!$E$20,\"\")","v":""},{"$f":"IF($B54=1,VLOOKUP($C54,Lexique!$A$1:$C$204,3,FALSE),\"\")","v":""},{"$f":"IF($B54=1,FORM!$D85&\" \"&FORM!$E85&\" / \"&FORM!$F85&\" / [\"&FORM!$AP85&\"]\",\"\")","v":""},{"$f":"IF($B54=1,FORM!$H85,\"\")","v":""},{"$f":"IF($B54=1,FORM!$U85,\"\")","v":""},{"$f":"IF($B54=1,FORM!$V85,\"\")","v":""},{"$f":"IF($B54=1,FORM!$W85,\"\")","v":""},"",{"$f":"IF($B54=1,FORM!$Y85,\"\")","v":""},{"$f":"IF($B54=1,FORM!$Z85,\"\")","v":""},"","","","","",""]
[null,{"$f":"IF(FORM!D86=\"\",0,1)","v":0},{"$f":"IF($B55=1,FORM!$E$20,\"\")","v":""},{"$f":"IF($B55=1,VLOOKUP($C55,Lexique!$A$1:$C$204,3,FALSE),\"\")","v":""},{"$f":"IF($B55=1,FORM!$D86&\" \"&FORM!$E86&\" / \"&FORM!$F86&\" / [\"&FORM!$AP86&\"]\",\"\")","v":""},{"$f":"IF($B55=1,FORM!$H86,\"\")","v":""},{"$f":"IF($B55=1,FORM!$U86,\"\")","v":""},{"$f":"IF($B55=1,FORM!$V86,\"\")","v":""},{"$f":"IF($B55=1,FORM!$W86,\"\")","v":""},"",{"$f":"IF($B55=1,FORM!$Y86,\"\")","v":""},{"$f":"IF($B55=1,FORM!$Z86,\"\")","v":""},"","","","","",""]
[null,{"$f":"IF(FORM!D87=\"\",0,1)","v":0},{"$f":"IF($B56=1,FORM!$E$20,\"\")","v":""},{"$f":"IF($B56=1,VLOOKUP($C56,Lexique!$A$1:$C$204,3,FALSE),\"\")","v":""},{"$f":"IF($B56=1,FORM!$D87&\" \"&FORM!$E87&\" / \"&FORM!$F87&\" / [\"&FORM!$AP87&\"]\",\"\")","v":""},{"$f":"IF($B56=1,FORM!$H87,\"\")","v":""},{"$f":"IF($B56=1,FORM!$U87,\"\")","v":""},{"$f":"IF($B56=1,FORM!$V87,\"\")","v":""},{"$f":"IF($B56=1,FORM!$W87,\"\")","v":""},"",{"$f":"IF($B56=1,FORM!$Y87,\"\")","v":""},{"$f":"IF($B56=1,FORM!$Z87,\"\")","v":""},"","","","","",""]
[null,{"$f":"IF(FORM!D88=\"\",0,1)","v":0},{"$f":"IF($B57=1,FORM!$E$20,\"\")","v":""},{"$f":"IF($B57=1,VLOOKUP($C57,Lexique!$A$1:$C$204,3,FALSE),\"\")","v":""},{"$f":"IF($B57=1,FORM!$D88&\" \"&FORM!$E88&\" / \"&FORM!$F88&\" / [\"&FORM!$AP88&\"]\",\"\")","v":""},{"$f":"IF($B57=1,FORM!$H88,\"\")","v":""},{"$f":"IF($B57=1,FORM!$U88,\"\")","v":""},{"$f":"IF($B57=1,FORM!$V88,\"\")","v":""},{"$f":"IF($B57=1,FORM!$W88,\"\")","v":""},"",{"$f":"IF($B57=1,FORM!$Y88,\"\")","v":""},{"$f":"IF($B57=1,FORM!$Z88,\"\")","v":""},"","","","","",""]
[null,{"$f":"IF(FORM!D89=\"\",0,1)","v":0},{"$f":"IF($B58=1,FORM!$E$20,\"\")","v":""},{"$f":"IF($B58=1,VLOOKUP($C58,Lexique!$A$1:$C$204,3,FALSE),\"\")","v":""},{"$f":"IF($B58=1,FORM!$D89&\" \"&FORM!$E89&\" / \"&FORM!$F89&\" / [\"&FORM!$AP89&\"]\",\"\")","v":""},{"$f":"IF($B58=1,FORM!$H89,\"\")","v":""},{"$f":"IF($B58=1,FORM!$U89,\"\")","v":""},{"$f":"IF($B58=1,FORM!$V89,\"\")","v":""},{"$f":"IF($B58=1,FORM!$W89,\"\")","v":""},"",{"$f":"IF($B58=1,FORM!$Y89,\"\")","v":""},{"$f":"IF($B58=1,FORM!$Z89,\"\")","v":""},"","","","","",""]
[null,{"$f":"IF(FORM!D90=\"\",0,1)","v":0},{"$f":"IF($B59=1,FORM!$E$20,\"\")","v":""},{"$f":"IF($B59=1,VLOOKUP($C59,Lexique!$A$1:$C$204,3,FALSE),\"\")","v":""},{"$f":"IF($B59=1,FORM!$D90&\" \"&FORM!$E90&\" / \"&FORM!$F90&\" / [\"&FORM!$AP90&\"]\",\"\")","v":""},{"$f":"IF($B59=1,FORM!$H90,\"\")","v":""},{"$f":"IF($B59=1,FORM!$U90,\"\")","v":""},{"$f":"IF($B59=1,FORM!$V90,\"\")","v":""},{"$f":"IF($B59=1,FORM!$W90,\"\")","v":""},"",{"$f":"IF($B59=1,FORM!$Y90,\"\")","v":""},{"$f":"IF($B59=1,FORM!$Z90,\"\")","v":""},"","","","","",""]
[null,{"$f":"IF(FORM!D91=\"\",0,1)","v":0},{"$f":"IF($B60=1,FORM!$E$20,\"\")","v":""},{"$f":"IF($B60=1,VLOOKUP($C60,Lexique!$A$1:$C$204,3,FALSE),\"\")","v":""},{"$f":"IF($B60=1,FORM!$D91&\" \"&FORM!$E91&\" / \"&FORM!$F91&\" / [\"&FORM!$AP91&\"]\",\"\")","v":""},{"$f":"IF($B60=1,FORM!$H91,\"\")","v":""},{"$f":"IF($B60=1,FORM!$U91,\"\")","v":""},{"$f":"IF($B60=1,FORM!$V91,\"\")","v":""},{"$f":"IF($B60=1,FORM!$W91,\"\")","v":""},"",{"$f":"IF($B60=1,FORM!$Y91,\"\")","v":""},{"$f":"IF($B60=1,FORM!$Z91,\"\")","v":""},"","","","","",""]
[null,{"$f":"IF(FORM!D92=\"\",0,1)","v":0},{"$f":"IF($B61=1,FORM!$E$20,\"\")","v":""},{"$f":"IF($B61=1,VLOOKUP($C61,Lexique!$A$1:$C$204,3,FALSE),\"\")","v":""},{"$f":"IF($B61=1,FORM!$D92&\" \"&FORM!$E92&\" / \"&FORM!$F92&\" / [\"&FORM!$AP92&\"]\",\"\")","v":""},{"$f":"IF($B61=1,FORM!$H92,\"\")","v":""},{"$f":"IF($B61=1,FORM!$U92,\"\")","v":""},{"$f":"IF($B61=1,FORM!$V92,\"\")","v":""},{"$f":"IF($B61=1,FORM!$W92,\"\")","v":""},"",{"$f":"IF($B61=1,FORM!$Y92,\"\")","v":""},{"$f":"IF($B61=1,FORM!$Z92,\"\")","v":""},"","","","","",""]
[null,{"$f":"IF(FORM!D93=\"\",0,1)","v":0},{"$f":"IF($B62=1,FORM!$E$20,\"\")","v":""},{"$f":"IF($B62=1,VLOOKUP($C62,Lexique!$A$1:$C$204,3,FALSE),\"\")","v":""},{"$f":"IF($B62=1,FORM!$D93&\" \"&FORM!$E93&\" / \"&FORM!$F93&\" / [\"&FORM!$AP93&\"]\",\"\")","v":""},{"$f":"IF($B62=1,FORM!$H93,\"\")","v":""},{"$f":"IF($B62=1,FORM!$U93,\"\")","v":""},{"$f":"IF($B62=1,FORM!$V93,\"\")","v":""},{"$f":"IF($B62=1,FORM!$W93,\"\")","v":""},"",{"$f":"IF($B62=1,FORM!$Y93,\"\")","v":""},{"$f":"IF($B62=1,FORM!$Z93,\"\")","v":""},"","","","","",""]
[null,{"$f":"IF(FORM!D94=\"\",0,1)","v":0},{"$f":"IF($B63=1,FORM!$E$20,\"\")","v":""},{"$f":"IF($B63=1,VLOOKUP($C63,Lexique!$A$1:$C$204,3,FALSE),\"\")","v":""},{"$f":"IF($B63=1,FORM!$D94&\" \"&FORM!$E94&\" / \"&FORM!$F94&\" / [\"&FORM!$AP94&\"]\",\"\")","v":""},{"$f":"IF($B63=1,FORM!$H94,\"\")","v":""},{"$f":"IF($B63=1,FORM!$U94,\"\")","v":""},{"$f":"IF($B63=1,FORM!$V94,\"\")","v":""},{"$f":"IF($B63=1,FORM!$W94,\"\")","v":""},"",{"$f":"IF($B63=1,FORM!$Y94,\"\")","v":""},{"$f":"IF($B63=1,FORM!$Z94,\"\")","v":""},"","","","","",""]
[null,{"$f":"IF(FORM!D95=\"\",0,1)","v":0},{"$f":"IF($B64=1,FORM!$E$20,\"\")","v":""},{"$f":"IF($B64=1,VLOOKUP($C64,Lexique!$A$1:$C$204,3,FALSE),\"\")","v":""},{"$f":"IF($B64=1,FORM!$D95&\" \"&FORM!$E95&\" / \"&FORM!$F95&\" / [\"&FORM!$AP95&\"]\",\"\")","v":""},{"$f":"IF($B64=1,FORM!$H95,\"\")","v":""},{"$f":"IF($B64=1,FORM!$U95,\"\")","v":""},{"$f":"IF($B64=1,FORM!$V95,\"\")","v":""},{"$f":"IF($B64=1,FORM!$W95,\"\")","v":""},"",{"$f":"IF($B64=1,FORM!$Y95,\"\")","v":""},{"$f":"IF($B64=1,FORM!$Z95,\"\")","v":""},"","","","","",""]
[null,{"$f":"IF(FORM!D96=\"\",0,1)","v":0},{"$f":"IF($B65=1,FORM!$E$20,\"\")","v":""},{"$f":"IF($B65=1,VLOOKUP($C65,Lexique!$A$1:$C$204,3,FALSE),\"\")","v":""},{"$f":"IF($B65=1,FORM!$D96&\" \"&FORM!$E96&\" / \"&FORM!$F96&\" / [\"&FORM!$AP96&\"]\",\"\")","v":""},{"$f":"IF($B65=1,FORM!$H96,\"\")","v":""},{"$f":"IF($B65=1,FORM!$U96,\"\")","v":""},{"$f":"IF($B65=1,FORM!$V96,\"\")","v":""},{"$f":"IF($B65=1,FORM!$W96,\"\")","v":""},"",{"$f":"IF($B65=1,FORM!$Y96,\"\")","v":""},{"$f":"IF($B65=1,FORM!$Z96,\"\")","v":""},"","","","","",""]
[null,{"$f":"IF(FORM!D97=\"\",0,1)","v":0},{"$f":"IF($B66=1,FORM!$E$20,\"\")","v":""},{"$f":"IF($B66=1,VLOOKUP($C66,Lexique!$A$1:$C$204,3,FALSE),\"\")","v":""},{"$f":"IF($B66=1,FORM!$D97&\" \"&FORM!$E97&\" / \"&FORM!$F97&\" / [\"&FORM!$AP97&\"]\",\"\")","v":""},{"$f":"IF($B66=1,FORM!$H97,\"\")","v":""},{"$f":"IF($B66=1,FORM!$U97,\"\")","v":""},{"$f":"IF($B66=1,FORM!$V97,\"\")","v":""},{"$f":"IF($B66=1,FORM!$W97,\"\")","v":""},"",{"$f":"IF($B66=1,FORM!$Y97,\"\")","v":""},{"$f":"IF($B66=1,FORM!$Z97,\"\")","v":""},"","","","","",""]
[null,{"$f":"IF(FORM!D98=\"\",0,1)","v":0},{"$f":"IF($B67=1,FORM!$E$20,\"\")","v":""},{"$f":"IF($B67=1,VLOOKUP($C67,Lexique!$A$1:$C$204,3,FALSE),\"\")","v":""},{"$f":"IF($B67=1,FORM!$D98&\" \"&FORM!$E98&\" / \"&FORM!$F98&\" / [\"&FORM!$AP98&\"]\",\"\")","v":""},{"$f":"IF($B67=1,FORM!$H98,\"\")","v":""},{"$f":"IF($B67=1,FORM!$U98,\"\")","v":""},{"$f":"IF($B67=1,FORM!$V98,\"\")","v":""},{"$f":"IF($B67=1,FORM!$W98,\"\")","v":""},{"$f":"IF($B67=1,$I67-$H67,\"\")","v":""},{"$f":"IF($B67=1,FORM!$Y98,\"\")","v":""},{"$f":"IF($B67=1,FORM!$Z98,\"\")","v":""},{"$f":"IF($B67=0,\"\",IF(AND($H67<=$M$1,$I67>$M$1),1,0))","v":""},{"$f":"IF($B67=0,\"\",IF(AND($H67<=$N$1,$I67>$N$1),1,0))","v":""},{"$f":"IF($B67=0,\"\",IF(AND($H67<=$O$1,$I67>$O$1),1,0))","v":""},{"$f":"IF($B67=0,\"\",IF(AND($H67<=$P$1,$I67>$P$1),1,0))","v":""},{"$f":"IF($B67=0,\"\",IF(AND($H67<=$Q$1,$I67>$Q$1),1,0))","v":""},{"$f":"IF($B67=0,\"\",IF(AND($H67<=$R$1,$I67>$R$1),1,0))","v":""}]
[null,{"$f":"IF(FORM!D99=\"\",0,1)","v":0},{"$f":"IF($B68=1,FORM!$E$20,\"\")","v":""},{"$f":"IF($B68=1,VLOOKUP($C68,Lexique!$A$1:$C$204,3,FALSE),\"\")","v":""},{"$f":"IF($B68=1,FORM!$D99&\" \"&FORM!$E99&\" / \"&FORM!$F99&\" / [\"&FORM!$AP99&\"]\",\"\")","v":""},{"$f":"IF($B68=1,FORM!$H99,\"\")","v":""},{"$f":"IF($B68=1,FORM!$U99,\"\")","v":""},{"$f":"IF($B68=1,FORM!$V99,\"\")","v":""},{"$f":"IF($B68=1,FORM!$W99,\"\")","v":""},"",{"$f":"IF($B68=1,FORM!$Y99,\"\")","v":""},{"$f":"IF($B68=1,FORM!$Z99,\"\")","v":""},"","","","","",""]
[null,{"$f":"IF(FORM!D100=\"\",0,1)","v":0},{"$f":"IF($B69=1,FORM!$E$20,\"\")","v":""},{"$f":"IF($B69=1,VLOOKUP($C69,Lexique!$A$1:$C$204,3,FALSE),\"\")","v":""},{"$f":"IF($B69=1,FORM!$D100&\" \"&FORM!$E100&\" / \"&FORM!$F100&\" / [\"&FORM!$AP100&\"]\",\"\")","v":""},{"$f":"IF($B69=1,FORM!$H100,\"\")","v":""},{"$f":"IF($B69=1,FORM!$U100,\"\")","v":""},{"$f":"IF($B69=1,FORM!$V100,\"\")","v":""},{"$f":"IF($B69=1,FORM!$W100,\"\")","v":""},"",{"$f":"IF($B69=1,FORM!$Y100,\"\")","v":""},{"$f":"IF($B69=1,FORM!$Z100,\"\")","v":""},"","","","","",""]
[null,{"$f":"IF(FORM!D101=\"\",0,1)","v":0},{"$f":"IF($B70=1,FORM!$E$20,\"\")","v":""},{"$f":"IF($B70=1,VLOOKUP($C70,Lexique!$A$1:$C$204,3,FALSE),\"\")","v":""},{"$f":"IF($B70=1,FORM!$D101&\" \"&FORM!$E101&\" / \"&FORM!$F101&\" / [\"&FORM!$AP101&\"]\",\"\")","v":""},{"$f":"IF($B70=1,FORM!$H101,\"\")","v":""},{"$f":"IF($B70=1,FORM!$U101,\"\")","v":""},{"$f":"IF($B70=1,FORM!$V101,\"\")","v":""},{"$f":"IF($B70=1,FORM!$W101,\"\")","v":""},"",{"$f":"IF($B70=1,FORM!$Y101,\"\")","v":""},{"$f":"IF($B70=1,FORM!$Z101,\"\")","v":""},"","","","","",""]
[null,{"$f":"IF(FORM!D102=\"\",0,1)","v":0},{"$f":"IF($B71=1,FORM!$E$20,\"\")","v":""},{"$f":"IF($B71=1,VLOOKUP($C71,Lexique!$A$1:$C$204,3,FALSE),\"\")","v":""},{"$f":"IF($B71=1,FORM!$D102&\" \"&FORM!$E102&\" / \"&FORM!$F102&\" / [\"&FORM!$AP102&\"]\",\"\")","v":""},{"$f":"IF($B71=1,FORM!$H102,\"\")","v":""},{"$f":"IF($B71=1,FORM!$U102,\"\")","v":""},{"$f":"IF($B71=1,FORM!$V102,\"\")","v":""},{"$f":"IF($B71=1,FORM!$W102,\"\")","v":""},"",{"$f":"IF($B71=1,FORM!$Y102,\"\")","v":""},{"$f":"IF($B71=1,FORM!$Z102,\"\")","v":""},"","","","","",""]
[null,{"$f":"IF(FORM!D103=\"\",0,1)","v":0},{"$f":"IF($B72=1,FORM!$E$20,\"\")","v":""},{"$f":"IF($B72=1,VLOOKUP($C72,Lexique!$A$1:$C$204,3,FALSE),\"\")","v":""},{"$f":"IF($B72=1,FORM!$D103&\" \"&FORM!$E103&\" / \"&FORM!$F103&\" / [\"&FORM!$AP103&\"]\",\"\")","v":""},{"$f":"IF($B72=1,FORM!$H103,\"\")","v":""},{"$f":"IF($B72=1,FORM!$U103,\"\")","v":""},{"$f":"IF($B72=1,FORM!$V103,\"\")","v":""},{"$f":"IF($B72=1,FORM!$W103,\"\")","v":""},"",{"$f":"IF($B72=1,FORM!$Y103,\"\")","v":""},{"$f":"IF($B72=1,FORM!$Z103,\"\")","v":""},"","","","","",""]
[null,{"$f":"IF(FORM!D104=\"\",0,1)","v":0},{"$f":"IF($B73=1,FORM!$E$20,\"\")","v":""},{"$f":"IF($B73=1,VLOOKUP($C73,Lexique!$A$1:$C$204,3,FALSE),\"\")","v":""},{"$f":"IF($B73=1,FORM!$D104&\" \"&FORM!$E104&\" / \"&FORM!$F104&\" / [\"&FORM!$AP104&\"]\",\"\")","v":""},{"$f":"IF($B73=1,FORM!$H104,\"\")","v":""},{"$f":"IF($B73=1,FORM!$U104,\"\")","v":""},{"$f":"IF($B73=1,FORM!$V104,\"\")","v":""},{"$f":"IF($B73=1,FORM!$W104,\"\")","v":""},"",{"$f":"IF($B73=1,FORM!$Y104,\"\")","v":""},{"$f":"IF($B73=1,FORM!$Z104,\"\")","v":""},"","","","","",""]
[null,{"$f":"IF(FORM!D105=\"\",0,1)","v":0},{"$f":"IF($B74=1,FORM!$E$20,\"\")","v":""},{"$f":"IF($B74=1,VLOOKUP($C74,Lexique!$A$1:$C$204,3,FALSE),\"\")","v":""},{"$f":"IF($B74=1,FORM!$D105&\" \"&FORM!$E105&\" / \"&FORM!$F105&\" / [\"&FORM!$AP105&\"]\",\"\")","v":""},{"$f":"IF($B74=1,FORM!$H105,\"\")","v":""},{"$f":"IF($B74=1,FORM!$U105,\"\")","v":""},{"$f":"IF($B74=1,FORM!$V105,\"\")","v":""},{"$f":"IF($B74=1,FORM!$W105,\"\")","v":""},"",{"$f":"IF($B74=1,FORM!$Y105,\"\")","v":""},{"$f":"IF($B74=1,FORM!$Z105,\"\")","v":""},"","","","","",""]
[null,{"$f":"IF(FORM!D106=\"\",0,1)","v":0},{"$f":"IF($B75=1,FORM!$E$20,\"\")","v":""},{"$f":"IF($B75=1,VLOOKUP($C75,Lexique!$A$1:$C$204,3,FALSE),\"\")","v":""},{"$f":"IF($B75=1,FORM!$D106&\" \"&FORM!$E106&\" / \"&FORM!$F106&\" / [\"&FORM!$AP106&\"]\",\"\")","v":""},{"$f":"IF($B75=1,FORM!$H106,\"\")","v":""},{"$f":"IF($B75=1,FORM!$U106,\"\")","v":""},{"$f":"IF($B75=1,FORM!$V106,\"\")","v":""},{"$f":"IF($B75=1,FORM!$W106,\"\")","v":""},"",{"$f":"IF($B75=1,FORM!$Y106,\"\")","v":""},{"$f":"IF($B75=1,FORM!$Z106,\"\")","v":""},"","","","","",""]
[null,{"$f":"IF(FORM!D107=\"\",0,1)","v":0},{"$f":"IF($B76=1,FORM!$E$20,\"\")","v":""},{"$f":"IF($B76=1,VLOOKUP($C76,Lexique!$A$1:$C$204,3,FALSE),\"\")","v":""},{"$f":"IF($B76=1,FORM!$D107&\" \"&FORM!$E107&\" / \"&FORM!$F107&\" / [\"&FORM!$AP107&\"]\",\"\")","v":""},{"$f":"IF($B76=1,FORM!$H107,\"\")","v":""},{"$f":"IF($B76=1,FORM!$U107,\"\")","v":""},{"$f":"IF($B76=1,FORM!$V107,\"\")","v":""},{"$f":"IF($B76=1,FORM!$W107,\"\")","v":""},"",{"$f":"IF($B76=1,FORM!$Y107,\"\")","v":""},{"$f":"IF($B76=1,FORM!$Z107,\"\")","v":""},"","","","","",""]
[null,{"$f":"IF(FORM!D108=\"\",0,1)","v":0},{"$f":"IF($B77=1,FORM!$E$20,\"\")","v":""},{"$f":"IF($B77=1,VLOOKUP($C77,Lexique!$A$1:$C$204,3,FALSE),\"\")","v":""},{"$f":"IF($B77=1,FORM!$D108&\" \"&FORM!$E108&\" / \"&FORM!$F108&\" / [\"&FORM!$AP108&\"]\",\"\")","v":""},{"$f":"IF($B77=1,FORM!$H108,\"\")","v":""},{"$f":"IF($B77=1,FORM!$U108,\"\")","v":""},{"$f":"IF($B77=1,FORM!$V108,\"\")","v":""},{"$f":"IF($B77=1,FORM!$W108,\"\")","v":""},"",{"$f":"IF($B77=1,FORM!$Y108,\"\")","v":""},{"$f":"IF($B77=1,FORM!$Z108,\"\")","v":""},"","","","","",""]
[null,{"$f":"IF(FORM!D109=\"\",0,1)","v":0},{"$f":"IF($B78=1,FORM!$E$20,\"\")","v":""},{"$f":"IF($B78=1,VLOOKUP($C78,Lexique!$A$1:$C$204,3,FALSE),\"\")","v":""},{"$f":"IF($B78=1,FORM!$D109&\" \"&FORM!$E109&\" / \"&FORM!$F109&\" / [\"&FORM!$AP109&\"]\",\"\")","v":""},{"$f":"IF($B78=1,FORM!$H109,\"\")","v":""},{"$f":"IF($B78=1,FORM!$U109,\"\")","v":""},{"$f":"IF($B78=1,FORM!$V109,\"\")","v":""},{"$f":"IF($B78=1,FORM!$W109,\"\")","v":""},"",{"$f":"IF($B78=1,FORM!$Y109,\"\")","v":""},{"$f":"IF($B78=1,FORM!$Z109,\"\")","v":""},"","","","","",""]
[null,{"$f":"IF(FORM!D110=\"\",0,1)","v":0},{"$f":"IF($B79=1,FORM!$E$20,\"\")","v":""},{"$f":"IF($B79=1,VLOOKUP($C79,Lexique!$A$1:$C$204,3,FALSE),\"\")","v":""},{"$f":"IF($B79=1,FORM!$D110&\" \"&FORM!$E110&\" / \"&FORM!$F110&\" / [\"&FORM!$AP110&\"]\",\"\")","v":""},{"$f":"IF($B79=1,FORM!$H110,\"\")","v":""},{"$f":"IF($B79=1,FORM!$U110,\"\")","v":""},{"$f":"IF($B79=1,FORM!$V110,\"\")","v":""},{"$f":"IF($B79=1,FORM!$W110,\"\")","v":""},"",{"$f":"IF($B79=1,FORM!$Y110,\"\")","v":""},{"$f":"IF($B79=1,FORM!$Z110,\"\")","v":""},"","","","","",""]
[null,{"$f":"IF(FORM!D111=\"\",0,1)","v":0},{"$f":"IF($B80=1,FORM!$E$20,\"\")","v":""},{"$f":"IF($B80=1,VLOOKUP($C80,Lexique!$A$1:$C$204,3,FALSE),\"\")","v":""},{"$f":"IF($B80=1,FORM!$D111&\" \"&FORM!$E111&\" / \"&FORM!$F111&\" / [\"&FORM!$AP111&\"]\",\"\")","v":""},{"$f":"IF($B80=1,FORM!$H111,\"\")","v":""},{"$f":"IF($B80=1,FORM!$U111,\"\")","v":""},{"$f":"IF($B80=1,FORM!$V111,\"\")","v":""},{"$f":"IF($B80=1,FORM!$W111,\"\")","v":""},"",{"$f":"IF($B80=1,FORM!$Y111,\"\")","v":""},{"$f":"IF($B80=1,FORM!$Z111,\"\")","v":""},"","","","","",""]
[null,{"$f":"IF(FORM!D112=\"\",0,1)","v":0},{"$f":"IF($B81=1,FORM!$E$20,\"\")","v":""},{"$f":"IF($B81=1,VLOOKUP($C81,Lexique!$A$1:$C$204,3,FALSE),\"\")","v":""},{"$f":"IF($B81=1,FORM!$D112&\" \"&FORM!$E112&\" / \"&FORM!$F112&\" / [\"&FORM!$AP112&\"]\",\"\")","v":""},{"$f":"IF($B81=1,FORM!$H112,\"\")","v":""},{"$f":"IF($B81=1,FORM!$U112,\"\")","v":""},{"$f":"IF($B81=1,FORM!$V112,\"\")","v":""},{"$f":"IF($B81=1,FORM!$W112,\"\")","v":""},"",{"$f":"IF($B81=1,FORM!$Y112,\"\")","v":""},{"$f":"IF($B81=1,FORM!$Z112,\"\")","v":""},"","","","","",""]
[null,{"$f":"IF(FORM!D113=\"\",0,1)","v":0},{"$f":"IF($B82=1,FORM!$E$20,\"\")","v":""},{"$f":"IF($B82=1,VLOOKUP($C82,Lexique!$A$1:$C$204,3,FALSE),\"\")","v":""},{"$f":"IF($B82=1,FORM!$D113&\" \"&FORM!$E113&\" / \"&FORM!$F113&\" / [\"&FORM!$AP113&\"]\",\"\")","v":""},{"$f":"IF($B82=1,FORM!$H113,\"\")","v":""},{"$f":"IF($B82=1,FORM!$U113,\"\")","v":""},{"$f":"IF($B82=1,FORM!$V113,\"\")","v":""},{"$f":"IF($B82=1,FORM!$W113,\"\")","v":""},"",{"$f":"IF($B82=1,FORM!$Y113,\"\")","v":""},{"$f":"IF($B82=1,FORM!$Z113,\"\")","v":""},"","","","","",""]
[null,{"$f":"IF(FORM!D114=\"\",0,1)","v":0},{"$f":"IF($B83=1,FORM!$E$20,\"\")","v":""},{"$f":"IF($B83=1,VLOOKUP($C83,Lexique!$A$1:$C$204,3,FALSE),\"\")","v":""},{"$f":"IF($B83=1,FORM!$D114&\" \"&FORM!$E114&\" / \"&FORM!$F114&\" / [\"&FORM!$AP114&\"]\",\"\")","v":""},{"$f":"IF($B83=1,FORM!$H114,\"\")","v":""},{"$f":"IF($B83=1,FORM!$U114,\"\")","v":""},{"$f":"IF($B83=1,FORM!$V114,\"\")","v":""},{"$f":"IF($B83=1,FORM!$W114,\"\")","v":""},"",{"$f":"IF($B83=1,FORM!$Y114,\"\")","v":""},{"$f":"IF($B83=1,FORM!$Z114,\"\")","v":""},"","","","","",""]
[null,{"$f":"IF(FORM!D115=\"\",0,1)","v":0},{"$f":"IF($B84=1,FORM!$E$20,\"\")","v":""},{"$f":"IF($B84=1,VLOOKUP($C84,Lexique!$A$1:$C$204,3,FALSE),\"\")","v":""},{"$f":"IF($B84=1,FORM!$D115&\" \"&FORM!$E115&\" / \"&FORM!$F115&\" / [\"&FORM!$AP115&\"]\",\"\")","v":""},{"$f":"IF($B84=1,FORM!$H115,\"\")","v":""},{"$f":"IF($B84=1,FORM!$U115,\"\")","v":""},{"$f":"IF($B84=1,FORM!$V115,\"\")","v":""},{"$f":"IF($B84=1,FORM!$W115,\"\")","v":""},"",{"$f":"IF($B84=1,FORM!$Y115,\"\")","v":""},{"$f":"IF($B84=1,FORM!$Z115,\"\")","v":""},"","","","","",""]
[null,{"$f":"IF(FORM!D116=\"\",0,1)","v":0},{"$f":"IF($B85=1,FORM!$E$20,\"\")","v":""},{"$f":"IF($B85=1,VLOOKUP($C85,Lexique!$A$1:$C$204,3,FALSE),\"\")","v":""},{"$f":"IF($B85=1,FORM!$D116&\" \"&FORM!$E116&\" / \"&FORM!$F116&\" / [\"&FORM!$AP116&\"]\",\"\")","v":""},{"$f":"IF($B85=1,FORM!$H116,\"\")","v":""},{"$f":"IF($B85=1,FORM!$U116,\"\")","v":""},{"$f":"IF($B85=1,FORM!$V116,\"\")","v":""},{"$f":"IF($B85=1,FORM!$W116,\"\")","v":""},"",{"$f":"IF($B85=1,FORM!$Y116,\"\")","v":""},{"$f":"IF($B85=1,FORM!$Z116,\"\")","v":""},"","","","","",""]
[null,{"$f":"IF(FORM!D117=\"\",0,1)","v":0},{"$f":"IF($B86=1,FORM!$E$20,\"\")","v":""},{"$f":"IF($B86=1,VLOOKUP($C86,Lexique!$A$1:$C$204,3,FALSE),\"\")","v":""},{"$f":"IF($B86=1,FORM!$D117&\" \"&FORM!$E117&\" / \"&FORM!$F117&\" / [\"&FORM!$AP117&\"]\",\"\")","v":""},{"$f":"IF($B86=1,FORM!$H117,\"\")","v":""},{"$f":"IF($B86=1,FORM!$U117,\"\")","v":""},{"$f":"IF($B86=1,FORM!$V117,\"\")","v":""},{"$f":"IF($B86=1,FORM!$W117,\"\")","v":""},"",{"$f":"IF($B86=1,FORM!$Y117,\"\")","v":""},{"$f":"IF($B86=1,FORM!$Z117,\"\")","v":""},"","","","","",""]
[null,{"$f":"IF(FORM!D118=\"\",0,1)","v":0},{"$f":"IF($B87=1,FORM!$E$20,\"\")","v":""},{"$f":"IF($B87=1,VLOOKUP($C87,Lexique!$A$1:$C$204,3,FALSE),\"\")","v":""},{"$f":"IF($B87=1,FORM!$D118&\" \"&FORM!$E118&\" / \"&FORM!$F118&\" / [\"&FORM!$AP118&\"]\",\"\")","v":""},{"$f":"IF($B87=1,FORM!$H118,\"\")","v":""},{"$f":"IF($B87=1,FORM!$U118,\"\")","v":""},{"$f":"IF($B87=1,FORM!$V118,\"\")","v":""},{"$f":"IF($B87=1,FORM!$W118,\"\")","v":""},"",{"$f":"IF($B87=1,FORM!$Y118,\"\")","v":""},{"$f":"IF($B87=1,FORM!$Z118,\"\")","v":""},"","","","","",""]
[null,{"$f":"IF(FORM!D119=\"\",0,1)","v":0},{"$f":"IF($B88=1,FORM!$E$20,\"\")","v":""},{"$f":"IF($B88=1,VLOOKUP($C88,Lexique!$A$1:$C$204,3,FALSE),\"\")","v":""},{"$f":"IF($B88=1,FORM!$D119&\" \"&FORM!$E119&\" / \"&FORM!$F119&\" / [\"&FORM!$AP119&\"]\",\"\")","v":""},{"$f":"IF($B88=1,FORM!$H119,\"\")","v":""},{"$f":"IF($B88=1,FORM!$U119,\"\")","v":""},{"$f":"IF($B88=1,FORM!$V119,\"\")","v":""},{"$f":"IF($B88=1,FORM!$W119,\"\")","v":""},"",{"$f":"IF($B88=1,FORM!$Y119,\"\")","v":""},{"$f":"IF($B88=1,FORM!$Z119,\"\")","v":""},"","","","","",""]
[null,{"$f":"IF(FORM!D120=\"\",0,1)","v":0},{"$f":"IF($B89=1,FORM!$E$20,\"\")","v":""},{"$f":"IF($B89=1,VLOOKUP($C89,Lexique!$A$1:$C$204,3,FALSE),\"\")","v":""},{"$f":"IF($B89=1,FORM!$D120&\" \"&FORM!$E120&\" / \"&FORM!$F120&\" / [\"&FORM!$AP120&\"]\",\"\")","v":""},{"$f":"IF($B89=1,FORM!$H120,\"\")","v":""},{"$f":"IF($B89=1,FORM!$U120,\"\")","v":""},{"$f":"IF($B89=1,FORM!$V120,\"\")","v":""},{"$f":"IF($B89=1,FORM!$W120,\"\")","v":""},"",{"$f":"IF($B89=1,FORM!$Y120,\"\")","v":""},{"$f":"IF($B89=1,FORM!$Z120,\"\")","v":""},"","","","","",""]
[null,{"$f":"IF(FORM!D121=\"\",0,1)","v":0},{"$f":"IF($B90=1,FORM!$E$20,\"\")","v":""},{"$f":"IF($B90=1,VLOOKUP($C90,Lexique!$A$1:$C$204,3,FALSE),\"\")","v":""},{"$f":"IF($B90=1,FORM!$D121&\" \"&FORM!$E121&\" / \"&FORM!$F121&\" / [\"&FORM!$AP121&\"]\",\"\")","v":""},{"$f":"IF($B90=1,FORM!$H121,\"\")","v":""},{"$f":"IF($B90=1,FORM!$U121,\"\")","v":""},{"$f":"IF($B90=1,FORM!$V121,\"\")","v":""},{"$f":"IF($B90=1,FORM!$W121,\"\")","v":""},"",{"$f":"IF($B90=1,FORM!$Y121,\"\")","v":""},{"$f":"IF($B90=1,FORM!$Z121,\"\")","v":""},"","","","","",""]
[null,{"$f":"IF(FORM!D122=\"\",0,1)","v":0},{"$f":"IF($B91=1,FORM!$E$20,\"\")","v":""},{"$f":"IF($B91=1,VLOOKUP($C91,Lexique!$A$1:$C$204,3,FALSE),\"\")","v":""},{"$f":"IF($B91=1,FORM!$D122&\" \"&FORM!$E122&\" / \"&FORM!$F122&\" / [\"&FORM!$AP122&\"]\",\"\")","v":""},{"$f":"IF($B91=1,FORM!$H122,\"\")","v":""},{"$f":"IF($B91=1,FORM!$U122,\"\")","v":""},{"$f":"IF($B91=1,FORM!$V122,\"\")","v":""},{"$f":"IF($B91=1,FORM!$W122,\"\")","v":""},"",{"$f":"IF($B91=1,FORM!$Y122,\"\")","v":""},{"$f":"IF($B91=1,FORM!$Z122,\"\")","v":""},"","","","","",""]
[null,{"$f":"IF(FORM!D123=\"\",0,1)","v":0},{"$f":"IF($B92=1,FORM!$E$20,\"\")","v":""},{"$f":"IF($B92=1,VLOOKUP($C92,Lexique!$A$1:$C$204,3,FALSE),\"\")","v":""},{"$f":"IF($B92=1,FORM!$D123&\" \"&FORM!$E123&\" / \"&FORM!$F123&\" / [\"&FORM!$AP123&\"]\",\"\")","v":""},{"$f":"IF($B92=1,FORM!$H123,\"\")","v":""},{"$f":"IF($B92=1,FORM!$U123,\"\")","v":""},{"$f":"IF($B92=1,FORM!$V123,\"\")","v":""},{"$f":"IF($B92=1,FORM!$W123,\"\")","v":""},"",{"$f":"IF($B92=1,FORM!$Y123,\"\")","v":""},{"$f":"IF($B92=1,FORM!$Z123,\"\")","v":""},"","","","","",""]
[null,{"$f":"IF(FORM!D124=\"\",0,1)","v":0},{"$f":"IF($B93=1,FORM!$E$20,\"\")","v":""},{"$f":"IF($B93=1,VLOOKUP($C93,Lexique!$A$1:$C$204,3,FALSE),\"\")","v":""},{"$f":"IF($B93=1,FORM!$D124&\" \"&FORM!$E124&\" / \"&FORM!$F124&\" / [\"&FORM!$AP124&\"]\",\"\")","v":""},{"$f":"IF($B93=1,FORM!$H124,\"\")","v":""},{"$f":"IF($B93=1,FORM!$U124,\"\")","v":""},{"$f":"IF($B93=1,FORM!$V124,\"\")","v":""},{"$f":"IF($B93=1,FORM!$W124,\"\")","v":""},"",{"$f":"IF($B93=1,FORM!$Y124,\"\")","v":""},{"$f":"IF($B93=1,FORM!$Z124,\"\")","v":""},"","","","","",""]
[null,{"$f":"IF(FORM!D125=\"\",0,1)","v":0},{"$f":"IF($B94=1,FORM!$E$20,\"\")","v":""},{"$f":"IF($B94=1,VLOOKUP($C94,Lexique!$A$1:$C$204,3,FALSE),\"\")","v":""},{"$f":"IF($B94=1,FORM!$D125&\" \"&FORM!$E125&\" / \"&FORM!$F125&\" / [\"&FORM!$AP125&\"]\",\"\")","v":""},{"$f":"IF($B94=1,FORM!$H125,\"\")","v":""},{"$f":"IF($B94=1,FORM!$U125,\"\")","v":""},{"$f":"IF($B94=1,FORM!$V125,\"\")","v":""},{"$f":"IF($B94=1,FORM!$W125,\"\")","v":""},"",{"$f":"IF($B94=1,FORM!$Y125,\"\")","v":""},{"$f":"IF($B94=1,FORM!$Z125,\"\")","v":""},"","","","","",""]
[null,{"$f":"IF(FORM!D126=\"\",0,1)","v":0},{"$f":"IF($B95=1,FORM!$E$20,\"\")","v":""},{"$f":"IF($B95=1,VLOOKUP($C95,Lexique!$A$1:$C$204,3,FALSE),\"\")","v":""},{"$f":"IF($B95=1,FORM!$D126&\" \"&FORM!$E126&\" / \"&FORM!$F126&\" / [\"&FORM!$AP126&\"]\",\"\")","v":""},{"$f":"IF($B95=1,FORM!$H126,\"\")","v":""},{"$f":"IF($B95=1,FORM!$U126,\"\")","v":""},{"$f":"IF($B95=1,FORM!$V126,\"\")","v":""},{"$f":"IF($B95=1,FORM!$W126,\"\")","v":""},"",{"$f":"IF($B95=1,FORM!$Y126,\"\")","v":""},{"$f":"IF($B95=1,FORM!$Z126,\"\")","v":""},"","","","","",""]
[null,{"$f":"IF(FORM!D127=\"\",0,1)","v":0},{"$f":"IF($B96=1,FORM!$E$20,\"\")","v":""},{"$f":"IF($B96=1,VLOOKUP($C96,Lexique!$A$1:$C$204,3,FALSE),\"\")","v":""},{"$f":"IF($B96=1,FORM!$D127&\" \"&FORM!$E127&\" / \"&FORM!$F127&\" / [\"&FORM!$AP127&\"]\",\"\")","v":""},{"$f":"IF($B96=1,FORM!$H127,\"\")","v":""},{"$f":"IF($B96=1,FORM!$U127,\"\")","v":""},{"$f":"IF($B96=1,FORM!$V127,\"\")","v":""},{"$f":"IF($B96=1,FORM!$W127,\"\")","v":""},"",{"$f":"IF($B96=1,FORM!$Y127,\"\")","v":""},{"$f":"IF($B96=1,FORM!$Z127,\"\")","v":""},"","","","","",""]
[null,{"$f":"IF(FORM!D128=\"\",0,1)","v":0},{"$f":"IF($B97=1,FORM!$E$20,\"\")","v":""},{"$f":"IF($B97=1,VLOOKUP($C97,Lexique!$A$1:$C$204,3,FALSE),\"\")","v":""},{"$f":"IF($B97=1,FORM!$D128&\" \"&FORM!$E128&\" / \"&FORM!$F128&\" / [\"&FORM!$AP128&\"]\",\"\")","v":""},{"$f":"IF($B97=1,FORM!$H128,\"\")","v":""},{"$f":"IF($B97=1,FORM!$U128,\"\")","v":""},{"$f":"IF($B97=1,FORM!$V128,\"\")","v":""},{"$f":"IF($B97=1,FORM!$W128,\"\")","v":""},"",{"$f":"IF($B97=1,FORM!$Y128,\"\")","v":""},{"$f":"IF($B97=1,FORM!$Z128,\"\")","v":""},"","","","","",""]
[null,{"$f":"IF(FORM!D129=\"\",0,1)","v":0},{"$f":"IF($B98=1,FORM!$E$20,\"\")","v":""},{"$f":"IF($B98=1,VLOOKUP($C98,Lexique!$A$1:$C$204,3,FALSE),\"\")","v":""},{"$f":"IF($B98=1,FORM!$D129&\" \"&FORM!$E129&\" / \"&FORM!$F129&\" / [\"&FORM!$AP129&\"]\",\"\")","v":""},{"$f":"IF($B98=1,FORM!$H129,\"\")","v":""},{"$f":"IF($B98=1,FORM!$U129,\"\")","v":""},{"$f":"IF($B98=1,FORM!$V129,\"\")","v":""},{"$f":"IF($B98=1,FORM!$W129,\"\")","v":""},"",{"$f":"IF($B98=1,FORM!$Y129,\"\")","v":""},{"$f":"IF($B98=1,FORM!$Z129,\"\")","v":""},"","","","","",""]
[null,{"$f":"IF(FORM!D130=\"\",0,1)","v":0},{"$f":"IF($B99=1,FORM!$E$20,\"\")","v":""},{"$f":"IF($B99=1,VLOOKUP($C99,Lexique!$A$1:$C$204,3,FALSE),\"\")","v":""},{"$f":"IF($B99=1,FORM!$D130&\" \"&FORM!$E130&\" / \"&FORM!$F130&\" / [\"&FORM!$AP130&\"]\",\"\")","v":""},{"$f":"IF($B99=1,FORM!$H130,\"\")","v":""},{"$f":"IF($B99=1,FORM!$U130,\"\")","v":""},{"$f":"IF($B99=1,FORM!$V130,\"\")","v":""},{"$f":"IF($B99=1,FORM!$W130,\"\")","v":""},"",{"$f":"IF($B99=1,FORM!$Y130,\"\")","v":""},{"$f":"IF($B99=1,FORM!$Z130,\"\")","v":""},"","","","","",""]
[null,{"$f":"IF(FORM!D131=\"\",0,1)","v":0},{"$f":"IF($B100=1,FORM!$E$20,\"\")","v":""},{"$f":"IF($B100=1,VLOOKUP($C100,Lexique!$A$1:$C$204,3,FALSE),\"\")","v":""},{"$f":"IF($B100=1,FORM!$D131&\" \"&FORM!$E131&\" / \"&FORM!$F131&\" / [\"&FORM!$AP131&\"]\",\"\")","v":""},{"$f":"IF($B100=1,FORM!$H131,\"\")","v":""},{"$f":"IF($B100=1,FORM!$U131,\"\")","v":""},{"$f":"IF($B100=1,FORM!$V131,\"\")","v":""},{"$f":"IF($B100=1,FORM!$W131,\"\")","v":""},"",{"$f":"IF($B100=1,FORM!$Y131,\"\")","v":""},{"$f":"IF($B100=1,FORM!$Z131,\"\")","v":""},"","","","","",""]
[null,{"$f":"IF(FORM!D132=\"\",0,1)","v":0},{"$f":"IF($B101=1,FORM!$E$20,\"\")","v":""},{"$f":"IF($B101=1,VLOOKUP($C101,Lexique!$A$1:$C$204,3,FALSE),\"\")","v":""},{"$f":"IF($B101=1,FORM!$D132&\" \"&FORM!$E132&\" / \"&FORM!$F132&\" / [\"&FORM!$AP132&\"]\",\"\")","v":""},{"$f":"IF($B101=1,FORM!$H132,\"\")","v":""},{"$f":"IF($B101=1,FORM!$U132,\"\")","v":""},{"$f":"IF($B101=1,FORM!$V132,\"\")","v":""},{"$f":"IF($B101=1,FORM!$W132,\"\")","v":""},"",{"$f":"IF($B101=1,FORM!$Y132,\"\")","v":""},{"$f":"IF($B101=1,FORM!$Z132,\"\")","v":""},"","","","","",""]
[]
[]
[]
[]
[null,null,null,null,null,null,null,"TOTAL ACCOMMODATION\nPARIS GRAND SLAM","A - NOVOTEL",null,"Single B&B",null,{"$f":"SUMIFS($M$2:$M$101,$G$2:$G$101,\"A - NOVOTEL\",$K$2:$K$101,\"Single B&B\")","v":0},{"$f":"SUMIFS($N$2:$N$101,$G$2:$G$101,\"A - NOVOTEL\",$K$2:$K$101,\"Single B&B\")","v":0},{"$f":"SUMIFS($O$2:$O$101,$G$2:$G$101,\"A - NOVOTEL\",$K$2:$K$101,\"Single B&B\")","v":0},{"$f":"SUMIFS($P$2:$P$101,$G$2:$G$101,\"A - NOVOTEL\",$K$2:$K$101,\"Single B&B\")","v":0},{"$f":"SUMIFS($Q$2:$Q$101,$G$2:$G$101,\"A - NOVOTEL\",$K$2:$K$101,\"Single B&B\")","v":0},{"$f":"SUMIFS($R$2:$R$101,$G$2:$G$101,\"A - NOVOTEL\",$K$2:$K$101,\"Single B&B\")","v":0}]
[null,null,null,null,null,null,null,null,null,null,"Twin B&B",null,{"$f":"SUMIFS($M$2:$M$101,$G$2:$G$101,\"A - NOVOTEL\",$K$2:$K$101,\"Twin B&B\")","v":0},{"$f":"SUMIFS($N$2:$N$101,$G$2:$G$101,\"A - NOVOTEL\",$K$2:$K$101,\"Twin B&B\")","v":0},{"$f":"SUMIFS($O$2:$O$101,$G$2:$G$101,\"A - NOVOTEL\",$K$2:$K$101,\"Twin B&B\")","v":0},{"$f":"SUMIFS($P$2:$P$101,$G$2:$G$101,\"A - NOVOTEL\",$K$2:$K$101,\"Twin B&B\")","v":0},{"$f":"SUMIFS($Q$2:$Q$101,$G$2:$G$101,\"A - NOVOTEL\",$K$2:$K$101,\"Twin B&B\")","v":0},{"$f":"SUMIFS($R$2:$R$101,$G$2:$G$101,\"A - NOVOTEL\",$K$2:$K$101,\"Twin B&B\")","v":0}]
[null,null,null,null,null,null,null,null,"B - IBIS STYLES BERCY",null,"Single B&B",null,{"$f":"SUMIFS($M$2:$M$101,$G$2:$G$101,\"B - IBIS STYLES BERCY\",$K$2:$K$101,\"Single B&B\")","v":0},{"$f":"SUMIFS($N$2:$N$101,$G$2:$G$101,\"B - IBIS STYLES BERCY\",$K$2:$K$101,\"Single B&B\")","v":0},{"$f":"SUMIFS($O$2:$O$101,$G$2:$G$101,\"B - IBIS STYLES BERCY\",$K$2:$K$101,\"Single B&B\")","v":0},{"$f":"SUMIFS($P$2:$P$101,$G$2:$G$101,\"B - IBIS STYLES BERCY\",$K$2:$K$101,\"Single B&B\")","v":0},{"$f":"SUMIFS($Q$2:$Q$101,$G$2:$G$101,\"B - IBIS STYLES BERCY\",$K$2:$K$101,\"Single B&B\")","v":0},{"$f":"SUMIFS($R$2:$R$101,$G$2:$G$101,\"B - IBIS STYLES BERCY\",$K$2:$K$101,\"Single B&B\")","v":0}]
[null,null,null,null,null,null,null,null,null,null,"Twin B&B",null,{"$f":"SUMIFS($M$2:$M$101,$G$2:$G$101,\"B - IBIS STYLES BERCY\",$K$2:$K$101,\"Twin B&B\")","v":0},{"$f":"SUMIFS($N$2:$N$101,$G$2:$G$101,\"B - IBIS STYLES BERCY\",$K$2:$K$101,\"Twin B&B\")","v":0},{"$f":"SUMIFS($O$2:$O$101,$G$2:$G$101,\"B - IBIS STYLES BERCY\",$K$2:$K$101,\"Twin B&B\")","v":0},{"$f":"SUMIFS($P$2:$P$101,$G$2:$G$101,\"B - IBIS STYLES BERCY\",$K$2:$K$101,\"Twin B&B\")","v":0},{"$f":"SUMIFS($Q$2:$Q$101,$G$2:$G$101,\"B - IBIS STYLES BERCY\",$K$2:$K$101,\"Twin B&B\")","v":0},{"$f":"SUMIFS($R$2:$R$101,$G$2:$G$101,\"B - IBIS STYLES BERCY\",$K$2:$K$101,\"Twin B&B\")","v":0}]
[null,null,null,null,null,null,null,null,"C1 - COMFORT INN",null,"Single B&B",null,{"$f":"SUMIFS($M$2:$M$101,$G$2:$G$101,\"C1 - COMFORT INN\",$K$2:$K$101,\"Single B&B\")","v":0},{"$f":"SUMIFS($N$2:$N$101,$G$2:$G$101,\"C1 - COMFORT INN\",$K$2:$K$101,\"Single B&B\")","v":0},{"$f":"SUMIFS($O$2:$O$101,$G$2:$G$101,\"C1 - COMFORT INN\",$K$2:$K$101,\"Single B&B\")","v":0},{"$f":"SUMIFS($P$2:$P$101,$G$2:$G$101,\"C1 - COMFORT INN\",$K$2:$K$101,\"Single B&B\")","v":0},{"$f":"SUMIFS($Q$2:$Q$101,$G$2:$G$101,\"C1 - COMFORT INN\",$K$2:$K$101,\"Single B&B\")","v":0},{"$f":"SUMIFS($R$2:$R$101,$G$2:$G$101,\"C1 - COMFORT INN\",$K$2:$K$101,\"Single B&B\")","v":0}]
[null,null,null,null,null,null,null,null,null,null,"Twin B&B",null,{"$f":"SUMIFS($M$2:$M$101,$G$2:$G$101,\"C1 - COMFORT INN\",$K$2:$K$101,\"Twin B&B\")","v":0},{"$f":"SUMIFS($N$2:$N$101,$G$2:$G$101,\"C1 - COMFORT INN\",$K$2:$K$101,\"Twin B&B\")","v":0},{"$f":"SUMIFS($O$2:$O$101,$G$2:$G$101,\"C1 - COMFORT INN\",$K$2:$K$101,\"Twin B&B\")","v":0},{"$f":"SUMIFS($P$2:$P$101,$G$2:$G$101,\"C1 - COMFORT INN\",$K$2:$K$101,\"Twin B&B\")","v":0},{"$f":"SUMIFS($Q$2:$Q$101,$G$2:$G$101,\"C1 - COMFORT INN\",$K$2:$K$101,\"Twin B&B\")","v":0},{"$f":"SUMIFS($R$2:$R$101,$G$2:$G$101,\"C1 - COMFORT INN\",$K$2:$K$101,\"Twin B&B\")","v":0}]
[null,null,null,null,null,null,null,null,"C2 - KYRIAD BERCY",null,"Single B&B",null,{"$f":"SUMIFS($M$2:$M$101,$G$2:$G$101,\"C2 - KYRIAD BERCY\",$K$2:$K$101,\"Single B&B\")","v":0},{"$f":"SUMIFS($N$2:$N$101,$G$2:$G$101,\"C2 - KYRIAD BERCY\",$K$2:$K$101,\"Single B&B\")","v":0},{"$f":"SUMIFS($O$2:$O$101,$G$2:$G$101,\"C2 - KYRIAD BERCY\",$K$2:$K$101,\"Single B&B\")","v":0},{"$f":"SUMIFS($P$2:$P$101,$G$2:$G$101,\"C2 - KYRIAD BERCY\",$K$2:$K$101,\"Single B&B\")","v":0},{"$f":"SUMIFS($Q$2:$Q$101,$G$2:$G$101,\"C2 - KYRIAD BERCY\",$K$2:$K$101,\"Single B&B\")","v":0},{"$f":"SUMIFS($R$2:$R$101,$G$2:$G$101,\"C2 - KYRIAD BERCY\",$K$2:$K$101,\"Single B&B\")","v":0}]
[null,null,null,null,null,null,null,null,null,null,"Twin B&B",null,{"$f":"SUMIFS($M$2:$M$101,$G$2:$G$101,\"C2 - KYRIAD BERCY\",$K$2:$K$101,\"Twin B&B\")","v":0},{"$f":"SUMIFS($N$2:$N$101,$G$2:$G$101,\"C2 - KYRIAD BERCY\",$K$2:$K$101,\"Twin B&B\")","v":0},{"$f":"SUMIFS($O$2:$O$101,$G$2:$G$101,\"C2 - KYRIAD BERCY\",$K$2:$K$101,\"Twin B&B\")","v":0},{"$f":"SUMIFS($P$2:$P$101,$G$2:$G$101,\"C2 - KYRIAD BERCY\",$K$2:$K$101,\"Twin B&B\")","v":0},{"$f":"SUMIFS($Q$2:$Q$101,$G$2:$G$101,\"C2 - KYRIAD BERCY\",$K$2:$K$101,\"Twin B&B\")","v":0},{"$f":"SUMIFS($R$2:$R$101,$G$2:$G$101,\"C2 - KYRIAD BERCY\",$K$2:$K$101,\"Twin B&B\")","v":0}]
[null,null,null,null,null,null,null,null,"D - FORMULE 1",null,"Single B&B",null,{"$f":"SUMIFS($M$2:$M$101,$G$2:$G$101,\"D - FORMULE 1\",$K$2:$K$101,\"Single B&B\")","v":0},{"$f":"SUMIFS($N$2:$N$101,$G$2:$G$101,\"D - FORMULE 1\",$K$2:$K$101,\"Single B&B\")","v":0},{"$f":"SUMIFS($O$2:$O$101,$G$2:$G$101,\"D - FORMULE 1\",$K$2:$K$101,\"Single B&B\")","v":0},{"$f":"SUMIFS($P$2:$P$101,$G$2:$G$101,\"D - FORMULE 1\",$K$2:$K$101,\"Single B&B\")","v":0},{"$f":"SUMIFS($Q$2:$Q$101,$G$2:$G$101,\"D - FORMULE 1\",$K$2:$K$101,\"Single B&B\")","v":0},{"$f":"SUMIFS($R$2:$R$101,$G$2:$G$101,\"D - FORMULE 1\",$K$2:$K$101,\"Single B&B\")","v":0}]
[null,null,null,null,null,null,null,null,null,null,"Twin B&B",null,{"$f":"SUMIFS($M$2:$M$101,$G$2:$G$101,\"D - FORMULE 1\",$K$2:$K$101,\"Twin B&B\")","v":0},{"$f":"SUMIFS($N$2:$N$101,$G$2:$G$101,\"D - FORMULE 1\",$K$2:$K$101,\"Twin B&B\")","v":0},{"$f":"SUMIFS($O$2:$O$101,$G$2:$G$101,\"D - FORMULE 1\",$K$2:$K$101,\"Twin B&B\")","v":0},{"$f":"SUMIFS($P$2:$P$101,$G$2:$G$101,\"D - FORMULE 1\",$K$2:$K$101,\"Twin B&B\")","v":0},{"$f":"SUMIFS($Q$2:$Q$101,$G$2:$G$101,\"D - FORMULE 1\",$K$2:$K$101,\"Twin B&B\")","v":0},{"$f":"SUMIFS($R$2:$R$101,$G$2:$G$101,\"D - FORMULE 1\",$K$2:$K$101,\"Twin B&B\")","v":0}]
[]
[]
[null,null,null,"Nombre de personnes / hôtel",null,"Single B&B","Twin B&B"]
[null,null,null,"A - NOVOTEL",{"$f":"COUNTIF(FORM!$U$33:$U$132,\"A - NOVOTEL\")","v":0},{"$f":"COUNTIFS(FORM!$U$33:$U$132,\"A - NOVOTEL\",FORM!$Y$33:$Y$132,\"Single B&B\")","v":0},{"$f":"COUNTIFS(FORM!$U$33:$U$132,\"A - NOVOTEL\",FORM!$Y$33:$Y$132,\"Twin B&B\")","v":0}]
[null,null,null,"B - IBIS STYLES BERCY",{"$f":"COUNTIF(FORM!$U$33:$U$132,\"B - IBIS STYLES BERCY\")","v":0},{"$f":"COUNTIFS(FORM!$U$33:$U$132,\"B - IBIS STYLES BERCY\",FORM!$Y$33:$Y$132,\"Single B&B\")","v":0},{"$f":"COUNTIFS(FORM!$U$33:$U$132,\"B - IBIS STYLES BERCY\",FORM!$Y$33:$Y$132,\"Twin B&B\")","v":0}]
[null,null,null,"C1 - COMFORT INN",{"$f":"COUNTIF(FORM!$U$33:$U$132,\"C1 - COMFORT INN\")","v":0},{"$f":"COUNTIFS(FORM!$U$33:$U$132,\"C1 - COMFORT INN\",FORM!$Y$33:$Y$132,\"Single B&B\")","v":0},{"$f":"COUNTIFS(FORM!$U$33:$U$132,\"C1 - COMFORT INN\",FORM!$Y$33:$Y$132,\"Twin B&B\")","v":0}]
[null,null,null,"C2 - KYRIAD BERCY",{"$f":"COUNTIF(FORM!$U$33:$U$132,\"C2 - KYRIAD BERCY\")","v":0},{"$f":"COUNTIFS(FORM!$U$33:$U$132,\"C2 - KYRIAD BERCY\",FORM!$Y$33:$Y$132,\"Single B&B\")","v":0},{"$f":"COUNTIFS(FORM!$U$33:$U$132,\"C2 - KYRIAD BERCY\",FORM!$Y$33:$Y$132,\"Twin B&B\")","v":0}]
[null,null,null,"D - FORMULE 1",{"$f":"COUNTIF(FORM!$U$33:$U$132,\"D - FORMULE 1\")","v":0},{"$f":"COUNTIFS(FORM!$U$33:$U$132,\"D - FORMULE 1\",FORM!$Y$33:$Y$132,\"Single B&B\")","v":0},{"$f":"COUNTIFS(FORM!$U$33:$U$132,\"D - FORMULE 1\",FORM!$Y$33:$Y$132,\"Twin B&B\")","v":0}]

{"sheet":"Lien Hébergement","index":4,"n_rows":102,"n_cols":15,"rows_kept":102,"cut":false,"hidden":true,"merged":[[0,1,0,14]]}
[null,"PARIS JUDO GRAND SLAM 2021"]
[null,"Groupe/Pays","Personnes / Compléments d'infos","Check-in","Check-out","NB Nuits","Type de Chambre","Type de restauration","2021-10-13","2021-10-14","2021-10-15","2021-10-16","2021-10-17","2021-10-18","Hôtel"]
[null,{"$f":"IF(Résumé!$B2=1,Résumé!$D2,\"\")","v":""},{"$f":"IF(Résumé!$B2=1,AMOUNT!$B13,\"\")","v":""},{"$f":"IF(Résumé!$B2=0,\"\",Résumé!$H2)","v":""},{"$f":"IF(Résumé!$B2=0,\"\",Résumé!$I2)","v":""},{"$f":"IF(Résumé!$B2=0,\"\",$E3-$D3)","v":""},{"$f":"IF(Résumé!$B2=0,\"\",Résumé!$K2)","v":""},{"$f":"IF(Résumé!$B2=0,\"\",Résumé!$L2)","v":""},{"$f":"IF(Résumé!$B2=0,\"\",Résumé!$M2)","v":""},{"$f":"IF(Résumé!$B2=0,\"\",Résumé!$N2)","v":""},{"$f":"IF(Résumé!$B2=0,\"\",Résumé!$O2)","v":""},{"$f":"IF(Résumé!$B2=0,\"\",Résumé!$P2)","v":""},{"$f":"IF(Résumé!$B2=0,\"\",Résumé!$Q2)","v":""},{"$f":"IF(Résumé!$B2=0,\"\",Résumé!$R2)","v":""},{"$f":"IF(Résumé!$B2=0,\"\",Résumé!G2)","v":""}]
[null,{"$f":"IF(Résumé!$B3=1,Résumé!$D3,\"\")","v":""},{"$f":"IF(Résumé!$B3=1,AMOUNT!$B14,\"\")","v":""},{"$f":"IF(Résumé!$B3=0,\"\",Résumé!$H3)","v":""},{"$f":"IF(Résumé!$B3=0,\"\",Résumé!$I3)","v":""},{"$f":"IF(Résumé!$B3=0,\"\",$E4-$D4)","v":""},{"$f":"IF(Résumé!$B3=0,\"\",Résumé!$K3)","v":""},{"$f":"IF(Résumé!$B3=0,\"\",Résumé!$L3)","v":""},{"$f":"IF(Résumé!$B3=0,\"\",Résumé!$M3)","v":""},{"$f":"IF(Résumé!$B3=0,\"\",Résumé!$N3)","v":""},{"$f":"IF(Résumé!$B3=0,\"\",Résumé!$O3)","v":""},{"$f":"IF(Résumé!$B3=0,\"\",Résumé!$P3)","v":""},{"$f":"IF(Résumé!$B3=0,\"\",Résumé!$Q3)","v":""},{"$f":"IF(Résumé!$B3=0,\"\",Résumé!$R3)","v":""},{"$f":"IF(Résumé!$B3=0,\"\",Résumé!G3)","v":""}]
[null,{"$f":"IF(Résumé!$B4=1,Résumé!$D4,\"\")","v":""},{"$f":"IF(Résumé!$B4=1,AMOUNT!$B15,\"\")","v":""},{"$f":"IF(Résumé!$B4=0,\"\",Résumé!$H4)","v":""},{"$f":"IF(Résumé!$B4=0,\"\",Résumé!$I4)","v":""},{"$f":"IF(Résumé!$B4=0,\"\",$E5-$D5)","v":""},{"$f":"IF(Résumé!$B4=0,\"\",Résumé!$K4)","v":""},{"$f":"IF(Résumé!$B4=0,\"\",Résumé!$L4)","v":""},{"$f":"IF(Résumé!$B4=0,\"\",Résumé!$M4)","v":""},{"$f":"IF(Résumé!$B4=0,\"\",Résumé!$N4)","v":""},{"$f":"IF(Résumé!$B4=0,\"\",Résumé!$O4)","v":""},{"$f":"IF(Résumé!$B4=0,\"\",Résumé!$P4)","v":""},{"$f":"IF(Résumé!$B4=0,\"\",Résumé!$Q4)","v":""},{"$f":"IF(Résumé!$B4=0,\"\",Résumé!$R4)","v":""},{"$f":"IF(Résumé!$B4=0,\"\",Résumé!G4)","v":""}]
[null,{"$f":"IF(Résumé!$B5=1,Résumé!$D5,\"\")","v":""},{"$f":"IF(Résumé!$B5=1,AMOUNT!$B16,\"\")","v":""},{"$f":"IF(Résumé!$B5=0,\"\",Résumé!$H5)","v":""},{"$f":"IF(Résumé!$B5=0,\"\",Résumé!$I5)","v":""},{"$f":"IF(Résumé!$B5=0,\"\",$E6-$D6)","v":""},{"$f":"IF(Résumé!$B5=0,\"\",Résumé!$K5)","v":""},{"$f":"IF(Résumé!$B5=0,\"\",Résumé!$L5)","v":""},{"$f":"IF(Résumé!$B5=0,\"\",Résumé!$M5)","v":""},{"$f":"IF(Résumé!$B5=0,\"\",Résumé!$N5)","v":""},{"$f":"IF(Résumé!$B5=0,\"\",Résumé!$O5)","v":""},{"$f":"IF(Résumé!$B5=0,\"\",Résumé!$P5)","v":""},{"$f":"IF(Résumé!$B5=0,\"\",Résumé!$Q5)","v":""},{"$f":"IF(Résumé!$B5=0,\"\",Résumé!$R5)","v":""},{"$f":"IF(Résumé!$B5=0,\"\",Résumé!G5)","v":""}]
[null,{"$f":"IF(Résumé!$B6=1,Résumé!$D6,\"\")","v":""},{"$f":"IF(Résumé!$B6=1,AMOUNT!$B17,\"\")","v":""},{"$f":"IF(Résumé!$B6=0,\"\",Résumé!$H6)","v":""},{"$f":"IF(Résumé!$B6=0,\"\",Résumé!$I6)","v":""},{"$f":"IF(Résumé!$B6=0,\"\",$E7-$D7)","v":""},{"$f":"IF(Résumé!$B6=0,\"\",Résumé!$K6)","v":""},{"$f":"IF(Résumé!$B6=0,\"\",Résumé!$L6)","v":""},{"$f":"IF(Résumé!$B6=0,\"\",Résumé!$M6)","v":""},{"$f":"IF(Résumé!$B6=0,\"\",Résumé!$N6)","v":""},{"$f":"IF(Résumé!$B6=0,\"\",Résumé!$O6)","v":""},{"$f":"IF(Résumé!$B6=0,\"\",Résumé!$P6)","v":""},{"$f":"IF(Résumé!$B6=0,\"\",Résumé!$Q6)","v":""},{"$f":"IF(Résumé!$B6=0,\"\",Résumé!$R6)","v":""},{"$f":"IF(Résumé!$B6=0,\"\",Résumé!G6)","v":""}]
[null,{"$f":"IF(Résumé!$B7=1,Résumé!$D7,\"\")","v":""},{"$f":"IF(Résumé!$B7=1,AMOUNT!$B18,\"\")","v":""},{"$f":"IF(Résumé!$B7=0,\"\",Résumé!$H7)","v":""},{"$f":"IF(Résumé!$B7=0,\"\",Résumé!$I7)","v":""},{"$f":"IF(Résumé!$B7=0,\"\",$E8-$D8)","v":""},{"$f":"IF(Résumé!$B7=0,\"\",Résumé!$K7)","v":""},{"$f":"IF(Résumé!$B7=0,\"\",Résumé!$L7)","v":""},{"$f":"IF(Résumé!$B7=0,\"\",Résumé!$M7)","v":""},{"$f":"IF(Résumé!$B7=0,\"\",Résumé!$N7)","v":""},{"$f":"IF(Résumé!$B7=0,\"\",Résumé!$O7)","v":""},{"$f":"IF(Résumé!$B7=0,\"\",Résumé!$P7)","v":""},{"$f":"IF(Résumé!$B7=0,\"\",Résumé!$Q7)","v":""},{"$f":"IF(Résumé!$B7=0,\"\",Résumé!$R7)","v":""},{"$f":"IF(Résumé!$B7=0,\"\",Résumé!G7)","v":""}]
[null,{"$f":"IF(Résumé!$B8=1,Résumé!$D8,\"\")","v":""},{"$f":"IF(Résumé!$B8=1,AMOUNT!$B19,\"\")","v":""},{"$f":"IF(Résumé!$B8=0,\"\",Résumé!$H8)","v":""},{"$f":"IF(Résumé!$B8=0,\"\",Résumé!$I8)","v":""},{"$f":"IF(Résumé!$B8=0,\"\",$E9-$D9)","v":""},{"$f":"IF(Résumé!$B8=0,\"\",Résumé!$K8)","v":""},{"$f":"IF(Résumé!$B8=0,\"\",Résumé!$L8)","v":""},{"$f":"IF(Résumé!$B8=0,\"\",Résumé!$M8)","v":""},{"$f":"IF(Résumé!$B8=0,\"\",Résumé!$N8)","v":""},{"$f":"IF(Résumé!$B8=0,\"\",Résumé!$O8)","v":""},{"$f":"IF(Résumé!$B8=0,\"\",Résumé!$P8)","v":""},{"$f":"IF(Résumé!$B8=0,\"\",Résumé!$Q8)","v":""},{"$f":"IF(Résumé!$B8=0,\"\",Résumé!$R8)","v":""},{"$f":"IF(Résumé!$B8=0,\"\",Résumé!G8)","v":""}]
[null,{"$f":"IF(Résumé!$B9=1,Résumé!$D9,\"\")","v":""},{"$f":"IF(Résumé!$B9=1,AMOUNT!$B20,\"\")","v":""},{"$f":"IF(Résumé!$B9=0,\"\",Résumé!$H9)","v":""},{"$f":"IF(Résumé!$B9=0,\"\",Résumé!$I9)","v":""},{"$f":"IF(Résumé!$B9=0,\"\",$E10-$D10)","v":""},{"$f":"IF(Résumé!$B9=0,\"\",Résumé!$K9)","v":""},{"$f":"IF(Résumé!$B9=0,\"\",Résumé!$L9)","v":""},{"$f":"IF(Résumé!$B9=0,\"\",Résumé!$M9)","v":""},{"$f":"IF(Résumé!$B9=0,\"\",Résumé!$N9)","v":""},{"$f":"IF(Résumé!$B9=0,\"\",Résumé!$O9)","v":""},{"$f":"IF(Résumé!$B9=0,\"\",Résumé!$P9)","v":""},{"$f":"IF(Résumé!$B9=0,\"\",Résumé!$Q9)","v":""},{"$f":"IF(Résumé!$B9=0,\"\",Résumé!$R9)","v":""},{"$f":"IF(Résumé!$B9=0,\"\",Résumé!G9)","v":""}]
[null,{"$f":"IF(Résumé!$B10=1,Résumé!$D10,\"\")","v":""},{"$f":"IF(Résumé!$B10=1,AMOUNT!$B21,\"\")","v":""},{"$f":"IF(Résumé!$B10=0,\"\",Résumé!$H10)","v":""},{"$f":"IF(Résumé!$B10=0,\"\",Résumé!$I10)","v":""},{"$f":"IF(Résumé!$B10=0,\"\",$E11-$D11)","v":""},{"$f":"IF(Résumé!$B10=0,\"\",Résumé!$K10)","v":""},{"$f":"IF(Résumé!$B10=0,\"\",Résumé!$L10)","v":""},{"$f":"IF(Résumé!$B10=0,\"\",Résumé!$M10)","v":""},{"$f":"IF(Résumé!$B10=0,\"\",Résumé!$N10)","v":""},{"$f":"IF(Résumé!$B10=0,\"\",Résumé!$O10)","v":""},{"$f":"IF(Résumé!$B10=0,\"\",Résumé!$P10)","v":""},{"$f":"IF(Résumé!$B10=0,\"\",Résumé!$Q10)","v":""},{"$f":"IF(Résumé!$B10=0,\"\",Résumé!$R10)","v":""},{"$f":"IF(Résumé!$B10=0,\"\",Résumé!G10)","v":""}]
[null,{"$f":"IF(Résumé!$B11=1,Résumé!$D11,\"\")","v":""},{"$f":"IF(Résumé!$B11=1,AMOUNT!$B22,\"\")","v":""},{"$f":"IF(Résumé!$B11=0,\"\",Résumé!$H11)","v":""},{"$f":"IF(Résumé!$B11=0,\"\",Résumé!$I11)","v":""},{"$f":"IF(Résumé!$B11=0,\"\",$E12-$D12)","v":""},{"$f":"IF(Résumé!$B11=0,\"\",Résumé!$K11)","v":""},{"$f":"IF(Résumé!$B11=0,\"\",Résumé!$L11)","v":""},{"$f":"IF(Résumé!$B11=0,\"\",Résumé!$M11)","v":""},{"$f":"IF(Résumé!$B11=0,\"\",Résumé!$N11)","v":""},{"$f":"IF(Résumé!$B11=0,\"\",Résumé!$O11)","v":""},{"$f":"IF(Résumé!$B11=0,\"\",Résumé!$P11)","v":""},{"$f":"IF(Résumé!$B11=0,\"\",Résumé!$Q11)","v":""},{"$f":"IF(Résumé!$B11=0,\"\",Résumé!$R11)","v":""},{"$f":"IF(Résumé!$B11=0,\"\",Résumé!G11)","v":""}]
[null,{"$f":"IF(Résumé!$B12=1,Résumé!$D12,\"\")","v":""},{"$f":"IF(Résumé!$B12=1,AMOUNT!$B23,\"\")","v":""},{"$f":"IF(Résumé!$B12=0,\"\",Résumé!$H12)","v":""},{"$f":"IF(Résumé!$B12=0,\"\",Résumé!$I12)","v":""},{"$f":"IF(Résumé!$B12=0,\"\",$E13-$D13)","v":""},{"$f":"IF(Résumé!$B12=0,\"\",Résumé!$K12)","v":""},{"$f":"IF(Résumé!$B12=0,\"\",Résumé!$L12)","v":""},{"$f":"IF(Résumé!$B12=0,\"\",Résumé!$M12)","v":""},{"$f":"IF(Résumé!$B12=0,\"\",Résumé!$N12)","v":""},{"$f":"IF(Résumé!$B12=0,\"\",Résumé!$O12)","v":""},{"$f":"IF(Résumé!$B12=0,\"\",Résumé!$P12)","v":""},{"$f":"IF(Résumé!$B12=0,\"\",Résumé!$Q12)","v":""},{"$f":"IF(Résumé!$B12=0,\"\",Résumé!$R12)","v":""},{"$f":"IF(Résumé!$B12=0,\"\",Résumé!G12)","v":""}]
[null,{"$f":"IF(Résumé!$B13=1,Résumé!$D13,\"\")","v":""},{"$f":"IF(Résumé!$B13=1,AMOUNT!$B24,\"\")","v":""},{"$f":"IF(Résumé!$B13=0,\"\",Résumé!$H13)","v":""},{"$f":"IF(Résumé!$B13=0,\"\",Résumé!$I13)","v":""},{"$f":"IF(Résumé!$B13=0,\"\",$E14-$D14)","v":""},{"$f":"IF(Résumé!$B13=0,\"\",Résumé!$K13)","v":""},{"$f":"IF(Résumé!$B13=0,\"\",Résumé!$L13)","v":""},{"$f":"IF(Résumé!$B13=0,\"\",Résumé!$M13)","v":""},{"$f":"IF(Résumé!$B13=0,\"\",Résumé!$N13)","v":""},{"$f":"IF(Résumé!$B13=0,\"\",Résumé!$O13)","v":""},{"$f":"IF(Résumé!$B13=0,\"\",Résumé!$P13)","v":""},{"$f":"IF(Résumé!$B13=0,\"\",Résumé!$Q13)","v":""},{"$f":"IF(Résumé!$B13=0,\"\",Résumé!$R13)","v":""},{"$f":"IF(Résumé!$B13=0,\"\",Résumé!G13)","v":""}]
[null,{"$f":"IF(Résumé!$B14=1,Résumé!$D14,\"\")","v":""},{"$f":"IF(Résumé!$B14=1,AMOUNT!$B25,\"\")","v":""},{"$f":"IF(Résumé!$B14=0,\"\",Résumé!$H14)","v":""},{"$f":"IF(Résumé!$B14=0,\"\",Résumé!$I14)","v":""},{"$f":"IF(Résumé!$B14=0,\"\",$E15-$D15)","v":""},{"$f":"IF(Résumé!$B14=0,\"\",Résumé!$K14)","v":""},{"$f":"IF(Résumé!$B14=0,\"\",Résumé!$L14)","v":""},{"$f":"IF(Résumé!$B14=0,\"\",Résumé!$M14)","v":""},{"$f":"IF(Résumé!$B14=0,\"\",Résumé!$N14)","v":""},{"$f":"IF(Résumé!$B14=0,\"\",Résumé!$O14)","v":""},{"$f":"IF(Résumé!$B14=0,\"\",Résumé!$P14)","v":""},{"$f":"IF(Résumé!$B14=0,\"\",Résumé!$Q14)","v":""},{"$f":"IF(Résumé!$B14=0,\"\",Résumé!$R14)","v":""},{"$f":"IF(Résumé!$B14=0,\"\",Résumé!G14)","v":""}]
[null,{"$f":"IF(Résumé!$B15=1,Résumé!$D15,\"\")","v":""},{"$f":"IF(Résumé!$B15=1,AMOUNT!$B26,\"\")","v":""},{"$f":"IF(Résumé!$B15=0,\"\",Résumé!$H15)","v":""},{"$f":"IF(Résumé!$B15=0,\"\",Résumé!$I15)","v":""},{"$f":"IF(Résumé!$B15=0,\"\",$E16-$D16)","v":""},{"$f":"IF(Résumé!$B15=0,\"\",Résumé!$K15)","v":""},{"$f":"IF(Résumé!$B15=0,\"\",Résumé!$L15)","v":""},{"$f":"IF(Résumé!$B15=0,\"\",Résumé!$M15)","v":""},{"$f":"IF(Résumé!$B15=0,\"\",Résumé!$N15)","v":""},{"$f":"IF(Résumé!$B15=0,\"\",Résumé!$O15)","v":""},{"$f":"IF(Résumé!$B15=0,\"\",Résumé!$P15)","v":""},{"$f":"IF(Résumé!$B15=0,\"\",Résumé!$Q15)","v":""},{"$f":"IF(Résumé!$B15=0,\"\",Résumé!$R15)","v":""},{"$f":"IF(Résumé!$B15=0,\"\",Résumé!G15)","v":""}]
[null,{"$f":"IF(Résumé!$B16=1,Résumé!$D16,\"\")","v":""},{"$f":"IF(Résumé!$B16=1,AMOUNT!$B27,\"\")","v":""},{"$f":"IF(Résumé!$B16=0,\"\",Résumé!$H16)","v":""},{"$f":"IF(Résumé!$B16=0,\"\",Résumé!$I16)","v":""},{"$f":"IF(Résumé!$B16=0,\"\",$E17-$D17)","v":""},{"$f":"IF(Résumé!$B16=0,\"\",Résumé!$K16)","v":""},{"$f":"IF(Résumé!$B16=0,\"\",Résumé!$L16)","v":""},{"$f":"IF(Résumé!$B16=0,\"\",Résumé!$M16)","v":""},{"$f":"IF(Résumé!$B16=0,\"\",Résumé!$N16)","v":""},{"$f":"IF(Résumé!$B16=0,\"\",Résumé!$O16)","v":""},{"$f":"IF(Résumé!$B16=0,\"\",Résumé!$P16)","v":""},{"$f":"IF(Résumé!$B16=0,\"\",Résumé!$Q16)","v":""},{"$f":"IF(Résumé!$B16=0,\"\",Résumé!$R16)","v":""},{"$f":"IF(Résumé!$B16=0,\"\",Résumé!G16)","v":""}]
[null,{"$f":"IF(Résumé!$B17=1,Résumé!$D17,\"\")","v":""},{"$f":"IF(Résumé!$B17=1,AMOUNT!$B28,\"\")","v":""},{"$f":"IF(Résumé!$B17=0,\"\",Résumé!$H17)","v":""},{"$f":"IF(Résumé!$B17=0,\"\",Résumé!$I17)","v":""},{"$f":"IF(Résumé!$B17=0,\"\",$E18-$D18)","v":""},{"$f":"IF(Résumé!$B17=0,\"\",Résumé!$K17)","v":""},{"$f":"IF(Résumé!$B17=0,\"\",Résumé!$L17)","v":""},{"$f":"IF(Résumé!$B17=0,\"\",Résumé!$M17)","v":""},{"$f":"IF(Résumé!$B17=0,\"\",Résumé!$N17)","v":""},{"$f":"IF(Résumé!$B17=0,\"\",Résumé!$O17)","v":""},{"$f":"IF(Résumé!$B17=0,\"\",Résumé!$P17)","v":""},{"$f":"IF(Résumé!$B17=0,\"\",Résumé!$Q17)","v":""},{"$f":"IF(Résumé!$B17=0,\"\",Résumé!$R17)","v":""},{"$f":"IF(Résumé!$B17=0,\"\",Résumé!G17)","v":""}]
[null,{"$f":"IF(Résumé!$B18=1,Résumé!$D18,\"\")","v":""},{"$f":"IF(Résumé!$B18=1,AMOUNT!$B29,\"\")","v":""},{"$f":"IF(Résumé!$B18=0,\"\",Résumé!$H18)","v":""},{"$f":"IF(Résumé!$B18=0,\"\",Résumé!$I18)","v":""},{"$f":"IF(Résumé!$B18=0,\"\",$E19-$D19)","v":""},{"$f":"IF(Résumé!$B18=0,\"\",Résumé!$K18)","v":""},{"$f":"IF(Résumé!$B18=0,\"\",Résumé!$L18)","v":""},{"$f":"IF(Résumé!$B18=0,\"\",Résumé!$M18)","v":""},{"$f":"IF(Résumé!$B18=0,\"\",Résumé!$N18)","v":""},{"$f":"IF(Résumé!$B18=0,\"\",Résumé!$O18)","v":""},{"$f":"IF(Résumé!$B18=0,\"\",Résumé!$P18)","v":""},{"$f":"IF(Résumé!$B18=0,\"\",Résumé!$Q18)","v":""},{"$f":"IF(Résumé!$B18=0,\"\",Résumé!$R18)","v":""},{"$f":"IF(Résumé!$B18=0,\"\",Résumé!G18)","v":""}]
[null,{"$f":"IF(Résumé!$B19=1,Résumé!$D19,\"\")","v":""},{"$f":"IF(Résumé!$B19=1,AMOUNT!$B30,\"\")","v":""},{"$f":"IF(Résumé!$B19=0,\"\",Résumé!$H19)","v":""},{"$f":"IF(Résumé!$B19=0,\"\",Résumé!$I19)","v":""},{"$f":"IF(Résumé!$B19=0,\"\",$E20-$D20)","v":""},{"$f":"IF(Résumé!$B19=0,\"\",Résumé!$K19)","v":""},{"$f":"IF(Résumé!$B19=0,\"\",Résumé!$L19)","v":""},{"$f":"IF(Résumé!$B19=0,\"\",Résumé!$M19)","v":""},{"$f":"IF(Résumé!$B19=0,\"\",Résumé!$N19)","v":""},{"$f":"IF(Résumé!$B19=0,\"\",Résumé!$O19)","v":""},{"$f":"IF(Résumé!$B19=0,\"\",Résumé!$P19)","v":""},{"$f":"IF(Résumé!$B19=0,\"\",Résumé!$Q19)","v":""},{"$f":"IF(Résumé!$B19=0,\"\",Résumé!$R19)","v":""},{"$f":"IF(Résumé!$B19=0,\"\",Résumé!G19)","v":""}]
[null,{"$f":"IF(Résumé!$B20=1,Résumé!$D20,\"\")","v":""},{"$f":"IF(Résumé!$B20=1,AMOUNT!$B31,\"\")","v":""},{"$f":"IF(Résumé!$B20=0,\"\",Résumé!$H20)","v":""},{"$f":"IF(Résumé!$B20=0,\"\",Résumé!$I20)","v":""},{"$f":"IF(Résumé!$B20=0,\"\",$E21-$D21)","v":""},{"$f":"IF(Résumé!$B20=0,\"\",Résumé!$K20)","v":""},{"$f":"IF(Résumé!$B20=0,\"\",Résumé!$L20)","v":""},{"$f":"IF(Résumé!$B20=0,\"\",Résumé!$M20)","v":""},{"$f":"IF(Résumé!$B20=0,\"\",Résumé!$N20)","v":""},{"$f":"IF(Résumé!$B20=0,\"\",Résumé!$O20)","v":""},{"$f":"IF(Résumé!$B20=0,\"\",Résumé!$P20)","v":""},{"$f":"IF(Résumé!$B20=0,\"\",Résumé!$Q20)","v":""},{"$f":"IF(Résumé!$B20=0,\"\",Résumé!$R20)","v":""},{"$f":"IF(Résumé!$B20=0,\"\",Résumé!G20)","v":""}]
[null,{"$f":"IF(Résumé!$B21=1,Résumé!$D21,\"\")","v":""},{"$f":"IF(Résumé!$B21=1,AMOUNT!$B32,\"\")","v":""},{"$f":"IF(Résumé!$B21=0,\"\",Résumé!$H21)","v":""},{"$f":"IF(Résumé!$B21=0,\"\",Résumé!$I21)","v":""},{"$f":"IF(Résumé!$B21=0,\"\",$E22-$D22)","v":""},{"$f":"IF(Résumé!$B21=0,\"\",Résumé!$K21)","v":""},{"$f":"IF(Résumé!$B21=0,\"\",Résumé!$L21)","v":""},{"$f":"IF(Résumé!$B21=0,\"\",Résumé!$M21)","v":""},{"$f":"IF(Résumé!$B21=0,\"\",Résumé!$N21)","v":""},{"$f":"IF(Résumé!$B21=0,\"\",Résumé!$O21)","v":""},{"$f":"IF(Résumé!$B21=0,\"\",Résumé!$P21)","v":""},{"$f":"IF(Résumé!$B21=0,\"\",Résumé!$Q21)","v":""},{"$f":"IF(Résumé!$B21=0,\"\",Résumé!$R21)","v":""},{"$f":"IF(Résumé!$B21=0,\"\",Résumé!G21)","v":""}]
[null,{"$f":"IF(Résumé!$B22=1,Résumé!$D22,\"\")","v":""},{"$f":"IF(Résumé!$B22=1,AMOUNT!$B33,\"\")","v":""},{"$f":"IF(Résumé!$B22=0,\"\",Résumé!$H22)","v":""},{"$f":"IF(Résumé!$B22=0,\"\",Résumé!$I22)","v":""},{"$f":"IF(Résumé!$B22=0,\"\",$E23-$D23)","v":""},{"$f":"IF(Résumé!$B22=0,\"\",Résumé!$K22)","v":""},{"$f":"IF(Résumé!$B22=0,\"\",Résumé!$L22)","v":""},{"$f":"IF(Résumé!$B22=0,\"\",Résumé!$M22)","v":""},{"$f":"IF(Résumé!$B22=0,\"\",Résumé!$N22)","v":""},{"$f":"IF(Résumé!$B22=0,\"\",Résumé!$O22)","v":""},{"$f":"IF(Résumé!$B22=0,\"\",Résumé!$P22)","v":""},{"$f":"IF(Résumé!$B22=0,\"\",Résumé!$Q22)","v":""},{"$f":"IF(Résumé!$B22=0,\"\",Résumé!$R22)","v":""},{"$f":"IF(Résumé!$B22=0,\"\",Résumé!G22)","v":""}]
[null,{"$f":"IF(Résumé!$B23=1,Résumé!$D23,\"\")","v":""},{"$f":"IF(Résumé!$B23=1,AMOUNT!$B34,\"\")","v":""},{"$f":"IF(Résumé!$B23=0,\"\",Résumé!$H23)","v":""},{"$f":"IF(Résumé!$B23=0,\"\",Résumé!$I23)","v":""},{"$f":"IF(Résumé!$B23=0,\"\",$E24-$D24)","v":""},{"$f":"IF(Résumé!$B23=0,\"\",Résumé!$K23)","v":""},{"$f":"IF(Résumé!$B23=0,\"\",Résumé!$L23)","v":""},{"$f":"IF(Résumé!$B23=0,\"\",Résumé!$M23)","v":""},{"$f":"IF(Résumé!$B23=0,\"\",Résumé!$N23)","v":""},{"$f":"IF(Résumé!$B23=0,\"\",Résumé!$O23)","v":""},{"$f":"IF(Résumé!$B23=0,\"\",Résumé!$P23)","v":""},{"$f":"IF(Résumé!$B23=0,\"\",Résumé!$Q23)","v":""},{"$f":"IF(Résumé!$B23=0,\"\",Résumé!$R23)","v":""},{"$f":"IF(Résumé!$B23=0,\"\",Résumé!G23)","v":""}]
[null,{"$f":"IF(Résumé!$B24=1,Résumé!$D24,\"\")","v":""},{"$f":"IF(Résumé!$B24=1,AMOUNT!$B35,\"\")","v":""},{"$f":"IF(Résumé!$B24=0,\"\",Résumé!$H24)","v":""},{"$f":"IF(Résumé!$B24=0,\"\",Résumé!$I24)","v":""},{"$f":"IF(Résumé!$B24=0,\"\",$E25-$D25)","v":""},{"$f":"IF(Résumé!$B24=0,\"\",Résumé!$K24)","v":""},{"$f":"IF(Résumé!$B24=0,\"\",Résumé!$L24)","v":""},{"$f":"IF(Résumé!$B24=0,\"\",Résumé!$M24)","v":""},{"$f":"IF(Résumé!$B24=0,\"\",Résumé!$N24)","v":""},{"$f":"IF(Résumé!$B24=0,\"\",Résumé!$O24)","v":""},{"$f":"IF(Résumé!$B24=0,\"\",Résumé!$P24)","v":""},{"$f":"IF(Résumé!$B24=0,\"\",Résumé!$Q24)","v":""},{"$f":"IF(Résumé!$B24=0,\"\",Résumé!$R24)","v":""},{"$f":"IF(Résumé!$B24=0,\"\",Résumé!G24)","v":""}]
[null,{"$f":"IF(Résumé!$B25=1,Résumé!$D25,\"\")","v":""},{"$f":"IF(Résumé!$B25=1,AMOUNT!$B36,\"\")","v":""},{"$f":"IF(Résumé!$B25=0,\"\",Résumé!$H25)","v":""},{"$f":"IF(Résumé!$B25=0,\"\",Résumé!$I25)","v":""},{"$f":"IF(Résumé!$B25=0,\"\",$E26-$D26)","v":""},{"$f":"IF(Résumé!$B25=0,\"\",Résumé!$K25)","v":""},{"$f":"IF(Résumé!$B25=0,\"\",Résumé!$L25)","v":""},{"$f":"IF(Résumé!$B25=0,\"\",Résumé!$M25)","v":""},{"$f":"IF(Résumé!$B25=0,\"\",Résumé!$N25)","v":""},{"$f":"IF(Résumé!$B25=0,\"\",Résumé!$O25)","v":""},{"$f":"IF(Résumé!$B25=0,\"\",Résumé!$P25)","v":""},{"$f":"IF(Résumé!$B25=0,\"\",Résumé!$Q25)","v":""},{"$f":"IF(Résumé!$B25=0,\"\",Résumé!$R25)","v":""},{"$f":"IF(Résumé!$B25=0,\"\",Résumé!G25)","v":""}]
[null,{"$f":"IF(Résumé!$B26=1,Résumé!$D26,\"\")","v":""},{"$f":"IF(Résumé!$B26=1,AMOUNT!$B37,\"\")","v":""},{"$f":"IF(Résumé!$B26=0,\"\",Résumé!$H26)","v":""},{"$f":"IF(Résumé!$B26=0,\"\",Résumé!$I26)","v":""},{"$f":"IF(Résumé!$B26=0,\"\",$E27-$D27)","v":""},{"$f":"IF(Résumé!$B26=0,\"\",Résumé!$K26)","v":""},{"$f":"IF(Résumé!$B26=0,\"\",Résumé!$L26)","v":""},{"$f":"IF(Résumé!$B26=0,\"\",Résumé!$M26)","v":""},{"$f":"IF(Résumé!$B26=0,\"\",Résumé!$N26)","v":""},{"$f":"IF(Résumé!$B26=0,\"\",Résumé!$O26)","v":""},{"$f":"IF(Résumé!$B26=0,\"\",Résumé!$P26)","v":""},{"$f":"IF(Résumé!$B26=0,\"\",Résumé!$Q26)","v":""},{"$f":"IF(Résumé!$B26=0,\"\",Résumé!$R26)","v":""},{"$f":"IF(Résumé!$B26=0,\"\",Résumé!G26)","v":""}]
[null,{"$f":"IF(Résumé!$B27=1,Résumé!$D27,\"\")","v":""},{"$f":"IF(Résumé!$B27=1,AMOUNT!$B38,\"\")","v":""},{"$f":"IF(Résumé!$B27=0,\"\",Résumé!$H27)","v":""},{"$f":"IF(Résumé!$B27=0,\"\",Résumé!$I27)","v":""},{"$f":"IF(Résumé!$B27=0,\"\",$E28-$D28)","v":""},{"$f":"IF(Résumé!$B27=0,\"\",Résumé!$K27)","v":""},{"$f":"IF(Résumé!$B27=0,\"\",Résumé!$L27)","v":""},{"$f":"IF(Résumé!$B27=0,\"\",Résumé!$M27)","v":""},{"$f":"IF(Résumé!$B27=0,\"\",Résumé!$N27)","v":""},{"$f":"IF(Résumé!$B27=0,\"\",Résumé!$O27)","v":""},{"$f":"IF(Résumé!$B27=0,\"\",Résumé!$P27)","v":""},{"$f":"IF(Résumé!$B27=0,\"\",Résumé!$Q27)","v":""},{"$f":"IF(Résumé!$B27=0,\"\",Résumé!$R27)","v":""},{"$f":"IF(Résumé!$B27=0,\"\",Résumé!G27)","v":""}]
[null,{"$f":"IF(Résumé!$B28=1,Résumé!$D28,\"\")","v":""},{"$f":"IF(Résumé!$B28=1,AMOUNT!$B39,\"\")","v":""},{"$f":"IF(Résumé!$B28=0,\"\",Résumé!$H28)","v":""},{"$f":"IF(Résumé!$B28=0,\"\",Résumé!$I28)","v":""},{"$f":"IF(Résumé!$B28=0,\"\",$E29-$D29)","v":""},{"$f":"IF(Résumé!$B28=0,\"\",Résumé!$K28)","v":""},{"$f":"IF(Résumé!$B28=0,\"\",Résumé!$L28)","v":""},{"$f":"IF(Résumé!$B28=0,\"\",Résumé!$M28)","v":""},{"$f":"IF(Résumé!$B28=0,\"\",Résumé!$N28)","v":""},{"$f":"IF(Résumé!$B28=0,\"\",Résumé!$O28)","v":""},{"$f":"IF(Résumé!$B28=0,\"\",Résumé!$P28)","v":""},{"$f":"IF(Résumé!$B28=0,\"\",Résumé!$Q28)","v":""},{"$f":"IF(Résumé!$B28=0,\"\",Résumé!$R28)","v":""},{"$f":"IF(Résumé!$B28=0,\"\",Résumé!G28)","v":""}]
[null,{"$f":"IF(Résumé!$B29=1,Résumé!$D29,\"\")","v":""},{"$f":"IF(Résumé!$B29=1,AMOUNT!$B40,\"\")","v":""},{"$f":"IF(Résumé!$B29=0,\"\",Résumé!$H29)","v":""},{"$f":"IF(Résumé!$B29=0,\"\",Résumé!$I29)","v":""},{"$f":"IF(Résumé!$B29=0,\"\",$E30-$D30)","v":""},{"$f":"IF(Résumé!$B29=0,\"\",Résumé!$K29)","v":""},{"$f":"IF(Résumé!$B29=0,\"\",Résumé!$L29)","v":""},{"$f":"IF(Résumé!$B29=0,\"\",Résumé!$M29)","v":""},{"$f":"IF(Résumé!$B29=0,\"\",Résumé!$N29)","v":""},{"$f":"IF(Résumé!$B29=0,\"\",Résumé!$O29)","v":""},{"$f":"IF(Résumé!$B29=0,\"\",Résumé!$P29)","v":""},{"$f":"IF(Résumé!$B29=0,\"\",Résumé!$Q29)","v":""},{"$f":"IF(Résumé!$B29=0,\"\",Résumé!$R29)","v":""},{"$f":"IF(Résumé!$B29=0,\"\",Résumé!G29)","v":""}]
[null,{"$f":"IF(Résumé!$B30=1,Résumé!$D30,\"\")","v":""},{"$f":"IF(Résumé!$B30=1,AMOUNT!$B41,\"\")","v":""},{"$f":"IF(Résumé!$B30=0,\"\",Résumé!$H30)","v":""},{"$f":"IF(Résumé!$B30=0,\"\",Résumé!$I30)","v":""},{"$f":"IF(Résumé!$B30=0,\"\",$E31-$D31)","v":""},{"$f":"IF(Résumé!$B30=0,\"\",Résumé!$K30)","v":""},{"$f":"IF(Résumé!$B30=0,\"\",Résumé!$L30)","v":""},{"$f":"IF(Résumé!$B30=0,\"\",Résumé!$M30)","v":""},{"$f":"IF(Résumé!$B30=0,\"\",Résumé!$N30)","v":""},{"$f":"IF(Résumé!$B30=0,\"\",Résumé!$O30)","v":""},{"$f":"IF(Résumé!$B30=0,\"\",Résumé!$P30)","v":""},{"$f":"IF(Résumé!$B30=0,\"\",Résumé!$Q30)","v":""},{"$f":"IF(Résumé!$B30=0,\"\",Résumé!$R30)","v":""},{"$f":"IF(Résumé!$B30=0,\"\",Résumé!G30)","v":""}]
[null,{"$f":"IF(Résumé!$B31=1,Résumé!$D31,\"\")","v":""},{"$f":"IF(Résumé!$B31=1,AMOUNT!$B42,\"\")","v":""},{"$f":"IF(Résumé!$B31=0,\"\",Résumé!$H31)","v":""},{"$f":"IF(Résumé!$B31=0,\"\",Résumé!$I31)","v":""},{"$f":"IF(Résumé!$B31=0,\"\",$E32-$D32)","v":""},{"$f":"IF(Résumé!$B31=0,\"\",Résumé!$K31)","v":""},{"$f":"IF(Résumé!$B31=0,\"\",Résumé!$L31)","v":""},{"$f":"IF(Résumé!$B31=0,\"\",Résumé!$M31)","v":""},{"$f":"IF(Résumé!$B31=0,\"\",Résumé!$N31)","v":""},{"$f":"IF(Résumé!$B31=0,\"\",Résumé!$O31)","v":""},{"$f":"IF(Résumé!$B31=0,\"\",Résumé!$P31)","v":""},{"$f":"IF(Résumé!$B31=0,\"\",Résumé!$Q31)","v":""},{"$f":"IF(Résumé!$B31=0,\"\",Résumé!$R31)","v":""},{"$f":"IF(Résumé!$B31=0,\"\",Résumé!G31)","v":""}]
[null,{"$f":"IF(Résumé!$B32=1,Résumé!$D32,\"\")","v":""},{"$f":"IF(Résumé!$B32=1,AMOUNT!$B43,\"\")","v":""},{"$f":"IF(Résumé!$B32=0,\"\",Résumé!$H32)","v":""},{"$f":"IF(Résumé!$B32=0,\"\",Résumé!$I32)","v":""},{"$f":"IF(Résumé!$B32=0,\"\",$E33-$D33)","v":""},{"$f":"IF(Résumé!$B32=0,\"\",Résumé!$K32)","v":""},{"$f":"IF(Résumé!$B32=0,\"\",Résumé!$L32)","v":""},{"$f":"IF(Résumé!$B32=0,\"\",Résumé!$M32)","v":""},{"$f":"IF(Résumé!$B32=0,\"\",Résumé!$N32)","v":""},{"$f":"IF(Résumé!$B32=0,\"\",Résumé!$O32)","v":""},{"$f":"IF(Résumé!$B32=0,\"\",Résumé!$P32)","v":""},{"$f":"IF(Résumé!$B32=0,\"\",Résumé!$Q32)","v":""},{"$f":"IF(Résumé!$B32=0,\"\",Résumé!$R32)","v":""},{"$f":"IF(Résumé!$B32=0,\"\",Résumé!G32)","v":""}]
[null,{"$f":"IF(Résumé!$B33=1,Résumé!$D33,\"\")","v":""},{"$f":"IF(Résumé!$B33=1,AMOUNT!$B44,\"\")","v":""},{"$f":"IF(Résumé!$B33=0,\"\",Résumé!$H33)","v":""},{"$f":"IF(Résumé!$B33=0,\"\",Résumé!$I33)","v":""},{"$f":"IF(Résumé!$B33=0,\"\",$E34-$D34)","v":""},{"$f":"IF(Résumé!$B33=0,\"\",Résumé!$K33)","v":""},{"$f":"IF(Résumé!$B33=0,\"\",Résumé!$L33)","v":""},{"$f":"IF(Résumé!$B33=0,\"\",Résumé!$M33)","v":""},{"$f":"IF(Résumé!$B33=0,\"\",Résumé!$N33)","v":""},{"$f":"IF(Résumé!$B33=0,\"\",Résumé!$O33)","v":""},{"$f":"IF(Résumé!$B33=0,\"\",Résumé!$P33)","v":""},{"$f":"IF(Résumé!$B33=0,\"\",Résumé!$Q33)","v":""},{"$f":"IF(Résumé!$B33=0,\"\",Résumé!$R33)","v":""},{"$f":"IF(Résumé!$B33=0,\"\",Résumé!G33)","v":""}]
[null,{"$f":"IF(Résumé!$B34=1,Résumé!$D34,\"\")","v":""},{"$f":"IF(Résumé!$B34=1,AMOUNT!$B45,\"\")","v":""},{"$f":"IF(Résumé!$B34=0,\"\",Résumé!$H34)","v":""},{"$f":"IF(Résumé!$B34=0,\"\",Résumé!$I34)","v":""},{"$f":"IF(Résumé!$B34=0,\"\",$E35-$D35)","v":""},{"$f":"IF(Résumé!$B34=0,\"\",Résumé!$K34)","v":""},{"$f":"IF(Résumé!$B34=0,\"\",Résumé!$L34)","v":""},{"$f":"IF(Résumé!$B34=0,\"\",Résumé!$M34)","v":""},{"$f":"IF(Résumé!$B34=0,\"\",Résumé!$N34)","v":""},{"$f":"IF(Résumé!$B34=0,\"\",Résumé!$O34)","v":""},{"$f":"IF(Résumé!$B34=0,\"\",Résumé!$P34)","v":""},{"$f":"IF(Résumé!$B34=0,\"\",Résumé!$Q34)","v":""},{"$f":"IF(Résumé!$B34=0,\"\",Résumé!$R34)","v":""},{"$f":"IF(Résumé!$B34=0,\"\",Résumé!G34)","v":""}]
[null,{"$f":"IF(Résumé!$B35=1,Résumé!$D35,\"\")","v":""},{"$f":"IF(Résumé!$B35=1,AMOUNT!$B46,\"\")","v":""},{"$f":"IF(Résumé!$B35=0,\"\",Résumé!$H35)","v":""},{"$f":"IF(Résumé!$B35=0,\"\",Résumé!$I35)","v":""},{"$f":"IF(Résumé!$B35=0,\"\",$E36-$D36)","v":""},{"$f":"IF(Résumé!$B35=0,\"\",Résumé!$K35)","v":""},{"$f":"IF(Résumé!$B35=0,\"\",Résumé!$L35)","v":""},{"$f":"IF(Résumé!$B35=0,\"\",Résumé!$M35)","v":""},{"$f":"IF(Résumé!$B35=0,\"\",Résumé!$N35)","v":""},{"$f":"IF(Résumé!$B35=0,\"\",Résumé!$O35)","v":""},{"$f":"IF(Résumé!$B35=0,\"\",Résumé!$P35)","v":""},{"$f":"IF(Résumé!$B35=0,\"\",Résumé!$Q35)","v":""},{"$f":"IF(Résumé!$B35=0,\"\",Résumé!$R35)","v":""},{"$f":"IF(Résumé!$B35=0,\"\",Résumé!G35)","v":""}]
[null,{"$f":"IF(Résumé!$B36=1,Résumé!$D36,\"\")","v":""},{"$f":"IF(Résumé!$B36=1,AMOUNT!$B47,\"\")","v":""},{"$f":"IF(Résumé!$B36=0,\"\",Résumé!$H36)","v":""},{"$f":"IF(Résumé!$B36=0,\"\",Résumé!$I36)","v":""},{"$f":"IF(Résumé!$B36=0,\"\",$E37-$D37)","v":""},{"$f":"IF(Résumé!$B36=0,\"\",Résumé!$K36)","v":""},{"$f":"IF(Résumé!$B36=0,\"\",Résumé!$L36)","v":""},{"$f":"IF(Résumé!$B36=0,\"\",Résumé!$M36)","v":""},{"$f":"IF(Résumé!$B36=0,\"\",Résumé!$N36)","v":""},{"$f":"IF(Résumé!$B36=0,\"\",Résumé!$O36)","v":""},{"$f":"IF(Résumé!$B36=0,\"\",Résumé!$P36)","v":""},{"$f":"IF(Résumé!$B36=0,\"\",Résumé!$Q36)","v":""},{"$f":"IF(Résumé!$B36=0,\"\",Résumé!$R36)","v":""},{"$f":"IF(Résumé!$B36=0,\"\",Résumé!G36)","v":""}]
[null,{"$f":"IF(Résumé!$B37=1,Résumé!$D37,\"\")","v":""},{"$f":"IF(Résumé!$B37=1,AMOUNT!$B48,\"\")","v":""},{"$f":"IF(Résumé!$B37=0,\"\",Résumé!$H37)","v":""},{"$f":"IF(Résumé!$B37=0,\"\",Résumé!$I37)","v":""},{"$f":"IF(Résumé!$B37=0,\"\",$E38-$D38)","v":""},{"$f":"IF(Résumé!$B37=0,\"\",Résumé!$K37)","v":""},{"$f":"IF(Résumé!$B37=0,\"\",Résumé!$L37)","v":""},{"$f":"IF(Résumé!$B37=0,\"\",Résumé!$M37)","v":""},{"$f":"IF(Résumé!$B37=0,\"\",Résumé!$N37)","v":""},{"$f":"IF(Résumé!$B37=0,\"\",Résumé!$O37)","v":""},{"$f":"IF(Résumé!$B37=0,\"\",Résumé!$P37)","v":""},{"$f":"IF(Résumé!$B37=0,\"\",Résumé!$Q37)","v":""},{"$f":"IF(Résumé!$B37=0,\"\",Résumé!$R37)","v":""},{"$f":"IF(Résumé!$B37=0,\"\",Résumé!G37)","v":""}]
[null,{"$f":"IF(Résumé!$B38=1,Résumé!$D38,\"\")","v":""},{"$f":"IF(Résumé!$B38=1,AMOUNT!$B49,\"\")","v":""},{"$f":"IF(Résumé!$B38=0,\"\",Résumé!$H38)","v":""},{"$f":"IF(Résumé!$B38=0,\"\",Résumé!$I38)","v":""},{"$f":"IF(Résumé!$B38=0,\"\",$E39-$D39)","v":""},{"$f":"IF(Résumé!$B38=0,\"\",Résumé!$K38)","v":""},{"$f":"IF(Résumé!$B38=0,\"\",Résumé!$L38)","v":""},{"$f":"IF(Résumé!$B38=0,\"\",Résumé!$M38)","v":""},{"$f":"IF(Résumé!$B38=0,\"\",Résumé!$N38)","v":""},{"$f":"IF(Résumé!$B38=0,\"\",Résumé!$O38)","v":""},{"$f":"IF(Résumé!$B38=0,\"\",Résumé!$P38)","v":""},{"$f":"IF(Résumé!$B38=0,\"\",Résumé!$Q38)","v":""},{"$f":"IF(Résumé!$B38=0,\"\",Résumé!$R38)","v":""},{"$f":"IF(Résumé!$B38=0,\"\",Résumé!G38)","v":""}]
[null,{"$f":"IF(Résumé!$B39=1,Résumé!$D39,\"\")","v":""},{"$f":"IF(Résumé!$B39=1,AMOUNT!$B50,\"\")","v":""},{"$f":"IF(Résumé!$B39=0,\"\",Résumé!$H39)","v":""},{"$f":"IF(Résumé!$B39=0,\"\",Résumé!$I39)","v":""},{"$f":"IF(Résumé!$B39=0,\"\",$E40-$D40)","v":""},{"$f":"IF(Résumé!$B39=0,\"\",Résumé!$K39)","v":""},{"$f":"IF(Résumé!$B39=0,\"\",Résumé!$L39)","v":""},{"$f":"IF(Résumé!$B39=0,\"\",Résumé!$M39)","v":""},{"$f":"IF(Résumé!$B39=0,\"\",Résumé!$N39)","v":""},{"$f":"IF(Résumé!$B39=0,\"\",Résumé!$O39)","v":""},{"$f":"IF(Résumé!$B39=0,\"\",Résumé!$P39)","v":""},{"$f":"IF(Résumé!$B39=0,\"\",Résumé!$Q39)","v":""},{"$f":"IF(Résumé!$B39=0,\"\",Résumé!$R39)","v":""},{"$f":"IF(Résumé!$B39=0,\"\",Résumé!G39)","v":""}]
[null,{"$f":"IF(Résumé!$B40=1,Résumé!$D40,\"\")","v":""},{"$f":"IF(Résumé!$B40=1,AMOUNT!$B51,\"\")","v":""},{"$f":"IF(Résumé!$B40=0,\"\",Résumé!$H40)","v":""},{"$f":"IF(Résumé!$B40=0,\"\",Résumé!$I40)","v":""},{"$f":"IF(Résumé!$B40=0,\"\",$E41-$D41)","v":""},{"$f":"IF(Résumé!$B40=0,\"\",Résumé!$K40)","v":""},{"$f":"IF(Résumé!$B40=0,\"\",Résumé!$L40)","v":""},{"$f":"IF(Résumé!$B40=0,\"\",Résumé!$M40)","v":""},{"$f":"IF(Résumé!$B40=0,\"\",Résumé!$N40)","v":""},{"$f":"IF(Résumé!$B40=0,\"\",Résumé!$O40)","v":""},{"$f":"IF(Résumé!$B40=0,\"\",Résumé!$P40)","v":""},{"$f":"IF(Résumé!$B40=0,\"\",Résumé!$Q40)","v":""},{"$f":"IF(Résumé!$B40=0,\"\",Résumé!$R40)","v":""},{"$f":"IF(Résumé!$B40=0,\"\",Résumé!G40)","v":""}]
[null,{"$f":"IF(Résumé!$B41=1,Résumé!$D41,\"\")","v":""},{"$f":"IF(Résumé!$B41=1,AMOUNT!$B52,\"\")","v":""},{"$f":"IF(Résumé!$B41=0,\"\",Résumé!$H41)","v":""},{"$f":"IF(Résumé!$B41=0,\"\",Résumé!$I41)","v":""},{"$f":"IF(Résumé!$B41=0,\"\",$E42-$D42)","v":""},{"$f":"IF(Résumé!$B41=0,\"\",Résumé!$K41)","v":""},{"$f":"IF(Résumé!$B41=0,\"\",Résumé!$L41)","v":""},{"$f":"IF(Résumé!$B41=0,\"\",Résumé!$M41)","v":""},{"$f":"IF(Résumé!$B41=0,\"\",Résumé!$N41)","v":""},{"$f":"IF(Résumé!$B41=0,\"\",Résumé!$O41)","v":""},{"$f":"IF(Résumé!$B41=0,\"\",Résumé!$P41)","v":""},{"$f":"IF(Résumé!$B41=0,\"\",Résumé!$Q41)","v":""},{"$f":"IF(Résumé!$B41=0,\"\",Résumé!$R41)","v":""},{"$f":"IF(Résumé!$B41=0,\"\",Résumé!G41)","v":""}]
[null,{"$f":"IF(Résumé!$B42=1,Résumé!$D42,\"\")","v":""},{"$f":"IF(Résumé!$B42=1,AMOUNT!$B53,\"\")","v":""},{"$f":"IF(Résumé!$B42=0,\"\",Résumé!$H42)","v":""},{"$f":"IF(Résumé!$B42=0,\"\",Résumé!$I42)","v":""},{"$f":"IF(Résumé!$B42=0,\"\",$E43-$D43)","v":""},{"$f":"IF(Résumé!$B42=0,\"\",Résumé!$K42)","v":""},{"$f":"IF(Résumé!$B42=0,\"\",Résumé!$L42)","v":""},{"$f":"IF(Résumé!$B42=0,\"\",Résumé!$M42)","v":""},{"$f":"IF(Résumé!$B42=0,\"\",Résumé!$N42)","v":""},{"$f":"IF(Résumé!$B42=0,\"\",Résumé!$O42)","v":""},{"$f":"IF(Résumé!$B42=0,\"\",Résumé!$P42)","v":""},{"$f":"IF(Résumé!$B42=0,\"\",Résumé!$Q42)","v":""},{"$f":"IF(Résumé!$B42=0,\"\",Résumé!$R42)","v":""},{"$f":"IF(Résumé!$B42=0,\"\",Résumé!G42)","v":""}]
[null,{"$f":"IF(Résumé!$B43=1,Résumé!$D43,\"\")","v":""},{"$f":"IF(Résumé!$B43=1,AMOUNT!$B54,\"\")","v":""},{"$f":"IF(Résumé!$B43=0,\"\",Résumé!$H43)","v":""},{"$f":"IF(Résumé!$B43=0,\"\",Résumé!$I43)","v":""},{"$f":"IF(Résumé!$B43=0,\"\",$E44-$D44)","v":""},{"$f":"IF(Résumé!$B43=0,\"\",Résumé!$K43)","v":""},{"$f":"IF(Résumé!$B43=0,\"\",Résumé!$L43)","v":""},{"$f":"IF(Résumé!$B43=0,\"\",Résumé!$M43)","v":""},{"$f":"IF(Résumé!$B43=0,\"\",Résumé!$N43)","v":""},{"$f":"IF(Résumé!$B43=0,\"\",Résumé!$O43)","v":""},{"$f":"IF(Résumé!$B43=0,\"\",Résumé!$P43)","v":""},{"$f":"IF(Résumé!$B43=0,\"\",Résumé!$Q43)","v":""},{"$f":"IF(Résumé!$B43=0,\"\",Résumé!$R43)","v":""},{"$f":"IF(Résumé!$B43=0,\"\",Résumé!G43)","v":""}]
[null,{"$f":"IF(Résumé!$B44=1,Résumé!$D44,\"\")","v":""},{"$f":"IF(Résumé!$B44=1,AMOUNT!$B55,\"\")","v":""},{"$f":"IF(Résumé!$B44=0,\"\",Résumé!$H44)","v":""},{"$f":"IF(Résumé!$B44=0,\"\",Résumé!$I44)","v":""},{"$f":"IF(Résumé!$B44=0,\"\",$E45-$D45)","v":""},{"$f":"IF(Résumé!$B44=0,\"\",Résumé!$K44)","v":""},{"$f":"IF(Résumé!$B44=0,\"\",Résumé!$L44)","v":""},{"$f":"IF(Résumé!$B44=0,\"\",Résumé!$M44)","v":""},{"$f":"IF(Résumé!$B44=0,\"\",Résumé!$N44)","v":""},{"$f":"IF(Résumé!$B44=0,\"\",Résumé!$O44)","v":""},{"$f":"IF(Résumé!$B44=0,\"\",Résumé!$P44)","v":""},{"$f":"IF(Résumé!$B44=0,\"\",Résumé!$Q44)","v":""},{"$f":"IF(Résumé!$B44=0,\"\",Résumé!$R44)","v":""},{"$f":"IF(Résumé!$B44=0,\"\",Résumé!G44)","v":""}]
[null,{"$f":"IF(Résumé!$B45=1,Résumé!$D45,\"\")","v":""},{"$f":"IF(Résumé!$B45=1,AMOUNT!$B56,\"\")","v":""},{"$f":"IF(Résumé!$B45=0,\"\",Résumé!$H45)","v":""},{"$f":"IF(Résumé!$B45=0,\"\",Résumé!$I45)","v":""},{"$f":"IF(Résumé!$B45=0,\"\",$E46-$D46)","v":""},{"$f":"IF(Résumé!$B45=0,\"\",Résumé!$K45)","v":""},{"$f":"IF(Résumé!$B45=0,\"\",Résumé!$L45)","v":""},{"$f":"IF(Résumé!$B45=0,\"\",Résumé!$M45)","v":""},{"$f":"IF(Résumé!$B45=0,\"\",Résumé!$N45)","v":""},{"$f":"IF(Résumé!$B45=0,\"\",Résumé!$O45)","v":""},{"$f":"IF(Résumé!$B45=0,\"\",Résumé!$P45)","v":""},{"$f":"IF(Résumé!$B45=0,\"\",Résumé!$Q45)","v":""},{"$f":"IF(Résumé!$B45=0,\"\",Résumé!$R45)","v":""},{"$f":"IF(Résumé!$B45=0,\"\",Résumé!G45)","v":""}]
[null,{"$f":"IF(Résumé!$B46=1,Résumé!$D46,\"\")","v":""},{"$f":"IF(Résumé!$B46=1,AMOUNT!$B57,\"\")","v":""},{"$f":"IF(Résumé!$B46=0,\"\",Résumé!$H46)","v":""},{"$f":"IF(Résumé!$B46=0,\"\",Résumé!$I46)","v":""},{"$f":"IF(Résumé!$B46=0,\"\",$E47-$D47)","v":""},{"$f":"IF(Résumé!$B46=0,\"\",Résumé!$K46)","v":""},{"$f":"IF(Résumé!$B46=0,\"\",Résumé!$L46)","v":""},{"$f":"IF(Résumé!$B46=0,\"\",Résumé!$M46)","v":""},{"$f":"IF(Résumé!$B46=0,\"\",Résumé!$N46)","v":""},{"$f":"IF(Résumé!$B46=0,\"\",Résumé!$O46)","v":""},{"$f":"IF(Résumé!$B46=0,\"\",Résumé!$P46)","v":""},{"$f":"IF(Résumé!$B46=0,\"\",Résumé!$Q46)","v":""},{"$f":"IF(Résumé!$B46=0,\"\",Résumé!$R46)","v":""},{"$f":"IF(Résumé!$B46=0,\"\",Résumé!G46)","v":""}]
[null,{"$f":"IF(Résumé!$B47=1,Résumé!$D47,\"\")","v":""},{"$f":"IF(Résumé!$B47=1,AMOUNT!$B58,\"\")","v":""},{"$f":"IF(Résumé!$B47=0,\"\",Résumé!$H47)","v":""},{"$f":"IF(Résumé!$B47=0,\"\",Résumé!$I47)","v":""},{"$f":"IF(Résumé!$B47=0,\"\",$E48-$D48)","v":""},{"$f":"IF(Résumé!$B47=0,\"\",Résumé!$K47)","v":""},{"$f":"IF(Résumé!$B47=0,\"\",Résumé!$L47)","v":""},{"$f":"IF(Résumé!$B47=0,\"\",Résumé!$M47)","v":""},{"$f":"IF(Résumé!$B47=0,\"\",Résumé!$N47)","v":""},{"$f":"IF(Résumé!$B47=0,\"\",Résumé!$O47)","v":""},{"$f":"IF(Résumé!$B47=0,\"\",Résumé!$P47)","v":""},{"$f":"IF(Résumé!$B47=0,\"\",Résumé!$Q47)","v":""},{"$f":"IF(Résumé!$B47=0,\"\",Résumé!$R47)","v":""},{"$f":"IF(Résumé!$B47=0,\"\",Résumé!G47)","v":""}]
[null,{"$f":"IF(Résumé!$B48=1,Résumé!$D48,\"\")","v":""},{"$f":"IF(Résumé!$B48=1,AMOUNT!$B59,\"\")","v":""},{"$f":"IF(Résumé!$B48=0,\"\",Résumé!$H48)","v":""},{"$f":"IF(Résumé!$B48=0,\"\",Résumé!$I48)","v":""},{"$f":"IF(Résumé!$B48=0,\"\",$E49-$D49)","v":""},{"$f":"IF(Résumé!$B48=0,\"\",Résumé!$K48)","v":""},{"$f":"IF(Résumé!$B48=0,\"\",Résumé!$L48)","v":""},{"$f":"IF(Résumé!$B48=0,\"\",Résumé!$M48)","v":""},{"$f":"IF(Résumé!$B48=0,\"\",Résumé!$N48)","v":""},{"$f":"IF(Résumé!$B48=0,\"\",Résumé!$O48)","v":""},{"$f":"IF(Résumé!$B48=0,\"\",Résumé!$P48)","v":""},{"$f":"IF(Résumé!$B48=0,\"\",Résumé!$Q48)","v":""},{"$f":"IF(Résumé!$B48=0,\"\",Résumé!$R48)","v":""},{"$f":"IF(Résumé!$B48=0,\"\",Résumé!G48)","v":""}]
[null,{"$f":"IF(Résumé!$B49=1,Résumé!$D49,\"\")","v":""},{"$f":"IF(Résumé!$B49=1,AMOUNT!$B60,\"\")","v":""},{"$f":"IF(Résumé!$B49=0,\"\",Résumé!$H49)","v":""},{"$f":"IF(Résumé!$B49=0,\"\",Résumé!$I49)","v":""},{"$f":"IF(Résumé!$B49=0,\"\",$E50-$D50)","v":""},{"$f":"IF(Résumé!$B49=0,\"\",Résumé!$K49)","v":""},{"$f":"IF(Résumé!$B49=0,\"\",Résumé!$L49)","v":""},{"$f":"IF(Résumé!$B49=0,\"\",Résumé!$M49)","v":""},{"$f":"IF(Résumé!$B49=0,\"\",Résumé!$N49)","v":""},{"$f":"IF(Résumé!$B49=0,\"\",Résumé!$O49)","v":""},{"$f":"IF(Résumé!$B49=0,\"\",Résumé!$P49)","v":""},{"$f":"IF(Résumé!$B49=0,\"\",Résumé!$Q49)","v":""},{"$f":"IF(Résumé!$B49=0,\"\",Résumé!$R49)","v":""},{"$f":"IF(Résumé!$B49=0,\"\",Résumé!G49)","v":""}]
[null,{"$f":"IF(Résumé!$B50=1,Résumé!$D50,\"\")","v":""},{"$f":"IF(Résumé!$B50=1,AMOUNT!$B61,\"\")","v":""},{"$f":"IF(Résumé!$B50=0,\"\",Résumé!$H50)","v":""},{"$f":"IF(Résumé!$B50=0,\"\",Résumé!$I50)","v":""},{"$f":"IF(Résumé!$B50=0,\"\",$E51-$D51)","v":""},{"$f":"IF(Résumé!$B50=0,\"\",Résumé!$K50)","v":""},{"$f":"IF(Résumé!$B50=0,\"\",Résumé!$L50)","v":""},{"$f":"IF(Résumé!$B50=0,\"\",Résumé!$M50)","v":""},{"$f":"IF(Résumé!$B50=0,\"\",Résumé!$N50)","v":""},{"$f":"IF(Résumé!$B50=0,\"\",Résumé!$O50)","v":""},{"$f":"IF(Résumé!$B50=0,\"\",Résumé!$P50)","v":""},{"$f":"IF(Résumé!$B50=0,\"\",Résumé!$Q50)","v":""},{"$f":"IF(Résumé!$B50=0,\"\",Résumé!$R50)","v":""},{"$f":"IF(Résumé!$B50=0,\"\",Résumé!G50)","v":""}]
[null,{"$f":"IF(Résumé!$B51=1,Résumé!$D51,\"\")","v":""},{"$f":"IF(Résumé!$B51=1,AMOUNT!$B62,\"\")","v":""},{"$f":"IF(Résumé!$B51=0,\"\",Résumé!$H51)","v":""},{"$f":"IF(Résumé!$B51=0,\"\",Résumé!$I51)","v":""},{"$f":"IF(Résumé!$B51=0,\"\",$E52-$D52)","v":""},{"$f":"IF(Résumé!$B51=0,\"\",Résumé!$K51)","v":""},{"$f":"IF(Résumé!$B51=0,\"\",Résumé!$L51)","v":""},{"$f":"IF(Résumé!$B51=0,\"\",Résumé!$M51)","v":""},{"$f":"IF(Résumé!$B51=0,\"\",Résumé!$N51)","v":""},{"$f":"IF(Résumé!$B51=0,\"\",Résumé!$O51)","v":""},{"$f":"IF(Résumé!$B51=0,\"\",Résumé!$P51)","v":""},{"$f":"IF(Résumé!$B51=0,\"\",Résumé!$Q51)","v":""},{"$f":"IF(Résumé!$B51=0,\"\",Résumé!$R51)","v":""},{"$f":"IF(Résumé!$B51=0,\"\",Résumé!G51)","v":""}]
[null,{"$f":"IF(Résumé!$B52=1,Résumé!$D52,\"\")","v":""},{"$f":"IF(Résumé!$B52=1,AMOUNT!$B63,\"\")","v":""},{"$f":"IF(Résumé!$B52=0,\"\",Résumé!$H52)","v":""},{"$f":"IF(Résumé!$B52=0,\"\",Résumé!$I52)","v":""},{"$f":"IF(Résumé!$B52=0,\"\",$E53-$D53)","v":""},{"$f":"IF(Résumé!$B52=0,\"\",Résumé!$K52)","v":""},{"$f":"IF(Résumé!$B52=0,\"\",Résumé!$L52)","v":""},{"$f":"IF(Résumé!$B52=0,\"\",Résumé!$M52)","v":""},{"$f":"IF(Résumé!$B52=0,\"\",Résumé!$N52)","v":""},{"$f":"IF(Résumé!$B52=0,\"\",Résumé!$O52)","v":""},{"$f":"IF(Résumé!$B52=0,\"\",Résumé!$P52)","v":""},{"$f":"IF(Résumé!$B52=0,\"\",Résumé!$Q52)","v":""},{"$f":"IF(Résumé!$B52=0,\"\",Résumé!$R52)","v":""},{"$f":"IF(Résumé!$B52=0,\"\",Résumé!G52)","v":""}]
[null,{"$f":"IF(Résumé!$B53=1,Résumé!$D53,\"\")","v":""},{"$f":"IF(Résumé!$B53=1,AMOUNT!$B64,\"\")","v":""},{"$f":"IF(Résumé!$B53=0,\"\",Résumé!$H53)","v":""},{"$f":"IF(Résumé!$B53=0,\"\",Résumé!$I53)","v":""},{"$f":"IF(Résumé!$B53=0,\"\",$E54-$D54)","v":""},{"$f":"IF(Résumé!$B53=0,\"\",Résumé!$K53)","v":""},{"$f":"IF(Résumé!$B53=0,\"\",Résumé!$L53)","v":""},{"$f":"IF(Résumé!$B53=0,\"\",Résumé!$M53)","v":""},{"$f":"IF(Résumé!$B53=0,\"\",Résumé!$N53)","v":""},{"$f":"IF(Résumé!$B53=0,\"\",Résumé!$O53)","v":""},{"$f":"IF(Résumé!$B53=0,\"\",Résumé!$P53)","v":""},{"$f":"IF(Résumé!$B53=0,\"\",Résumé!$Q53)","v":""},{"$f":"IF(Résumé!$B53=0,\"\",Résumé!$R53)","v":""},{"$f":"IF(Résumé!$B53=0,\"\",Résumé!G53)","v":""}]
[null,{"$f":"IF(Résumé!$B54=1,Résumé!$D54,\"\")","v":""},{"$f":"IF(Résumé!$B54=1,AMOUNT!$B65,\"\")","v":""},{"$f":"IF(Résumé!$B54=0,\"\",Résumé!$H54)","v":""},{"$f":"IF(Résumé!$B54=0,\"\",Résumé!$I54)","v":""},{"$f":"IF(Résumé!$B54=0,\"\",$E55-$D55)","v":""},{"$f":"IF(Résumé!$B54=0,\"\",Résumé!$K54)","v":""},{"$f":"IF(Résumé!$B54=0,\"\",Résumé!$L54)","v":""},{"$f":"IF(Résumé!$B54=0,\"\",Résumé!$M54)","v":""},{"$f":"IF(Résumé!$B54=0,\"\",Résumé!$N54)","v":""},{"$f":"IF(Résumé!$B54=0,\"\",Résumé!$O54)","v":""},{"$f":"IF(Résumé!$B54=0,\"\",Résumé!$P54)","v":""},{"$f":"IF(Résumé!$B54=0,\"\",Résumé!$Q54)","v":""},{"$f":"IF(Résumé!$B54=0,\"\",Résumé!$R54)","v":""},{"$f":"IF(Résumé!$B54=0,\"\",Résumé!G54)","v":""}]
[null,{"$f":"IF(Résumé!$B55=1,Résumé!$D55,\"\")","v":""},{"$f":"IF(Résumé!$B55=1,AMOUNT!$B66,\"\")","v":""},{"$f":"IF(Résumé!$B55=0,\"\",Résumé!$H55)","v":""},{"$f":"IF(Résumé!$B55=0,\"\",Résumé!$I55)","v":""},{"$f":"IF(Résumé!$B55=0,\"\",$E56-$D56)","v":""},{"$f":"IF(Résumé!$B55=0,\"\",Résumé!$K55)","v":""},{"$f":"IF(Résumé!$B55=0,\"\",Résumé!$L55)","v":""},{"$f":"IF(Résumé!$B55=0,\"\",Résumé!$M55)","v":""},{"$f":"IF(Résumé!$B55=0,\"\",Résumé!$N55)","v":""},{"$f":"IF(Résumé!$B55=0,\"\",Résumé!$O55)","v":""},{"$f":"IF(Résumé!$B55=0,\"\",Résumé!$P55)","v":""},{"$f":"IF(Résumé!$B55=0,\"\",Résumé!$Q55)","v":""},{"$f":"IF(Résumé!$B55=0,\"\",Résumé!$R55)","v":""},{"$f":"IF(Résumé!$B55=0,\"\",Résumé!G55)","v":""}]
[null,{"$f":"IF(Résumé!$B56=1,Résumé!$D56,\"\")","v":""},{"$f":"IF(Résumé!$B56=1,AMOUNT!$B67,\"\")","v":""},{"$f":"IF(Résumé!$B56=0,\"\",Résumé!$H56)","v":""},{"$f":"IF(Résumé!$B56=0,\"\",Résumé!$I56)","v":""},{"$f":"IF(Résumé!$B56=0,\"\",$E57-$D57)","v":""},{"$f":"IF(Résumé!$B56=0,\"\",Résumé!$K56)","v":""},{"$f":"IF(Résumé!$B56=0,\"\",Résumé!$L56)","v":""},{"$f":"IF(Résumé!$B56=0,\"\",Résumé!$M56)","v":""},{"$f":"IF(Résumé!$B56=0,\"\",Résumé!$N56)","v":""},{"$f":"IF(Résumé!$B56=0,\"\",Résumé!$O56)","v":""},{"$f":"IF(Résumé!$B56=0,\"\",Résumé!$P56)","v":""},{"$f":"IF(Résumé!$B56=0,\"\",Résumé!$Q56)","v":""},{"$f":"IF(Résumé!$B56=0,\"\",Résumé!$R56)","v":""},{"$f":"IF(Résumé!$B56=0,\"\",Résumé!G56)","v":""}]
[null,{"$f":"IF(Résumé!$B57=1,Résumé!$D57,\"\")","v":""},{"$f":"IF(Résumé!$B57=1,AMOUNT!$B68,\"\")","v":""},{"$f":"IF(Résumé!$B57=0,\"\",Résumé!$H57)","v":""},{"$f":"IF(Résumé!$B57=0,\"\",Résumé!$I57)","v":""},{"$f":"IF(Résumé!$B57=0,\"\",$E58-$D58)","v":""},{"$f":"IF(Résumé!$B57=0,\"\",Résumé!$K57)","v":""},{"$f":"IF(Résumé!$B57=0,\"\",Résumé!$L57)","v":""},{"$f":"IF(Résumé!$B57=0,\"\",Résumé!$M57)","v":""},{"$f":"IF(Résumé!$B57=0,\"\",Résumé!$N57)","v":""},{"$f":"IF(Résumé!$B57=0,\"\",Résumé!$O57)","v":""},{"$f":"IF(Résumé!$B57=0,\"\",Résumé!$P57)","v":""},{"$f":"IF(Résumé!$B57=0,\"\",Résumé!$Q57)","v":""},{"$f":"IF(Résumé!$B57=0,\"\",Résumé!$R57)","v":""},{"$f":"IF(Résumé!$B57=0,\"\",Résumé!G57)","v":""}]
[null,{"$f":"IF(Résumé!$B58=1,Résumé!$D58,\"\")","v":""},{"$f":"IF(Résumé!$B58=1,AMOUNT!$B69,\"\")","v":""},{"$f":"IF(Résumé!$B58=0,\"\",Résumé!$H58)","v":""},{"$f":"IF(Résumé!$B58=0,\"\",Résumé!$I58)","v":""},{"$f":"IF(Résumé!$B58=0,\"\",$E59-$D59)","v":""},{"$f":"IF(Résumé!$B58=0,\"\",Résumé!$K58)","v":""},{"$f":"IF(Résumé!$B58=0,\"\",Résumé!$L58)","v":""},{"$f":"IF(Résumé!$B58=0,\"\",Résumé!$M58)","v":""},{"$f":"IF(Résumé!$B58=0,\"\",Résumé!$N58)","v":""},{"$f":"IF(Résumé!$B58=0,\"\",Résumé!$O58)","v":""},{"$f":"IF(Résumé!$B58=0,\"\",Résumé!$P58)","v":""},{"$f":"IF(Résumé!$B58=0,\"\",Résumé!$Q58)","v":""},{"$f":"IF(Résumé!$B58=0,\"\",Résumé!$R58)","v":""},{"$f":"IF(Résumé!$B58=0,\"\",Résumé!G58)","v":""}]
[null,{"$f":"IF(Résumé!$B59=1,Résumé!$D59,\"\")","v":""},{"$f":"IF(Résumé!$B59=1,AMOUNT!$B70,\"\")","v":""},{"$f":"IF(Résumé!$B59=0,\"\",Résumé!$H59)","v":""},{"$f":"IF(Résumé!$B59=0,\"\",Résumé!$I59)","v":""},{"$f":"IF(Résumé!$B59=0,\"\",$E60-$D60)","v":""},{"$f":"IF(Résumé!$B59=0,\"\",Résumé!$K59)","v":""},{"$f":"IF(Résumé!$B59=0,\"\",Résumé!$L59)","v":""},{"$f":"IF(Résumé!$B59=0,\"\",Résumé!$M59)","v":""},{"$f":"IF(Résumé!$B59=0,\"\",Résumé!$N59)","v":""},{"$f":"IF(Résumé!$B59=0,\"\",Résumé!$O59)","v":""},{"$f":"IF(Résumé!$B59=0,\"\",Résumé!$P59)","v":""},{"$f":"IF(Résumé!$B59=0,\"\",Résumé!$Q59)","v":""},{"$f":"IF(Résumé!$B59=0,\"\",Résumé!$R59)","v":""},{"$f":"IF(Résumé!$B59=0,\"\",Résumé!G59)","v":""}]
[null,{"$f":"IF(Résumé!$B60=1,Résumé!$D60,\"\")","v":""},{"$f":"IF(Résumé!$B60=1,AMOUNT!$B71,\"\")","v":""},{"$f":"IF(Résumé!$B60=0,\"\",Résumé!$H60)","v":""},{"$f":"IF(Résumé!$B60=0,\"\",Résumé!$I60)","v":""},{"$f":"IF(Résumé!$B60=0,\"\",$E61-$D61)","v":""},{"$f":"IF(Résumé!$B60=0,\"\",Résumé!$K60)","v":""},{"$f":"IF(Résumé!$B60=0,\"\",Résumé!$L60)","v":""},{"$f":"IF(Résumé!$B60=0,\"\",Résumé!$M60)","v":""},{"$f":"IF(Résumé!$B60=0,\"\",Résumé!$N60)","v":""},{"$f":"IF(Résumé!$B60=0,\"\",Résumé!$O60)","v":""},{"$f":"IF(Résumé!$B60=0,\"\",Résumé!$P60)","v":""},{"$f":"IF(Résumé!$B60=0,\"\",Résumé!$Q60)","v":""},{"$f":"IF(Résumé!$B60=0,\"\",Résumé!$R60)","v":""},{"$f":"IF(Résumé!$B60=0,\"\",Résumé!G60)","v":""}]
[null,{"$f":"IF(Résumé!$B61=1,Résumé!$D61,\"\")","v":""},{"$f":"IF(Résumé!$B61=1,AMOUNT!$B72,\"\")","v":""},{"$f":"IF(Résumé!$B61=0,\"\",Résumé!$H61)","v":""},{"$f":"IF(Résumé!$B61=0,\"\",Résumé!$I61)","v":""},{"$f":"IF(Résumé!$B61=0,\"\",$E62-$D62)","v":""},{"$f":"IF(Résumé!$B61=0,\"\",Résumé!$K61)","v":""},{"$f":"IF(Résumé!$B61=0,\"\",Résumé!$L61)","v":""},{"$f":"IF(Résumé!$B61=0,\"\",Résumé!$M61)","v":""},{"$f":"IF(Résumé!$B61=0,\"\",Résumé!$N61)","v":""},{"$f":"IF(Résumé!$B61=0,\"\",Résumé!$O61)","v":""},{"$f":"IF(Résumé!$B61=0,\"\",Résumé!$P61)","v":""},{"$f":"IF(Résumé!$B61=0,\"\",Résumé!$Q61)","v":""},{"$f":"IF(Résumé!$B61=0,\"\",Résumé!$R61)","v":""},{"$f":"IF(Résumé!$B61=0,\"\",Résumé!G61)","v":""}]
[null,{"$f":"IF(Résumé!$B62=1,Résumé!$D62,\"\")","v":""},{"$f":"IF(Résumé!$B62=1,AMOUNT!$B73,\"\")","v":""},{"$f":"IF(Résumé!$B62=0,\"\",Résumé!$H62)","v":""},{"$f":"IF(Résumé!$B62=0,\"\",Résumé!$I62)","v":""},{"$f":"IF(Résumé!$B62=0,\"\",$E63-$D63)","v":""},{"$f":"IF(Résumé!$B62=0,\"\",Résumé!$K62)","v":""},{"$f":"IF(Résumé!$B62=0,\"\",Résumé!$L62)","v":""},{"$f":"IF(Résumé!$B62=0,\"\",Résumé!$M62)","v":""},{"$f":"IF(Résumé!$B62=0,\"\",Résumé!$N62)","v":""},{"$f":"IF(Résumé!$B62=0,\"\",Résumé!$O62)","v":""},{"$f":"IF(Résumé!$B62=0,\"\",Résumé!$P62)","v":""},{"$f":"IF(Résumé!$B62=0,\"\",Résumé!$Q62)","v":""},{"$f":"IF(Résumé!$B62=0,\"\",Résumé!$R62)","v":""},{"$f":"IF(Résumé!$B62=0,\"\",Résumé!G62)","v":""}]
[null,{"$f":"IF(Résumé!$B63=1,Résumé!$D63,\"\")","v":""},{"$f":"IF(Résumé!$B63=1,AMOUNT!$B74,\"\")","v":""},{"$f":"IF(Résumé!$B63=0,\"\",Résumé!$H63)","v":""},{"$f":"IF(Résumé!$B63=0,\"\",Résumé!$I63)","v":""},{"$f":"IF(Résumé!$B63=0,\"\",$E64-$D64)","v":""},{"$f":"IF(Résumé!$B63=0,\"\",Résumé!$K63)","v":""},{"$f":"IF(Résumé!$B63=0,\"\",Résumé!$L63)","v":""},{"$f":"IF(Résumé!$B63=0,\"\",Résumé!$M63)","v":""},{"$f":"IF(Résumé!$B63=0,\"\",Résumé!$N63)","v":""},{"$f":"IF(Résumé!$B63=0,\"\",Résumé!$O63)","v":""},{"$f":"IF(Résumé!$B63=0,\"\",Résumé!$P63)","v":""},{"$f":"IF(Résumé!$B63=0,\"\",Résumé!$Q63)","v":""},{"$f":"IF(Résumé!$B63=0,\"\",Résumé!$R63)","v":""},{"$f":"IF(Résumé!$B63=0,\"\",Résumé!G63)","v":""}]
[null,{"$f":"IF(Résumé!$B64=1,Résumé!$D64,\"\")","v":""},{"$f":"IF(Résumé!$B64=1,AMOUNT!$B75,\"\")","v":""},{"$f":"IF(Résumé!$B64=0,\"\",Résumé!$H64)","v":""},{"$f":"IF(Résumé!$B64=0,\"\",Résumé!$I64)","v":""},{"$f":"IF(Résumé!$B64=0,\"\",$E65-$D65)","v":""},{"$f":"IF(Résumé!$B64=0,\"\",Résumé!$K64)","v":""},{"$f":"IF(Résumé!$B64=0,\"\",Résumé!$L64)","v":""},{"$f":"IF(Résumé!$B64=0,\"\",Résumé!$M64)","v":""},{"$f":"IF(Résumé!$B64=0,\"\",Résumé!$N64)","v":""},{"$f":"IF(Résumé!$B64=0,\"\",Résumé!$O64)","v":""},{"$f":"IF(Résumé!$B64=0,\"\",Résumé!$P64)","v":""},{"$f":"IF(Résumé!$B64=0,\"\",Résumé!$Q64)","v":""},{"$f":"IF(Résumé!$B64=0,\"\",Résumé!$R64)","v":""},{"$f":"IF(Résumé!$B64=0,\"\",Résumé!G64)","v":""}]
[null,{"$f":"IF(Résumé!$B65=1,Résumé!$D65,\"\")","v":""},{"$f":"IF(Résumé!$B65=1,AMOUNT!$B76,\"\")","v":""},{"$f":"IF(Résumé!$B65=0,\"\",Résumé!$H65)","v":""},{"$f":"IF(Résumé!$B65=0,\"\",Résumé!$I65)","v":""},{"$f":"IF(Résumé!$B65=0,\"\",$E66-$D66)","v":""},{"$f":"IF(Résumé!$B65=0,\"\",Résumé!$K65)","v":""},{"$f":"IF(Résumé!$B65=0,\"\",Résumé!$L65)","v":""},{"$f":"IF(Résumé!$B65=0,\"\",Résumé!$M65)","v":""},{"$f":"IF(Résumé!$B65=0,\"\",Résumé!$N65)","v":""},{"$f":"IF(Résumé!$B65=0,\"\",Résumé!$O65)","v":""},{"$f":"IF(Résumé!$B65=0,\"\",Résumé!$P65)","v":""},{"$f":"IF(Résumé!$B65=0,\"\",Résumé!$Q65)","v":""},{"$f":"IF(Résumé!$B65=0,\"\",Résumé!$R65)","v":""},{"$f":"IF(Résumé!$B65=0,\"\",Résumé!G65)","v":""}]
[null,{"$f":"IF(Résumé!$B66=1,Résumé!$D66,\"\")","v":""},{"$f":"IF(Résumé!$B66=1,AMOUNT!$B77,\"\")","v":""},{"$f":"IF(Résumé!$B66=0,\"\",Résumé!$H66)","v":""},{"$f":"IF(Résumé!$B66=0,\"\",Résumé!$I66)","v":""},{"$f":"IF(Résumé!$B66=0,\"\",$E67-$D67)","v":""},{"$f":"IF(Résumé!$B66=0,\"\",Résumé!$K66)","v":""},{"$f":"IF(Résumé!$B66=0,\"\",Résumé!$L66)","v":""},{"$f":"IF(Résumé!$B66=0,\"\",Résumé!$M66)","v":""},{"$f":"IF(Résumé!$B66=0,\"\",Résumé!$N66)","v":""},{"$f":"IF(Résumé!$B66=0,\"\",Résumé!$O66)","v":""},{"$f":"IF(Résumé!$B66=0,\"\",Résumé!$P66)","v":""},{"$f":"IF(Résumé!$B66=0,\"\",Résumé!$Q66)","v":""},{"$f":"IF(Résumé!$B66=0,\"\",Résumé!$R66)","v":""},{"$f":"IF(Résumé!$B66=0,\"\",Résumé!G66)","v":""}]
[null,{"$f":"IF(Résumé!$B67=1,Résumé!$D67,\"\")","v":""},{"$f":"IF(Résumé!$B67=1,AMOUNT!$B78,\"\")","v":""},{"$f":"IF(Résumé!$B67=0,\"\",Résumé!$H67)","v":""},{"$f":"IF(Résumé!$B67=0,\"\",Résumé!$I67)","v":""},{"$f":"IF(Résumé!$B67=0,\"\",$E68-$D68)","v":""},{"$f":"IF(Résumé!$B67=0,\"\",Résumé!$K67)","v":""},{"$f":"IF(Résumé!$B67=0,\"\",Résumé!$L67)","v":""},{"$f":"IF(Résumé!$B67=0,\"\",Résumé!$M67)","v":""},{"$f":"IF(Résumé!$B67=0,\"\",Résumé!$N67)","v":""},{"$f":"IF(Résumé!$B67=0,\"\",Résumé!$O67)","v":""},{"$f":"IF(Résumé!$B67=0,\"\",Résumé!$P67)","v":""},{"$f":"IF(Résumé!$B67=0,\"\",Résumé!$Q67)","v":""},{"$f":"IF(Résumé!$B67=0,\"\",Résumé!$R67)","v":""},{"$f":"IF(Résumé!$B67=0,\"\",Résumé!G67)","v":""}]
[null,{"$f":"IF(Résumé!$B68=1,Résumé!$D68,\"\")","v":""},{"$f":"IF(Résumé!$B68=1,AMOUNT!$B79,\"\")","v":""},{"$f":"IF(Résumé!$B68=0,\"\",Résumé!$H68)","v":""},{"$f":"IF(Résumé!$B68=0,\"\",Résumé!$I68)","v":""},{"$f":"IF(Résumé!$B68=0,\"\",$E69-$D69)","v":""},{"$f":"IF(Résumé!$B68=0,\"\",Résumé!$K68)","v":""},{"$f":"IF(Résumé!$B68=0,\"\",Résumé!$L68)","v":""},{"$f":"IF(Résumé!$B68=0,\"\",Résumé!$M68)","v":""},{"$f":"IF(Résumé!$B68=0,\"\",Résumé!$N68)","v":""},{"$f":"IF(Résumé!$B68=0,\"\",Résumé!$O68)","v":""},{"$f":"IF(Résumé!$B68=0,\"\",Résumé!$P68)","v":""},{"$f":"IF(Résumé!$B68=0,\"\",Résumé!$Q68)","v":""},{"$f":"IF(Résumé!$B68=0,\"\",Résumé!$R68)","v":""},{"$f":"IF(Résumé!$B68=0,\"\",Résumé!G68)","v":""}]
[null,{"$f":"IF(Résumé!$B69=1,Résumé!$D69,\"\")","v":""},{"$f":"IF(Résumé!$B69=1,AMOUNT!$B80,\"\")","v":""},{"$f":"IF(Résumé!$B69=0,\"\",Résumé!$H69)","v":""},{"$f":"IF(Résumé!$B69=0,\"\",Résumé!$I69)","v":""},{"$f":"IF(Résumé!$B69=0,\"\",$E70-$D70)","v":""},{"$f":"IF(Résumé!$B69=0,\"\",Résumé!$K69)","v":""},{"$f":"IF(Résumé!$B69=0,\"\",Résumé!$L69)","v":""},{"$f":"IF(Résumé!$B69=0,\"\",Résumé!$M69)","v":""},{"$f":"IF(Résumé!$B69=0,\"\",Résumé!$N69)","v":""},{"$f":"IF(Résumé!$B69=0,\"\",Résumé!$O69)","v":""},{"$f":"IF(Résumé!$B69=0,\"\",Résumé!$P69)","v":""},{"$f":"IF(Résumé!$B69=0,\"\",Résumé!$Q69)","v":""},{"$f":"IF(Résumé!$B69=0,\"\",Résumé!$R69)","v":""},{"$f":"IF(Résumé!$B69=0,\"\",Résumé!G69)","v":""}]
[null,{"$f":"IF(Résumé!$B70=1,Résumé!$D70,\"\")","v":""},{"$f":"IF(Résumé!$B70=1,AMOUNT!$B81,\"\")","v":""},{"$f":"IF(Résumé!$B70=0,\"\",Résumé!$H70)","v":""},{"$f":"IF(Résumé!$B70=0,\"\",Résumé!$I70)","v":""},{"$f":"IF(Résumé!$B70=0,\"\",$E71-$D71)","v":""},{"$f":"IF(Résumé!$B70=0,\"\",Résumé!$K70)","v":""},{"$f":"IF(Résumé!$B70=0,\"\",Résumé!$L70)","v":""},{"$f":"IF(Résumé!$B70=0,\"\",Résumé!$M70)","v":""},{"$f":"IF(Résumé!$B70=0,\"\",Résumé!$N70)","v":""},{"$f":"IF(Résumé!$B70=0,\"\",Résumé!$O70)","v":""},{"$f":"IF(Résumé!$B70=0,\"\",Résumé!$P70)","v":""},{"$f":"IF(Résumé!$B70=0,\"\",Résumé!$Q70)","v":""},{"$f":"IF(Résumé!$B70=0,\"\",Résumé!$R70)","v":""},{"$f":"IF(Résumé!$B70=0,\"\",Résumé!G70)","v":""}]
[null,{"$f":"IF(Résumé!$B71=1,Résumé!$D71,\"\")","v":""},{"$f":"IF(Résumé!$B71=1,AMOUNT!$B82,\"\")","v":""},{"$f":"IF(Résumé!$B71=0,\"\",Résumé!$H71)","v":""},{"$f":"IF(Résumé!$B71=0,\"\",Résumé!$I71)","v":""},{"$f":"IF(Résumé!$B71=0,\"\",$E72-$D72)","v":""},{"$f":"IF(Résumé!$B71=0,\"\",Résumé!$K71)","v":""},{"$f":"IF(Résumé!$B71=0,\"\",Résumé!$L71)","v":""},{"$f":"IF(Résumé!$B71=0,\"\",Résumé!$M71)","v":""},{"$f":"IF(Résumé!$B71=0,\"\",Résumé!$N71)","v":""},{"$f":"IF(Résumé!$B71=0,\"\",Résumé!$O71)","v":""},{"$f":"IF(Résumé!$B71=0,\"\",Résumé!$P71)","v":""},{"$f":"IF(Résumé!$B71=0,\"\",Résumé!$Q71)","v":""},{"$f":"IF(Résumé!$B71=0,\"\",Résumé!$R71)","v":""},{"$f":"IF(Résumé!$B71=0,\"\",Résumé!G71)","v":""}]
[null,{"$f":"IF(Résumé!$B72=1,Résumé!$D72,\"\")","v":""},{"$f":"IF(Résumé!$B72=1,AMOUNT!$B83,\"\")","v":""},{"$f":"IF(Résumé!$B72=0,\"\",Résumé!$H72)","v":""},{"$f":"IF(Résumé!$B72=0,\"\",Résumé!$I72)","v":""},{"$f":"IF(Résumé!$B72=0,\"\",$E73-$D73)","v":""},{"$f":"IF(Résumé!$B72=0,\"\",Résumé!$K72)","v":""},{"$f":"IF(Résumé!$B72=0,\"\",Résumé!$L72)","v":""},{"$f":"IF(Résumé!$B72=0,\"\",Résumé!$M72)","v":""},{"$f":"IF(Résumé!$B72=0,\"\",Résumé!$N72)","v":""},{"$f":"IF(Résumé!$B72=0,\"\",Résumé!$O72)","v":""},{"$f":"IF(Résumé!$B72=0,\"\",Résumé!$P72)","v":""},{"$f":"IF(Résumé!$B72=0,\"\",Résumé!$Q72)","v":""},{"$f":"IF(Résumé!$B72=0,\"\",Résumé!$R72)","v":""},{"$f":"IF(Résumé!$B72=0,\"\",Résumé!G72)","v":""}]
[null,{"$f":"IF(Résumé!$B73=1,Résumé!$D73,\"\")","v":""},{"$f":"IF(Résumé!$B73=1,AMOUNT!$B84,\"\")","v":""},{"$f":"IF(Résumé!$B73=0,\"\",Résumé!$H73)","v":""},{"$f":"IF(Résumé!$B73=0,\"\",Résumé!$I73)","v":""},{"$f":"IF(Résumé!$B73=0,\"\",$E74-$D74)","v":""},{"$f":"IF(Résumé!$B73=0,\"\",Résumé!$K73)","v":""},{"$f":"IF(Résumé!$B73=0,\"\",Résumé!$L73)","v":""},{"$f":"IF(Résumé!$B73=0,\"\",Résumé!$M73)","v":""},{"$f":"IF(Résumé!$B73=0,\"\",Résumé!$N73)","v":""},{"$f":"IF(Résumé!$B73=0,\"\",Résumé!$O73)","v":""},{"$f":"IF(Résumé!$B73=0,\"\",Résumé!$P73)","v":""},{"$f":"IF(Résumé!$B73=0,\"\",Résumé!$Q73)","v":""},{"$f":"IF(Résumé!$B73=0,\"\",Résumé!$R73)","v":""},{"$f":"IF(Résumé!$B73=0,\"\",Résumé!G73)","v":""}]
[null,{"$f":"IF(Résumé!$B74=1,Résumé!$D74,\"\")","v":""},{"$f":"IF(Résumé!$B74=1,AMOUNT!$B85,\"\")","v":""},{"$f":"IF(Résumé!$B74=0,\"\",Résumé!$H74)","v":""},{"$f":"IF(Résumé!$B74=0,\"\",Résumé!$I74)","v":""},{"$f":"IF(Résumé!$B74=0,\"\",$E75-$D75)","v":""},{"$f":"IF(Résumé!$B74=0,\"\",Résumé!$K74)","v":""},{"$f":"IF(Résumé!$B74=0,\"\",Résumé!$L74)","v":""},{"$f":"IF(Résumé!$B74=0,\"\",Résumé!$M74)","v":""},{"$f":"IF(Résumé!$B74=0,\"\",Résumé!$N74)","v":""},{"$f":"IF(Résumé!$B74=0,\"\",Résumé!$O74)","v":""},{"$f":"IF(Résumé!$B74=0,\"\",Résumé!$P74)","v":""},{"$f":"IF(Résumé!$B74=0,\"\",Résumé!$Q74)","v":""},{"$f":"IF(Résumé!$B74=0,\"\",Résumé!$R74)","v":""},{"$f":"IF(Résumé!$B74=0,\"\",Résumé!G74)","v":""}]
[null,{"$f":"IF(Résumé!$B75=1,Résumé!$D75,\"\")","v":""},{"$f":"IF(Résumé!$B75=1,AMOUNT!$B86,\"\")","v":""},{"$f":"IF(Résumé!$B75=0,\"\",Résumé!$H75)","v":""},{"$f":"IF(Résumé!$B75=0,\"\",Résumé!$I75)","v":""},{"$f":"IF(Résumé!$B75=0,\"\",$E76-$D76)","v":""},{"$f":"IF(Résumé!$B75=0,\"\",Résumé!$K75)","v":""},{"$f":"IF(Résumé!$B75=0,\"\",Résumé!$L75)","v":""},{"$f":"IF(Résumé!$B75=0,\"\",Résumé!$M75)","v":""},{"$f":"IF(Résumé!$B75=0,\"\",Résumé!$N75)","v":""},{"$f":"IF(Résumé!$B75=0,\"\",Résumé!$O75)","v":""},{"$f":"IF(Résumé!$B75=0,\"\",Résumé!$P75)","v":""},{"$f":"IF(Résumé!$B75=0,\"\",Résumé!$Q75)","v":""},{"$f":"IF(Résumé!$B75=0,\"\",Résumé!$R75)","v":""},{"$f":"IF(Résumé!$B75=0,\"\",Résumé!G75)","v":""}]
[null,{"$f":"IF(Résumé!$B76=1,Résumé!$D76,\"\")","v":""},{"$f":"IF(Résumé!$B76=1,AMOUNT!$B87,\"\")","v":""},{"$f":"IF(Résumé!$B76=0,\"\",Résumé!$H76)","v":""},{"$f":"IF(Résumé!$B76=0,\"\",Résumé!$I76)","v":""},{"$f":"IF(Résumé!$B76=0,\"\",$E77-$D77)","v":""},{"$f":"IF(Résumé!$B76=0,\"\",Résumé!$K76)","v":""},{"$f":"IF(Résumé!$B76=0,\"\",Résumé!$L76)","v":""},{"$f":"IF(Résumé!$B76=0,\"\",Résumé!$M76)","v":""},{"$f":"IF(Résumé!$B76=0,\"\",Résumé!$N76)","v":""},{"$f":"IF(Résumé!$B76=0,\"\",Résumé!$O76)","v":""},{"$f":"IF(Résumé!$B76=0,\"\",Résumé!$P76)","v":""},{"$f":"IF(Résumé!$B76=0,\"\",Résumé!$Q76)","v":""},{"$f":"IF(Résumé!$B76=0,\"\",Résumé!$R76)","v":""},{"$f":"IF(Résumé!$B76=0,\"\",Résumé!G76)","v":""}]
[null,{"$f":"IF(Résumé!$B77=1,Résumé!$D77,\"\")","v":""},{"$f":"IF(Résumé!$B77=1,AMOUNT!$B88,\"\")","v":""},{"$f":"IF(Résumé!$B77=0,\"\",Résumé!$H77)","v":""},{"$f":"IF(Résumé!$B77=0,\"\",Résumé!$I77)","v":""},{"$f":"IF(Résumé!$B77=0,\"\",$E78-$D78)","v":""},{"$f":"IF(Résumé!$B77=0,\"\",Résumé!$K77)","v":""},{"$f":"IF(Résumé!$B77=0,\"\",Résumé!$L77)","v":""},{"$f":"IF(Résumé!$B77=0,\"\",Résumé!$M77)","v":""},{"$f":"IF(Résumé!$B77=0,\"\",Résumé!$N77)","v":""},{"$f":"IF(Résumé!$B77=0,\"\",Résumé!$O77)","v":""},{"$f":"IF(Résumé!$B77=0,\"\",Résumé!$P77)","v":""},{"$f":"IF(Résumé!$B77=0,\"\",Résumé!$Q77)","v":""},{"$f":"IF(Résumé!$B77=0,\"\",Résumé!$R77)","v":""},{"$f":"IF(Résumé!$B77=0,\"\",Résumé!G77)","v":""}]
[null,{"$f":"IF(Résumé!$B78=1,Résumé!$D78,\"\")","v":""},{"$f":"IF(Résumé!$B78=1,AMOUNT!$B89,\"\")","v":""},{"$f":"IF(Résumé!$B78=0,\"\",Résumé!$H78)","v":""},{"$f":"IF(Résumé!$B78=0,\"\",Résumé!$I78)","v":""},{"$f":"IF(Résumé!$B78=0,\"\",$E79-$D79)","v":""},{"$f":"IF(Résumé!$B78=0,\"\",Résumé!$K78)","v":""},{"$f":"IF(Résumé!$B78=0,\"\",Résumé!$L78)","v":""},{"$f":"IF(Résumé!$B78=0,\"\",Résumé!$M78)","v":""},{"$f":"IF(Résumé!$B78=0,\"\",Résumé!$N78)","v":""},{"$f":"IF(Résumé!$B78=0,\"\",Résumé!$O78)","v":""},{"$f":"IF(Résumé!$B78=0,\"\",Résumé!$P78)","v":""},{"$f":"IF(Résumé!$B78=0,\"\",Résumé!$Q78)","v":""},{"$f":"IF(Résumé!$B78=0,\"\",Résumé!$R78)","v":""},{"$f":"IF(Résumé!$B78=0,\"\",Résumé!G78)","v":""}]
[null,{"$f":"IF(Résumé!$B79=1,Résumé!$D79,\"\")","v":""},{"$f":"IF(Résumé!$B79=1,AMOUNT!$B90,\"\")","v":""},{"$f":"IF(Résumé!$B79=0,\"\",Résumé!$H79)","v":""},{"$f":"IF(Résumé!$B79=0,\"\",Résumé!$I79)","v":""},{"$f":"IF(Résumé!$B79=0,\"\",$E80-$D80)","v":""},{"$f":"IF(Résumé!$B79=0,\"\",Résumé!$K79)","v":""},{"$f":"IF(Résumé!$B79=0,\"\",Résumé!$L79)","v":""},{"$f":"IF(Résumé!$B79=0,\"\",Résumé!$M79)","v":""},{"$f":"IF(Résumé!$B79=0,\"\",Résumé!$N79)","v":""},{"$f":"IF(Résumé!$B79=0,\"\",Résumé!$O79)","v":""},{"$f":"IF(Résumé!$B79=0,\"\",Résumé!$P79)","v":""},{"$f":"IF(Résumé!$B79=0,\"\",Résumé!$Q79)","v":""},{"$f":"IF(Résumé!$B79=0,\"\",Résumé!$R79)","v":""},{"$f":"IF(Résumé!$B79=0,\"\",Résumé!G79)","v":""}]
[null,{"$f":"IF(Résumé!$B80=1,Résumé!$D80,\"\")","v":""},{"$f":"IF(Résumé!$B80=1,AMOUNT!$B91,\"\")","v":""},{"$f":"IF(Résumé!$B80=0,\"\",Résumé!$H80)","v":""},{"$f":"IF(Résumé!$B80=0,\"\",Résumé!$I80)","v":""},{"$f":"IF(Résumé!$B80=0,\"\",$E81-$D81)","v":""},{"$f":"IF(Résumé!$B80=0,\"\",Résumé!$K80)","v":""},{"$f":"IF(Résumé!$B80=0,\"\",Résumé!$L80)","v":""},{"$f":"IF(Résumé!$B80=0,\"\",Résumé!$M80)","v":""},{"$f":"IF(Résumé!$B80=0,\"\",Résumé!$N80)","v":""},{"$f":"IF(Résumé!$B80=0,\"\",Résumé!$O80)","v":""},{"$f":"IF(Résumé!$B80=0,\"\",Résumé!$P80)","v":""},{"$f":"IF(Résumé!$B80=0,\"\",Résumé!$Q80)","v":""},{"$f":"IF(Résumé!$B80=0,\"\",Résumé!$R80)","v":""},{"$f":"IF(Résumé!$B80=0,\"\",Résumé!G80)","v":""}]
[null,{"$f":"IF(Résumé!$B81=1,Résumé!$D81,\"\")","v":""},{"$f":"IF(Résumé!$B81=1,AMOUNT!$B92,\"\")","v":""},{"$f":"IF(Résumé!$B81=0,\"\",Résumé!$H81)","v":""},{"$f":"IF(Résumé!$B81=0,\"\",Résumé!$I81)","v":""},{"$f":"IF(Résumé!$B81=0,\"\",$E82-$D82)","v":""},{"$f":"IF(Résumé!$B81=0,\"\",Résumé!$K81)","v":""},{"$f":"IF(Résumé!$B81=0,\"\",Résumé!$L81)","v":""},{"$f":"IF(Résumé!$B81=0,\"\",Résumé!$M81)","v":""},{"$f":"IF(Résumé!$B81=0,\"\",Résumé!$N81)","v":""},{"$f":"IF(Résumé!$B81=0,\"\",Résumé!$O81)","v":""},{"$f":"IF(Résumé!$B81=0,\"\",Résumé!$P81)","v":""},{"$f":"IF(Résumé!$B81=0,\"\",Résumé!$Q81)","v":""},{"$f":"IF(Résumé!$B81=0,\"\",Résumé!$R81)","v":""},{"$f":"IF(Résumé!$B81=0,\"\",Résumé!G81)","v":""}]
[null,{"$f":"IF(Résumé!$B82=1,Résumé!$D82,\"\")","v":""},{"$f":"IF(Résumé!$B82=1,AMOUNT!$B93,\"\")","v":""},{"$f":"IF(Résumé!$B82=0,\"\",Résumé!$H82)","v":""},{"$f":"IF(Résumé!$B82=0,\"\",Résumé!$I82)","v":""},{"$f":"IF(Résumé!$B82=0,\"\",$E83-$D83)","v":""},{"$f":"IF(Résumé!$B82=0,\"\",Résumé!$K82)","v":""},{"$f":"IF(Résumé!$B82=0,\"\",Résumé!$L82)","v":""},{"$f":"IF(Résumé!$B82=0,\"\",Résumé!$M82)","v":""},{"$f":"IF(Résumé!$B82=0,\"\",Résumé!$N82)","v":""},{"$f":"IF(Résumé!$B82=0,\"\",Résumé!$O82)","v":""},{"$f":"IF(Résumé!$B82=0,\"\",Résumé!$P82)","v":""},{"$f":"IF(Résumé!$B82=0,\"\",Résumé!$Q82)","v":""},{"$f":"IF(Résumé!$B82=0,\"\",Résumé!$R82)","v":""},{"$f":"IF(Résumé!$B82=0,\"\",Résumé!G82)","v":""}]
[null,{"$f":"IF(Résumé!$B83=1,Résumé!$D83,\"\")","v":""},{"$f":"IF(Résumé!$B83=1,AMOUNT!$B94,\"\")","v":""},{"$f":"IF(Résumé!$B83=0,\"\",Résumé!$H83)","v":""},{"$f":"IF(Résumé!$B83=0,\"\",Résumé!$I83)","v":""},{"$f":"IF(Résumé!$B83=0,\"\",$E84-$D84)","v":""},{"$f":"IF(Résumé!$B83=0,\"\",Résumé!$K83)","v":""},{"$f":"IF(Résumé!$B83=0,\"\",Résumé!$L83)","v":""},{"$f":"IF(Résumé!$B83=0,\"\",Résumé!$M83)","v":""},{"$f":"IF(Résumé!$B83=0,\"\",Résumé!$N83)","v":""},{"$f":"IF(Résumé!$B83=0,\"\",Résumé!$O83)","v":""},{"$f":"IF(Résumé!$B83=0,\"\",Résumé!$P83)","v":""},{"$f":"IF(Résumé!$B83=0,\"\",Résumé!$Q83)","v":""},{"$f":"IF(Résumé!$B83=0,\"\",Résumé!$R83)","v":""},{"$f":"IF(Résumé!$B83=0,\"\",Résumé!G83)","v":""}]
[null,{"$f":"IF(Résumé!$B84=1,Résumé!$D84,\"\")","v":""},{"$f":"IF(Résumé!$B84=1,AMOUNT!$B95,\"\")","v":""},{"$f":"IF(Résumé!$B84=0,\"\",Résumé!$H84)","v":""},{"$f":"IF(Résumé!$B84=0,\"\",Résumé!$I84)","v":""},{"$f":"IF(Résumé!$B84=0,\"\",$E85-$D85)","v":""},{"$f":"IF(Résumé!$B84=0,\"\",Résumé!$K84)","v":""},{"$f":"IF(Résumé!$B84=0,\"\",Résumé!$L84)","v":""},{"$f":"IF(Résumé!$B84=0,\"\",Résumé!$M84)","v":""},{"$f":"IF(Résumé!$B84=0,\"\",Résumé!$N84)","v":""},{"$f":"IF(Résumé!$B84=0,\"\",Résumé!$O84)","v":""},{"$f":"IF(Résumé!$B84=0,\"\",Résumé!$P84)","v":""},{"$f":"IF(Résumé!$B84=0,\"\",Résumé!$Q84)","v":""},{"$f":"IF(Résumé!$B84=0,\"\",Résumé!$R84)","v":""},{"$f":"IF(Résumé!$B84=0,\"\",Résumé!G84)","v":""}]
[null,{"$f":"IF(Résumé!$B85=1,Résumé!$D85,\"\")","v":""},{"$f":"IF(Résumé!$B85=1,AMOUNT!$B96,\"\")","v":""},{"$f":"IF(Résumé!$B85=0,\"\",Résumé!$H85)","v":""},{"$f":"IF(Résumé!$B85=0,\"\",Résumé!$I85)","v":""},{"$f":"IF(Résumé!$B85=0,\"\",$E86-$D86)","v":""},{"$f":"IF(Résumé!$B85=0,\"\",Résumé!$K85)","v":""},{"$f":"IF(Résumé!$B85=0,\"\",Résumé!$L85)","v":""},{"$f":"IF(Résumé!$B85=0,\"\",Résumé!$M85)","v":""},{"$f":"IF(Résumé!$B85=0,\"\",Résumé!$N85)","v":""},{"$f":"IF(Résumé!$B85=0,\"\",Résumé!$O85)","v":""},{"$f":"IF(Résumé!$B85=0,\"\",Résumé!$P85)","v":""},{"$f":"IF(Résumé!$B85=0,\"\",Résumé!$Q85)","v":""},{"$f":"IF(Résumé!$B85=0,\"\",Résumé!$R85)","v":""},{"$f":"IF(Résumé!$B85=0,\"\",Résumé!G85)","v":""}]
[null,{"$f":"IF(Résumé!$B86=1,Résumé!$D86,\"\")","v":""},{"$f":"IF(Résumé!$B86=1,AMOUNT!$B97,\"\")","v":""},{"$f":"IF(Résumé!$B86=0,\"\",Résumé!$H86)","v":""},{"$f":"IF(Résumé!$B86=0,\"\",Résumé!$I86)","v":""},{"$f":"IF(Résumé!$B86=0,\"\",$E87-$D87)","v":""},{"$f":"IF(Résumé!$B86=0,\"\",Résumé!$K86)","v":""},{"$f":"IF(Résumé!$B86=0,\"\",Résumé!$L86)","v":""},{"$f":"IF(Résumé!$B86=0,\"\",Résumé!$M86)","v":""},{"$f":"IF(Résumé!$B86=0,\"\",Résumé!$N86)","v":""},{"$f":"IF(Résumé!$B86=0,\"\",Résumé!$O86)","v":""},{"$f":"IF(Résumé!$B86=0,\"\",Résumé!$P86)","v":""},{"$f":"IF(Résumé!$B86=0,\"\",Résumé!$Q86)","v":""},{"$f":"IF(Résumé!$B86=0,\"\",Résumé!$R86)","v":""},{"$f":"IF(Résumé!$B86=0,\"\",Résumé!G86)","v":""}]
[null,{"$f":"IF(Résumé!$B87=1,Résumé!$D87,\"\")","v":""},{"$f":"IF(Résumé!$B87=1,AMOUNT!$B98,\"\")","v":""},{"$f":"IF(Résumé!$B87=0,\"\",Résumé!$H87)","v":""},{"$f":"IF(Résumé!$B87=0,\"\",Résumé!$I87)","v":""},{"$f":"IF(Résumé!$B87=0,\"\",$E88-$D88)","v":""},{"$f":"IF(Résumé!$B87=0,\"\",Résumé!$K87)","v":""},{"$f":"IF(Résumé!$B87=0,\"\",Résumé!$L87)","v":""},{"$f":"IF(Résumé!$B87=0,\"\",Résumé!$M87)","v":""},{"$f":"IF(Résumé!$B87=0,\"\",Résumé!$N87)","v":""},{"$f":"IF(Résumé!$B87=0,\"\",Résumé!$O87)","v":""},{"$f":"IF(Résumé!$B87=0,\"\",Résumé!$P87)","v":""},{"$f":"IF(Résumé!$B87=0,\"\",Résumé!$Q87)","v":""},{"$f":"IF(Résumé!$B87=0,\"\",Résumé!$R87)","v":""},{"$f":"IF(Résumé!$B87=0,\"\",Résumé!G87)","v":""}]
[null,{"$f":"IF(Résumé!$B88=1,Résumé!$D88,\"\")","v":""},{"$f":"IF(Résumé!$B88=1,AMOUNT!$B99,\"\")","v":""},{"$f":"IF(Résumé!$B88=0,\"\",Résumé!$H88)","v":""},{"$f":"IF(Résumé!$B88=0,\"\",Résumé!$I88)","v":""},{"$f":"IF(Résumé!$B88=0,\"\",$E89-$D89)","v":""},{"$f":"IF(Résumé!$B88=0,\"\",Résumé!$K88)","v":""},{"$f":"IF(Résumé!$B88=0,\"\",Résumé!$L88)","v":""},{"$f":"IF(Résumé!$B88=0,\"\",Résumé!$M88)","v":""},{"$f":"IF(Résumé!$B88=0,\"\",Résumé!$N88)","v":""},{"$f":"IF(Résumé!$B88=0,\"\",Résumé!$O88)","v":""},{"$f":"IF(Résumé!$B88=0,\"\",Résumé!$P88)","v":""},{"$f":"IF(Résumé!$B88=0,\"\",Résumé!$Q88)","v":""},{"$f":"IF(Résumé!$B88=0,\"\",Résumé!$R88)","v":""},{"$f":"IF(Résumé!$B88=0,\"\",Résumé!G88)","v":""}]
[null,{"$f":"IF(Résumé!$B89=1,Résumé!$D89,\"\")","v":""},{"$f":"IF(Résumé!$B89=1,AMOUNT!$B100,\"\")","v":""},{"$f":"IF(Résumé!$B89=0,\"\",Résumé!$H89)","v":""},{"$f":"IF(Résumé!$B89=0,\"\",Résumé!$I89)","v":""},{"$f":"IF(Résumé!$B89=0,\"\",$E90-$D90)","v":""},{"$f":"IF(Résumé!$B89=0,\"\",Résumé!$K89)","v":""},{"$f":"IF(Résumé!$B89=0,\"\",Résumé!$L89)","v":""},{"$f":"IF(Résumé!$B89=0,\"\",Résumé!$M89)","v":""},{"$f":"IF(Résumé!$B89=0,\"\",Résumé!$N89)","v":""},{"$f":"IF(Résumé!$B89=0,\"\",Résumé!$O89)","v":""},{"$f":"IF(Résumé!$B89=0,\"\",Résumé!$P89)","v":""},{"$f":"IF(Résumé!$B89=0,\"\",Résumé!$Q89)","v":""},{"$f":"IF(Résumé!$B89=0,\"\",Résumé!$R89)","v":""},{"$f":"IF(Résumé!$B89=0,\"\",Résumé!G89)","v":""}]
[null,{"$f":"IF(Résumé!$B90=1,Résumé!$D90,\"\")","v":""},{"$f":"IF(Résumé!$B90=1,AMOUNT!$B101,\"\")","v":""},{"$f":"IF(Résumé!$B90=0,\"\",Résumé!$H90)","v":""},{"$f":"IF(Résumé!$B90=0,\"\",Résumé!$I90)","v":""},{"$f":"IF(Résumé!$B90=0,\"\",$E91-$D91)","v":""},{"$f":"IF(Résumé!$B90=0,\"\",Résumé!$K90)","v":""},{"$f":"IF(Résumé!$B90=0,\"\",Résumé!$L90)","v":""},{"$f":"IF(Résumé!$B90=0,\"\",Résumé!$M90)","v":""},{"$f":"IF(Résumé!$B90=0,\"\",Résumé!$N90)","v":""},{"$f":"IF(Résumé!$B90=0,\"\",Résumé!$O90)","v":""},{"$f":"IF(Résumé!$B90=0,\"\",Résumé!$P90)","v":""},{"$f":"IF(Résumé!$B90=0,\"\",Résumé!$Q90)","v":""},{"$f":"IF(Résumé!$B90=0,\"\",Résumé!$R90)","v":""},{"$f":"IF(Résumé!$B90=0,\"\",Résumé!G90)","v":""}]
[null,{"$f":"IF(Résumé!$B91=1,Résumé!$D91,\"\")","v":""},{"$f":"IF(Résumé!$B91=1,AMOUNT!$B102,\"\")","v":""},{"$f":"IF(Résumé!$B91=0,\"\",Résumé!$H91)","v":""},{"$f":"IF(Résumé!$B91=0,\"\",Résumé!$I91)","v":""},{"$f":"IF(Résumé!$B91=0,\"\",$E92-$D92)","v":""},{"$f":"IF(Résumé!$B91=0,\"\",Résumé!$K91)","v":""},{"$f":"IF(Résumé!$B91=0,\"\",Résumé!$L91)","v":""},{"$f":"IF(Résumé!$B91=0,\"\",Résumé!$M91)","v":""},{"$f":"IF(Résumé!$B91=0,\"\",Résumé!$N91)","v":""},{"$f":"IF(Résumé!$B91=0,\"\",Résumé!$O91)","v":""},{"$f":"IF(Résumé!$B91=0,\"\",Résumé!$P91)","v":""},{"$f":"IF(Résumé!$B91=0,\"\",Résumé!$Q91)","v":""},{"$f":"IF(Résumé!$B91=0,\"\",Résumé!$R91)","v":""},{"$f":"IF(Résumé!$B91=0,\"\",Résumé!G91)","v":""}]
[null,{"$f":"IF(Résumé!$B92=1,Résumé!$D92,\"\")","v":""},{"$f":"IF(Résumé!$B92=1,AMOUNT!$B103,\"\")","v":""},{"$f":"IF(Résumé!$B92=0,\"\",Résumé!$H92)","v":""},{"$f":"IF(Résumé!$B92=0,\"\",Résumé!$I92)","v":""},{"$f":"IF(Résumé!$B92=0,\"\",$E93-$D93)","v":""},{"$f":"IF(Résumé!$B92=0,\"\",Résumé!$K92)","v":""},{"$f":"IF(Résumé!$B92=0,\"\",Résumé!$L92)","v":""},{"$f":"IF(Résumé!$B92=0,\"\",Résumé!$M92)","v":""},{"$f":"IF(Résumé!$B92=0,\"\",Résumé!$N92)","v":""},{"$f":"IF(Résumé!$B92=0,\"\",Résumé!$O92)","v":""},{"$f":"IF(Résumé!$B92=0,\"\",Résumé!$P92)","v":""},{"$f":"IF(Résumé!$B92=0,\"\",Résumé!$Q92)","v":""},{"$f":"IF(Résumé!$B92=0,\"\",Résumé!$R92)","v":""},{"$f":"IF(Résumé!$B92=0,\"\",Résumé!G92)","v":""}]
[null,{"$f":"IF(Résumé!$B93=1,Résumé!$D93,\"\")","v":""},{"$f":"IF(Résumé!$B93=1,AMOUNT!$B104,\"\")","v":""},{"$f":"IF(Résumé!$B93=0,\"\",Résumé!$H93)","v":""},{"$f":"IF(Résumé!$B93=0,\"\",Résumé!$I93)","v":""},{"$f":"IF(Résumé!$B93=0,\"\",$E94-$D94)","v":""},{"$f":"IF(Résumé!$B93=0,\"\",Résumé!$K93)","v":""},{"$f":"IF(Résumé!$B93=0,\"\",Résumé!$L93)","v":""},{"$f":"IF(Résumé!$B93=0,\"\",Résumé!$M93)","v":""},{"$f":"IF(Résumé!$B93=0,\"\",Résumé!$N93)","v":""},{"$f":"IF(Résumé!$B93=0,\"\",Résumé!$O93)","v":""},{"$f":"IF(Résumé!$B93=0,\"\",Résumé!$P93)","v":""},{"$f":"IF(Résumé!$B93=0,\"\",Résumé!$Q93)","v":""},{"$f":"IF(Résumé!$B93=0,\"\",Résumé!$R93)","v":""},{"$f":"IF(Résumé!$B93=0,\"\",Résumé!G93)","v":""}]
[null,{"$f":"IF(Résumé!$B94=1,Résumé!$D94,\"\")","v":""},{"$f":"IF(Résumé!$B94=1,AMOUNT!$B105,\"\")","v":""},{"$f":"IF(Résumé!$B94=0,\"\",Résumé!$H94)","v":""},{"$f":"IF(Résumé!$B94=0,\"\",Résumé!$I94)","v":""},{"$f":"IF(Résumé!$B94=0,\"\",$E95-$D95)","v":""},{"$f":"IF(Résumé!$B94=0,\"\",Résumé!$K94)","v":""},{"$f":"IF(Résumé!$B94=0,\"\",Résumé!$L94)","v":""},{"$f":"IF(Résumé!$B94=0,\"\",Résumé!$M94)","v":""},{"$f":"IF(Résumé!$B94=0,\"\",Résumé!$N94)","v":""},{"$f":"IF(Résumé!$B94=0,\"\",Résumé!$O94)","v":""},{"$f":"IF(Résumé!$B94=0,\"\",Résumé!$P94)","v":""},{"$f":"IF(Résumé!$B94=0,\"\",Résumé!$Q94)","v":""},{"$f":"IF(Résumé!$B94=0,\"\",Résumé!$R94)","v":""},{"$f":"IF(Résumé!$B94=0,\"\",Résumé!G94)","v":""}]
[null,{"$f":"IF(Résumé!$B95=1,Résumé!$D95,\"\")","v":""},{"$f":"IF(Résumé!$B95=1,AMOUNT!$B106,\"\")","v":""},{"$f":"IF(Résumé!$B95=0,\"\",Résumé!$H95)","v":""},{"$f":"IF(Résumé!$B95=0,\"\",Résumé!$I95)","v":""},{"$f":"IF(Résumé!$B95=0,\"\",$E96-$D96)","v":""},{"$f":"IF(Résumé!$B95=0,\"\",Résumé!$K95)","v":""},{"$f":"IF(Résumé!$B95=0,\"\",Résumé!$L95)","v":""},{"$f":"IF(Résumé!$B95=0,\"\",Résumé!$M95)","v":""},{"$f":"IF(Résumé!$B95=0,\"\",Résumé!$N95)","v":""},{"$f":"IF(Résumé!$B95=0,\"\",Résumé!$O95)","v":""},{"$f":"IF(Résumé!$B95=0,\"\",Résumé!$P95)","v":""},{"$f":"IF(Résumé!$B95=0,\"\",Résumé!$Q95)","v":""},{"$f":"IF(Résumé!$B95=0,\"\",Résumé!$R95)","v":""},{"$f":"IF(Résumé!$B95=0,\"\",Résumé!G95)","v":""}]
[null,{"$f":"IF(Résumé!$B96=1,Résumé!$D96,\"\")","v":""},{"$f":"IF(Résumé!$B96=1,AMOUNT!$B107,\"\")","v":""},{"$f":"IF(Résumé!$B96=0,\"\",Résumé!$H96)","v":""},{"$f":"IF(Résumé!$B96=0,\"\",Résumé!$I96)","v":""},{"$f":"IF(Résumé!$B96=0,\"\",$E97-$D97)","v":""},{"$f":"IF(Résumé!$B96=0,\"\",Résumé!$K96)","v":""},{"$f":"IF(Résumé!$B96=0,\"\",Résumé!$L96)","v":""},{"$f":"IF(Résumé!$B96=0,\"\",Résumé!$M96)","v":""},{"$f":"IF(Résumé!$B96=0,\"\",Résumé!$N96)","v":""},{"$f":"IF(Résumé!$B96=0,\"\",Résumé!$O96)","v":""},{"$f":"IF(Résumé!$B96=0,\"\",Résumé!$P96)","v":""},{"$f":"IF(Résumé!$B96=0,\"\",Résumé!$Q96)","v":""},{"$f":"IF(Résumé!$B96=0,\"\",Résumé!$R96)","v":""},{"$f":"IF(Résumé!$B96=0,\"\",Résumé!G96)","v":""}]
[null,{"$f":"IF(Résumé!$B97=1,Résumé!$D97,\"\")","v":""},{"$f":"IF(Résumé!$B97=1,AMOUNT!$B108,\"\")","v":""},{"$f":"IF(Résumé!$B97=0,\"\",Résumé!$H97)","v":""},{"$f":"IF(Résumé!$B97=0,\"\",Résumé!$I97)","v":""},{"$f":"IF(Résumé!$B97=0,\"\",$E98-$D98)","v":""},{"$f":"IF(Résumé!$B97=0,\"\",Résumé!$K97)","v":""},{"$f":"IF(Résumé!$B97=0,\"\",Résumé!$L97)","v":""},{"$f":"IF(Résumé!$B97=0,\"\",Résumé!$M97)","v":""},{"$f":"IF(Résumé!$B97=0,\"\",Résumé!$N97)","v":""},{"$f":"IF(Résumé!$B97=0,\"\",Résumé!$O97)","v":""},{"$f":"IF(Résumé!$B97=0,\"\",Résumé!$P97)","v":""},{"$f":"IF(Résumé!$B97=0,\"\",Résumé!$Q97)","v":""},{"$f":"IF(Résumé!$B97=0,\"\",Résumé!$R97)","v":""},{"$f":"IF(Résumé!$B97=0,\"\",Résumé!G97)","v":""}]
[null,{"$f":"IF(Résumé!$B98=1,Résumé!$D98,\"\")","v":""},{"$f":"IF(Résumé!$B98=1,AMOUNT!$B109,\"\")","v":""},{"$f":"IF(Résumé!$B98=0,\"\",Résumé!$H98)","v":""},{"$f":"IF(Résumé!$B98=0,\"\",Résumé!$I98)","v":""},{"$f":"IF(Résumé!$B98=0,\"\",$E99-$D99)","v":""},{"$f":"IF(Résumé!$B98=0,\"\",Résumé!$K98)","v":""},{"$f":"IF(Résumé!$B98=0,\"\",Résumé!$L98)","v":""},{"$f":"IF(Résumé!$B98=0,\"\",Résumé!$M98)","v":""},{"$f":"IF(Résumé!$B98=0,\"\",Résumé!$N98)","v":""},{"$f":"IF(Résumé!$B98=0,\"\",Résumé!$O98)","v":""},{"$f":"IF(Résumé!$B98=0,\"\",Résumé!$P98)","v":""},{"$f":"IF(Résumé!$B98=0,\"\",Résumé!$Q98)","v":""},{"$f":"IF(Résumé!$B98=0,\"\",Résumé!$R98)","v":""},{"$f":"IF(Résumé!$B98=0,\"\",Résumé!G98)","v":""}]
[null,{"$f":"IF(Résumé!$B99=1,Résumé!$D99,\"\")","v":""},{"$f":"IF(Résumé!$B99=1,AMOUNT!$B110,\"\")","v":""},{"$f":"IF(Résumé!$B99=0,\"\",Résumé!$H99)","v":""},{"$f":"IF(Résumé!$B99=0,\"\",Résumé!$I99)","v":""},{"$f":"IF(Résumé!$B99=0,\"\",$E100-$D100)","v":""},{"$f":"IF(Résumé!$B99=0,\"\",Résumé!$K99)","v":""},{"$f":"IF(Résumé!$B99=0,\"\",Résumé!$L99)","v":""},{"$f":"IF(Résumé!$B99=0,\"\",Résumé!$M99)","v":""},{"$f":"IF(Résumé!$B99=0,\"\",Résumé!$N99)","v":""},{"$f":"IF(Résumé!$B99=0,\"\",Résumé!$O99)","v":""},{"$f":"IF(Résumé!$B99=0,\"\",Résumé!$P99)","v":""},{"$f":"IF(Résumé!$B99=0,\"\",Résumé!$Q99)","v":""},{"$f":"IF(Résumé!$B99=0,\"\",Résumé!$R99)","v":""},{"$f":"IF(Résumé!$B99=0,\"\",Résumé!G99)","v":""}]
[null,{"$f":"IF(Résumé!$B100=1,Résumé!$D100,\"\")","v":""},{"$f":"IF(Résumé!$B100=1,AMOUNT!$B111,\"\")","v":""},{"$f":"IF(Résumé!$B100=0,\"\",Résumé!$H100)","v":""},{"$f":"IF(Résumé!$B100=0,\"\",Résumé!$I100)","v":""},{"$f":"IF(Résumé!$B100=0,\"\",$E101-$D101)","v":""},{"$f":"IF(Résumé!$B100=0,\"\",Résumé!$K100)","v":""},{"$f":"IF(Résumé!$B100=0,\"\",Résumé!$L100)","v":""},{"$f":"IF(Résumé!$B100=0,\"\",Résumé!$M100)","v":""},{"$f":"IF(Résumé!$B100=0,\"\",Résumé!$N100)","v":""},{"$f":"IF(Résumé!$B100=0,\"\",Résumé!$O100)","v":""},{"$f":"IF(Résumé!$B100=0,\"\",Résumé!$P100)","v":""},{"$f":"IF(Résumé!$B100=0,\"\",Résumé!$Q100)","v":""},{"$f":"IF(Résumé!$B100=0,\"\",Résumé!$R100)","v":""},{"$f":"IF(Résumé!$B100=0,\"\",Résumé!G100)","v":""}]
[null,{"$f":"IF(Résumé!$B101=1,Résumé!$D101,\"\")","v":""},{"$f":"IF(Résumé!$B101=1,AMOUNT!$B112,\"\")","v":""},{"$f":"IF(Résumé!$B101=0,\"\",Résumé!$H101)","v":""},{"$f":"IF(Résumé!$B101=0,\"\",Résumé!$I101)","v":""},{"$f":"IF(Résumé!$B101=0,\"\",$E102-$D102)","v":""},{"$f":"IF(Résumé!$B101=0,\"\",Résumé!$K101)","v":""},{"$f":"IF(Résumé!$B101=0,\"\",Résumé!$L101)","v":""},{"$f":"IF(Résumé!$B101=0,\"\",Résumé!$M101)","v":""},{"$f":"IF(Résumé!$B101=0,\"\",Résumé!$N101)","v":""},{"$f":"IF(Résumé!$B101=0,\"\",Résumé!$O101)","v":""},{"$f":"IF(Résumé!$B101=0,\"\",Résumé!$P101)","v":""},{"$f":"IF(Résumé!$B101=0,\"\",Résumé!$Q101)","v":""},{"$f":"IF(Résumé!$B101=0,\"\",Résumé!$R101)","v":""},{"$f":"IF(Résumé!$B101=0,\"\",Résumé!G101)","v":""}]

{"sheet":"Lien Transport","index":5,"n_rows":102,"n_cols":21,"rows_kept":102,"cut":false,"hidden":true,"merged":[[0,6,0,12],[0,13,0,19]]}
[null,null,null,null,null,null,"ARRIVÉE",null,null,null,null,null,null,"DÉPART"]
[null,"Date Réception Fichier","Groupe/Pays","Personnes / Compléments d'infos","Hôtel\nCompetition","Besoin Transport","Date d'arrivée","N° Vol arrivée","Heure d'arrivée","Créneau Arrivée","Provenance","Destination","Besoin de transport","Date de départ","N° Vol départ","Heure de départ","Créneau Départ","Lieu de départ","Destination","Besoin de transport","Contact sur place"]
[null,null,{"$f":"IF(Résumé!$B2=1,Résumé!$D2,\"\")","v":""},{"$f":"IF(Résumé!$B2=1,Résumé!E2,\"\")","v":""},{"$f":"IF(Résumé!$B2=0,\"\",Résumé!$G2)","v":""},{"$f":"IF(Résumé!$B2=0,\"\",IF(FORM!$H33=\"No\",\"PAS DE TRANSPORT\",\"OK\"))","v":""},{"$f":"IF(Résumé!$B2=1,FORM!$I33,\"\")","v":""},{"$f":"IF(AND(Résumé!$B2=1,FORM!$N33=\"Yes\"),FORM!$J33,\"\")","v":""},{"$f":"IF(AND(Résumé!$B2=1,FORM!$N33=\"Yes\"),FORM!$K33,\"\")","v":""},{"$f":"IF(AND(Résumé!$B2=1,FORM!$N33=\"Yes\"),INT(I3/2*24)*2&\" - \"&INT(I3/2*24)*2+2&\" heures\",\"\")","v":""},{"$f":"IF(AND(Résumé!$B2=1,FORM!$N33=\"Yes\"),FORM!$L33,\"\")","v":""},{"$f":"IF(AND(Résumé!$B2=1,FORM!$N33=\"Yes\"),FORM!$M33,\"\")","v":""},{"$f":"IF(AND(Résumé!$B2=1,FORM!$N33=\"\"),\"\",IF(AND(Résumé!$B2=1,FORM!$N33>\"\"),FORM!$N33,\"\"))","v":""},{"$f":"IF(Résumé!$B2=1,FORM!$O33,\"\")","v":""},{"$f":"IF(AND(Résumé!$B2=1,FORM!$T33=\"Yes\"),FORM!$P33,\"\")","v":""},{"$f":"IF(AND(Résumé!$B2=1,FORM!$T33=\"Yes\"),FORM!$Q33,\"\")","v":""},{"$f":"IF(AND(Résumé!$B2=1,FORM!$T33=\"Yes\"),INT(P3/2*24)*2&\" - \"&INT(P3/2*24)*2+2&\" heures\",\"\")","v":""},{"$f":"IF(AND(Résumé!$B2=1,FORM!$T33=\"Yes\"),FORM!$R33,\"\")","v":""},{"$f":"IF(AND(Résumé!$B2=1,FORM!$T33=\"Yes\"),FORM!$S33,\"\")","v":""},{"$f":"IF(AND(Résumé!$B2=1,FORM!$T33=\"\"),\"\",IF(AND(Résumé!$B2=1,FORM!$T33>\"\"),FORM!$T33,\"\"))","v":""},{"$f":"IF(D3>\"0\",FORM!$I$24&\" \"&FORM!$J$24&\" \"&FORM!$M$24&\" - \"&FORM!$O$24,\"\")","v":""}]
[null,null,{"$f":"IF(Résumé!$B3=1,Résumé!$D3,\"\")","v":""},{"$f":"IF(Résumé!$B3=1,Résumé!E3,\"\")","v":""},{"$f":"IF(Résumé!$B3=0,\"\",Résumé!$G3)","v":""},{"$f":"IF(Résumé!$B3=0,\"\",IF(FORM!$H34=\"No\",\"PAS DE TRANSPORT\",\"OK\"))","v":""},{"$f":"IF(Résumé!$B3=1,FORM!$I34,\"\")","v":""},{"$f":"IF(Résumé!$B3=1,FORM!$J34,\"\")","v":""},{"$f":"IF(Résumé!$B3=1,FORM!$K34,\"\")","v":""},{"$f":"IF(Résumé!$B3=1,INT(I4/2*24)*2&\" - \"&INT(I4/2*24)*2+2&\" heures\",\"\")","v":""},{"$f":"IF(Résumé!$B3=1,FORM!$L34,\"\")","v":""},{"$f":"IF(Résumé!$B3=1,FORM!$M34,\"\")","v":""},{"$f":"IF(AND(Résumé!$B3=1,$F4=\"OK\"),FORM!$N34,\"\")","v":""},{"$f":"IF(Résumé!$B3=1,FORM!$O34,\"\")","v":""},{"$f":"IF(AND(Résumé!$B3=1,FORM!$T34=\"Yes\"),FORM!$P34,\"\")","v":""},{"$f":"IF(AND(Résumé!$B3=1,FORM!$T34=\"Yes\"),FORM!$Q34,\"\")","v":""},{"$f":"IF(AND(Résumé!$B3=1,FORM!$T34=\"Yes\"),INT(P4/2*24)*2&\" - \"&INT(P4/2*24)*2+2&\" heures\",\"\")","v":""},{"$f":"IF(AND(Résumé!$B3=1,FORM!$T34=\"Yes\"),FORM!$R34,\"\")","v":""},{"$f":"IF(AND(Résumé!$B3=1,FORM!$T34=\"Yes\"),FORM!$S34,\"\")","v":""},{"$f":"IF(AND(Résumé!$B3=1,FORM!$T34=\"\"),\"\",IF(AND(Résumé!$B3=1,FORM!$T34>\"\"),FORM!$T34,\"\"))","v":""},{"$f":"IF(D4>\"0\",FORM!$I$24&\" \"&FORM!$J$24&\" \"&FORM!$M$24&\" - \"&FORM!$O$24,\"\")","v":""}]
[null,null,{"$f":"IF(Résumé!$B4=1,Résumé!$D4,\"\")","v":""},{"$f":"IF(Résumé!$B4=1,Résumé!E4,\"\")","v":""},{"$f":"IF(Résumé!$B4=0,\"\",Résumé!$G4)","v":""},{"$f":"IF(Résumé!$B4=0,\"\",IF(FORM!$H35=\"No\",\"PAS DE TRANSPORT\",\"OK\"))","v":""},{"$f":"IF(Résumé!$B4=1,FORM!$I35,\"\")","v":""},{"$f":"IF(Résumé!$B4=1,FORM!$J35,\"\")","v":""},{"$f":"IF(Résumé!$B4=1,FORM!$K35,\"\")","v":""},{"$f":"IF(Résumé!$B4=1,INT(I5/2*24)*2&\" - \"&INT(I5/2*24)*2+2&\" heures\",\"\")","v":""},{"$f":"IF(Résumé!$B4=1,FORM!$L35,\"\")","v":""},{"$f":"IF(Résumé!$B4=1,FORM!$M35,\"\")","v":""},{"$f":"IF(AND(Résumé!$B4=1,$F5=\"OK\"),FORM!$N35,\"\")","v":""},{"$f":"IF(Résumé!$B4=1,FORM!$O35,\"\")","v":""},{"$f":"IF(AND(Résumé!$B4=1,FORM!$T35=\"Yes\"),FORM!$P35,\"\")","v":""},{"$f":"IF(AND(Résumé!$B4=1,FORM!$T35=\"Yes\"),FORM!$Q35,\"\")","v":""},{"$f":"IF(AND(Résumé!$B4=1,FORM!$T35=\"Yes\"),INT(P5/2*24)*2&\" - \"&INT(P5/2*24)*2+2&\" heures\",\"\")","v":""},{"$f":"IF(AND(Résumé!$B4=1,FORM!$T35=\"Yes\"),FORM!$R35,\"\")","v":""},{"$f":"IF(AND(Résumé!$B4=1,FORM!$T35=\"Yes\"),FORM!$S35,\"\")","v":""},{"$f":"IF(AND(Résumé!$B4=1,FORM!$T35=\"\"),\"\",IF(AND(Résumé!$B4=1,FORM!$T35>\"\"),FORM!$T35,\"\"))","v":""},{"$f":"IF(D5>\"0\",FORM!$I$24&\" \"&FORM!$J$24&\" \"&FORM!$M$24&\" - \"&FORM!$O$24,\"\")","v":""}]
[null,null,{"$f":"IF(Résumé!$B5=1,Résumé!$D5,\"\")","v":""},{"$f":"IF(Résumé!$B5=1,Résumé!E5,\"\")","v":""},{"$f":"IF(Résumé!$B5=0,\"\",Résumé!$G5)","v":""},{"$f":"IF(Résumé!$B5=0,\"\",IF(FORM!$H36=\"No\",\"PAS DE TRANSPORT\",\"OK\"))","v":""},{"$f":"IF(Résumé!$B5=1,FORM!$I36,\"\")","v":""},{"$f":"IF(Résumé!$B5=1,FORM!$J36,\"\")","v":""},{"$f":"IF(Résumé!$B5=1,FORM!$K36,\"\")","v":""},{"$f":"IF(Résumé!$B5=1,INT(I6/2*24)*2&\" - \"&INT(I6/2*24)*2+2&\" heures\",\"\")","v":""},{"$f":"IF(Résumé!$B5=1,FORM!$L36,\"\")","v":""},{"$f":"IF(Résumé!$B5=1,FORM!$M36,\"\")","v":""},{"$f":"IF(AND(Résumé!$B5=1,$F6=\"OK\"),FORM!$N36,\"\")","v":""},{"$f":"IF(Résumé!$B5=1,FORM!$O36,\"\")","v":""},{"$f":"IF(AND(Résumé!$B5=1,FORM!$T36=\"Yes\"),FORM!$P36,\"\")","v":""},{"$f":"IF(AND(Résumé!$B5=1,FORM!$T36=\"Yes\"),FORM!$Q36,\"\")","v":""},{"$f":"IF(AND(Résumé!$B5=1,FORM!$T36=\"Yes\"),INT(P6/2*24)*2&\" - \"&INT(P6/2*24)*2+2&\" heures\",\"\")","v":""},{"$f":"IF(AND(Résumé!$B5=1,FORM!$T36=\"Yes\"),FORM!$R36,\"\")","v":""},{"$f":"IF(AND(Résumé!$B5=1,FORM!$T36=\"Yes\"),FORM!$S36,\"\")","v":""},{"$f":"IF(AND(Résumé!$B5=1,FORM!$T36=\"\"),\"\",IF(AND(Résumé!$B5=1,FORM!$T36>\"\"),FORM!$T36,\"\"))","v":""},{"$f":"IF(D6>\"0\",FORM!$I$24&\" \"&FORM!$J$24&\" \"&FORM!$M$24&\" - \"&FORM!$O$24,\"\")","v":""}]
[null,null,{"$f":"IF(Résumé!$B6=1,Résumé!$D6,\"\")","v":""},{"$f":"IF(Résumé!$B6=1,Résumé!E6,\"\")","v":""},{"$f":"IF(Résumé!$B6=0,\"\",Résumé!$G6)","v":""},{"$f":"IF(Résumé!$B6=0,\"\",IF(FORM!$H37=\"No\",\"PAS DE TRANSPORT\",\"OK\"))","v":""},{"$f":"IF(Résumé!$B6=1,FORM!$I37,\"\")","v":""},{"$f":"IF(Résumé!$B6=1,FORM!$J37,\"\")","v":""},{"$f":"IF(Résumé!$B6=1,FORM!$K37,\"\")","v":""},{"$f":"IF(Résumé!$B6=1,INT(I7/2*24)*2&\" - \"&INT(I7/2*24)*2+2&\" heures\",\"\")","v":""},{"$f":"IF(Résumé!$B6=1,FORM!$L37,\"\")","v":""},{"$f":"IF(Résumé!$B6=1,FORM!$M37,\"\")","v":""},{"$f":"IF(AND(Résumé!$B6=1,$F7=\"OK\"),FORM!$N37,\"\")","v":""},{"$f":"IF(Résumé!$B6=1,FORM!$O37,\"\")","v":""},{"$f":"IF(AND(Résumé!$B6=1,FORM!$T37=\"Yes\"),FORM!$P37,\"\")","v":""},{"$f":"IF(AND(Résumé!$B6=1,FORM!$T37=\"Yes\"),FORM!$Q37,\"\")","v":""},{"$f":"IF(AND(Résumé!$B6=1,FORM!$T37=\"Yes\"),INT(P7/2*24)*2&\" - \"&INT(P7/2*24)*2+2&\" heures\",\"\")","v":""},{"$f":"IF(AND(Résumé!$B6=1,FORM!$T37=\"Yes\"),FORM!$R37,\"\")","v":""},{"$f":"IF(AND(Résumé!$B6=1,FORM!$T37=\"Yes\"),FORM!$S37,\"\")","v":""},{"$f":"IF(AND(Résumé!$B6=1,FORM!$T37=\"\"),\"\",IF(AND(Résumé!$B6=1,FORM!$T37>\"\"),FORM!$T37,\"\"))","v":""},{"$f":"IF(D7>\"0\",FORM!$I$24&\" \"&FORM!$J$24&\" \"&FORM!$M$24&\" - \"&FORM!$O$24,\"\")","v":""}]
[null,null,{"$f":"IF(Résumé!$B7=1,Résumé!$D7,\"\")","v":""},{"$f":"IF(Résumé!$B7=1,Résumé!E7,\"\")","v":""},{"$f":"IF(Résumé!$B7=0,\"\",Résumé!$G7)","v":""},{"$f":"IF(Résumé!$B7=0,\"\",IF(FORM!$H38=\"No\",\"PAS DE TRANSPORT\",\"OK\"))","v":""},{"$f":"IF(Résumé!$B7=1,FORM!$I38,\"\")","v":""},{"$f":"IF(Résumé!$B7=1,FORM!$J38,\"\")","v":""},{"$f":"IF(Résumé!$B7=1,FORM!$K38,\"\")","v":""},{"$f":"IF(Résumé!$B7=1,INT(I8/2*24)*2&\" - \"&INT(I8/2*24)*2+2&\" heures\",\"\")","v":""},{"$f":"IF(Résumé!$B7=1,FORM!$L38,\"\")","v":""},{"$f":"IF(Résumé!$B7=1,FORM!$M38,\"\")","v":""},{"$f":"IF(AND(Résumé!$B7=1,$F8=\"OK\"),FORM!$N38,\"\")","v":""},{"$f":"IF(Résumé!$B7=1,FORM!$O38,\"\")","v":""},{"$f":"IF(AND(Résumé!$B7=1,FORM!$T38=\"Yes\"),FORM!$P38,\"\")","v":""},{"$f":"IF(AND(Résumé!$B7=1,FORM!$T38=\"Yes\"),FORM!$Q38,\"\")","v":""},{"$f":"IF(AND(Résumé!$B7=1,FORM!$T38=\"Yes\"),INT(P8/2*24)*2&\" - \"&INT(P8/2*24)*2+2&\" heures\",\"\")","v":""},{"$f":"IF(AND(Résumé!$B7=1,FORM!$T38=\"Yes\"),FORM!$R38,\"\")","v":""},{"$f":"IF(AND(Résumé!$B7=1,FORM!$T38=\"Yes\"),FORM!$S38,\"\")","v":""},{"$f":"IF(AND(Résumé!$B7=1,FORM!$T38=\"\"),\"\",IF(AND(Résumé!$B7=1,FORM!$T38>\"\"),FORM!$T38,\"\"))","v":""},{"$f":"IF(D8>\"0\",FORM!$I$24&\" \"&FORM!$J$24&\" \"&FORM!$M$24&\" - \"&FORM!$O$24,\"\")","v":""}]
[null,null,{"$f":"IF(Résumé!$B8=1,Résumé!$D8,\"\")","v":""},{"$f":"IF(Résumé!$B8=1,Résumé!E8,\"\")","v":""},{"$f":"IF(Résumé!$B8=0,\"\",Résumé!$G8)","v":""},{"$f":"IF(Résumé!$B8=0,\"\",IF(FORM!$H39=\"No\",\"PAS DE TRANSPORT\",\"OK\"))","v":""},{"$f":"IF(Résumé!$B8=1,FORM!$I39,\"\")","v":""},{"$f":"IF(Résumé!$B8=1,FORM!$J39,\"\")","v":""},{"$f":"IF(Résumé!$B8=1,FORM!$K39,\"\")","v":""},{"$f":"IF(Résumé!$B8=1,INT(I9/2*24)*2&\" - \"&INT(I9/2*24)*2+2&\" heures\",\"\")","v":""},{"$f":"IF(Résumé!$B8=1,FORM!$L39,\"\")","v":""},{"$f":"IF(Résumé!$B8=1,FORM!$M39,\"\")","v":""},{"$f":"IF(AND(Résumé!$B8=1,$F9=\"OK\"),FORM!$N39,\"\")","v":""},{"$f":"IF(Résumé!$B8=1,FORM!$O39,\"\")","v":""},{"$f":"IF(AND(Résumé!$B8=1,FORM!$T39=\"Yes\"),FORM!$P39,\"\")","v":""},{"$f":"IF(AND(Résumé!$B8=1,FORM!$T39=\"Yes\"),FORM!$Q39,\"\")","v":""},{"$f":"IF(AND(Résumé!$B8=1,FORM!$T39=\"Yes\"),INT(P9/2*24)*2&\" - \"&INT(P9/2*24)*2+2&\" heures\",\"\")","v":""},{"$f":"IF(AND(Résumé!$B8=1,FORM!$T39=\"Yes\"),FORM!$R39,\"\")","v":""},{"$f":"IF(AND(Résumé!$B8=1,FORM!$T39=\"Yes\"),FORM!$S39,\"\")","v":""},{"$f":"IF(AND(Résumé!$B8=1,FORM!$T39=\"\"),\"\",IF(AND(Résumé!$B8=1,FORM!$T39>\"\"),FORM!$T39,\"\"))","v":""},{"$f":"IF(D9>\"0\",FORM!$I$24&\" \"&FORM!$J$24&\" \"&FORM!$M$24&\" - \"&FORM!$O$24,\"\")","v":""}]
[null,null,{"$f":"IF(Résumé!$B9=1,Résumé!$D9,\"\")","v":""},{"$f":"IF(Résumé!$B9=1,Résumé!E9,\"\")","v":""},{"$f":"IF(Résumé!$B9=0,\"\",Résumé!$G9)","v":""},{"$f":"IF(Résumé!$B9=0,\"\",IF(FORM!$H40=\"No\",\"PAS DE TRANSPORT\",\"OK\"))","v":""},{"$f":"IF(Résumé!$B9=1,FORM!$I40,\"\")","v":""},{"$f":"IF(Résumé!$B9=1,FORM!$J40,\"\")","v":""},{"$f":"IF(Résumé!$B9=1,FORM!$K40,\"\")","v":""},{"$f":"IF(Résumé!$B9=1,INT(I10/2*24)*2&\" - \"&INT(I10/2*24)*2+2&\" heures\",\"\")","v":""},{"$f":"IF(Résumé!$B9=1,FORM!$L40,\"\")","v":""},{"$f":"IF(Résumé!$B9=1,FORM!$M40,\"\")","v":""},{"$f":"IF(AND(Résumé!$B9=1,$F10=\"OK\"),FORM!$N40,\"\")","v":""},{"$f":"IF(Résumé!$B9=1,FORM!$O40,\"\")","v":""},{"$f":"IF(AND(Résumé!$B9=1,FORM!$T40=\"Yes\"),FORM!$P40,\"\")","v":""},{"$f":"IF(AND(Résumé!$B9=1,FORM!$T40=\"Yes\"),FORM!$Q40,\"\")","v":""},{"$f":"IF(AND(Résumé!$B9=1,FORM!$T40=\"Yes\"),INT(P10/2*24)*2&\" - \"&INT(P10/2*24)*2+2&\" heures\",\"\")","v":""},{"$f":"IF(AND(Résumé!$B9=1,FORM!$T40=\"Yes\"),FORM!$R40,\"\")","v":""},{"$f":"IF(AND(Résumé!$B9=1,FORM!$T40=\"Yes\"),FORM!$S40,\"\")","v":""},{"$f":"IF(AND(Résumé!$B9=1,FORM!$T40=\"\"),\"\",IF(AND(Résumé!$B9=1,FORM!$T40>\"\"),FORM!$T40,\"\"))","v":""},{"$f":"IF(D10>\"0\",FORM!$I$24&\" \"&FORM!$J$24&\" \"&FORM!$M$24&\" - \"&FORM!$O$24,\"\")","v":""}]
[null,null,{"$f":"IF(Résumé!$B10=1,Résumé!$D10,\"\")","v":""},{"$f":"IF(Résumé!$B10=1,Résumé!E10,\"\")","v":""},{"$f":"IF(Résumé!$B10=0,\"\",Résumé!$G10)","v":""},{"$f":"IF(Résumé!$B10=0,\"\",IF(FORM!$H41=\"No\",\"PAS DE TRANSPORT\",\"OK\"))","v":""},{"$f":"IF(Résumé!$B10=1,FORM!$I41,\"\")","v":""},{"$f":"IF(Résumé!$B10=1,FORM!$J41,\"\")","v":""},{"$f":"IF(Résumé!$B10=1,FORM!$K41,\"\")","v":""},{"$f":"IF(Résumé!$B10=1,INT(I11/2*24)*2&\" - \"&INT(I11/2*24)*2+2&\" heures\",\"\")","v":""},{"$f":"IF(Résumé!$B10=1,FORM!$L41,\"\")","v":""},{"$f":"IF(Résumé!$B10=1,FORM!$M41,\"\")","v":""},{"$f":"IF(AND(Résumé!$B10=1,$F11=\"OK\"),FORM!$N41,\"\")","v":""},{"$f":"IF(Résumé!$B10=1,FORM!$O41,\"\")","v":""},{"$f":"IF(AND(Résumé!$B10=1,FORM!$T41=\"Yes\"),FORM!$P41,\"\")","v":""},{"$f":"IF(AND(Résumé!$B10=1,FORM!$T41=\"Yes\"),FORM!$Q41,\"\")","v":""},{"$f":"IF(AND(Résumé!$B10=1,FORM!$T41=\"Yes\"),INT(P11/2*24)*2&\" - \"&INT(P11/2*24)*2+2&\" heures\",\"\")","v":""},{"$f":"IF(AND(Résumé!$B10=1,FORM!$T41=\"Yes\"),FORM!$R41,\"\")","v":""},{"$f":"IF(AND(Résumé!$B10=1,FORM!$T41=\"Yes\"),FORM!$S41,\"\")","v":""},{"$f":"IF(AND(Résumé!$B10=1,FORM!$T41=\"\"),\"\",IF(AND(Résumé!$B10=1,FORM!$T41>\"\"),FORM!$T41,\"\"))","v":""},{"$f":"IF(D11>\"0\",FORM!$I$24&\" \"&FORM!$J$24&\" \"&FORM!$M$24&\" - \"&FORM!$O$24,\"\")","v":""}]
[null,null,{"$f":"IF(Résumé!$B11=1,Résumé!$D11,\"\")","v":""},{"$f":"IF(Résumé!$B11=1,Résumé!E11,\"\")","v":""},{"$f":"IF(Résumé!$B11=0,\"\",Résumé!$G11)","v":""},{"$f":"IF(Résumé!$B11=0,\"\",IF(FORM!$H42=\"No\",\"PAS DE TRANSPORT\",\"OK\"))","v":""},{"$f":"IF(Résumé!$B11=1,FORM!$I42,\"\")","v":""},{"$f":"IF(Résumé!$B11=1,FORM!$J42,\"\")","v":""},{"$f":"IF(Résumé!$B11=1,FORM!$K42,\"\")","v":""},{"$f":"IF(Résumé!$B11=1,INT(I12/2*24)*2&\" - \"&INT(I12/2*24)*2+2&\" heures\",\"\")","v":""},{"$f":"IF(Résumé!$B11=1,FORM!$L42,\"\")","v":""},{"$f":"IF(Résumé!$B11=1,FORM!$M42,\"\")","v":""},{"$f":"IF(AND(Résumé!$B11=1,$F12=\"OK\"),FORM!$N42,\"\")","v":""},{"$f":"IF(Résumé!$B11=1,FORM!$O42,\"\")","v":""},{"$f":"IF(AND(Résumé!$B11=1,FORM!$T42=\"Yes\"),FORM!$P42,\"\")","v":""},{"$f":"IF(AND(Résumé!$B11=1,FORM!$T42=\"Yes\"),FORM!$Q42,\"\")","v":""},{"$f":"IF(AND(Résumé!$B11=1,FORM!$T42=\"Yes\"),INT(P12/2*24)*2&\" - \"&INT(P12/2*24)*2+2&\" heures\",\"\")","v":""},{"$f":"IF(AND(Résumé!$B11=1,FORM!$T42=\"Yes\"),FORM!$R42,\"\")","v":""},{"$f":"IF(AND(Résumé!$B11=1,FORM!$T42=\"Yes\"),FORM!$S42,\"\")","v":""},{"$f":"IF(AND(Résumé!$B11=1,FORM!$T42=\"\"),\"\",IF(AND(Résumé!$B11=1,FORM!$T42>\"\"),FORM!$T42,\"\"))","v":""},{"$f":"IF(D12>\"0\",FORM!$I$24&\" \"&FORM!$J$24&\" \"&FORM!$M$24&\" - \"&FORM!$O$24,\"\")","v":""}]
[null,null,{"$f":"IF(Résumé!$B12=1,Résumé!$D12,\"\")","v":""},{"$f":"IF(Résumé!$B12=1,Résumé!E12,\"\")","v":""},{"$f":"IF(Résumé!$B12=0,\"\",Résumé!$G12)","v":""},{"$f":"IF(Résumé!$B12=0,\"\",IF(FORM!$H43=\"No\",\"PAS DE TRANSPORT\",\"OK\"))","v":""},{"$f":"IF(Résumé!$B12=1,FORM!$I43,\"\")","v":""},{"$f":"IF(Résumé!$B12=1,FORM!$J43,\"\")","v":""},{"$f":"IF(Résumé!$B12=1,FORM!$K43,\"\")","v":""},{"$f":"IF(Résumé!$B12=1,INT(I13/2*24)*2&\" - \"&INT(I13/2*24)*2+2&\" heures\",\"\")","v":""},{"$f":"IF(Résumé!$B12=1,FORM!$L43,\"\")","v":""},{"$f":"IF(Résumé!$B12=1,FORM!$M43,\"\")","v":""},{"$f":"IF(AND(Résumé!$B12=1,$F13=\"OK\"),FORM!$N43,\"\")","v":""},{"$f":"IF(Résumé!$B12=1,FORM!$O43,\"\")","v":""},{"$f":"IF(AND(Résumé!$B12=1,FORM!$T43=\"Yes\"),FORM!$P43,\"\")","v":""},{"$f":"IF(AND(Résumé!$B12=1,FORM!$T43=\"Yes\"),FORM!$Q43,\"\")","v":""},{"$f":"IF(AND(Résumé!$B12=1,FORM!$T43=\"Yes\"),INT(P13/2*24)*2&\" - \"&INT(P13/2*24)*2+2&\" heures\",\"\")","v":""},{"$f":"IF(AND(Résumé!$B12=1,FORM!$T43=\"Yes\"),FORM!$R43,\"\")","v":""},{"$f":"IF(AND(Résumé!$B12=1,FORM!$T43=\"Yes\"),FORM!$S43,\"\")","v":""},{"$f":"IF(AND(Résumé!$B12=1,FORM!$T43=\"\"),\"\",IF(AND(Résumé!$B12=1,FORM!$T43>\"\"),FORM!$T43,\"\"))","v":""},{"$f":"IF(D13>\"0\",FORM!$I$24&\" \"&FORM!$J$24&\" \"&FORM!$M$24&\" - \"&FORM!$O$24,\"\")","v":""}]
[null,null,{"$f":"IF(Résumé!$B13=1,Résumé!$D13,\"\")","v":""},{"$f":"IF(Résumé!$B13=1,Résumé!E13,\"\")","v":""},{"$f":"IF(Résumé!$B13=0,\"\",Résumé!$G13)","v":""},{"$f":"IF(Résumé!$B13=0,\"\",IF(FORM!$H44=\"No\",\"PAS DE TRANSPORT\",\"OK\"))","v":""},{"$f":"IF(Résumé!$B13=1,FORM!$I44,\"\")","v":""},{"$f":"IF(Résumé!$B13=1,FORM!$J44,\"\")","v":""},{"$f":"IF(Résumé!$B13=1,FORM!$K44,\"\")","v":""},{"$f":"IF(Résumé!$B13=1,INT(I14/2*24)*2&\" - \"&INT(I14/2*24)*2+2&\" heures\",\"\")","v":""},{"$f":"IF(Résumé!$B13=1,FORM!$L44,\"\")","v":""},{"$f":"IF(Résumé!$B13=1,FORM!$M44,\"\")","v":""},{"$f":"IF(AND(Résumé!$B13=1,$F14=\"OK\"),FORM!$N44,\"\")","v":""},{"$f":"IF(Résumé!$B13=1,FORM!$O44,\"\")","v":""},{"$f":"IF(AND(Résumé!$B13=1,FORM!$T44=\"Yes\"),FORM!$P44,\"\")","v":""},{"$f":"IF(AND(Résumé!$B13=1,FORM!$T44=\"Yes\"),FORM!$Q44,\"\")","v":""},{"$f":"IF(AND(Résumé!$B13=1,FORM!$T44=\"Yes\"),INT(P14/2*24)*2&\" - \"&INT(P14/2*24)*2+2&\" heures\",\"\")","v":""},{"$f":"IF(AND(Résumé!$B13=1,FORM!$T44=\"Yes\"),FORM!$R44,\"\")","v":""},{"$f":"IF(AND(Résumé!$B13=1,FORM!$T44=\"Yes\"),FORM!$S44,\"\")","v":""},{"$f":"IF(AND(Résumé!$B13=1,FORM!$T44=\"\"),\"\",IF(AND(Résumé!$B13=1,FORM!$T44>\"\"),FORM!$T44,\"\"))","v":""},{"$f":"IF(D14>\"0\",FORM!$I$24&\" \"&FORM!$J$24&\" \"&FORM!$M$24&\" - \"&FORM!$O$24,\"\")","v":""}]
[null,null,{"$f":"IF(Résumé!$B14=1,Résumé!$D14,\"\")","v":""},{"$f":"IF(Résumé!$B14=1,Résumé!E14,\"\")","v":""},{"$f":"IF(Résumé!$B14=0,\"\",Résumé!$G14)","v":""},{"$f":"IF(Résumé!$B14=0,\"\",IF(FORM!$H45=\"No\",\"PAS DE TRANSPORT\",\"OK\"))","v":""},{"$f":"IF(Résumé!$B14=1,FORM!$I45,\"\")","v":""},{"$f":"IF(Résumé!$B14=1,FORM!$J45,\"\")","v":""},{"$f":"IF(Résumé!$B14=1,FORM!$K45,\"\")","v":""},{"$f":"IF(Résumé!$B14=1,INT(I15/2*24)*2&\" - \"&INT(I15/2*24)*2+2&\" heures\",\"\")","v":""},{"$f":"IF(Résumé!$B14=1,FORM!$L45,\"\")","v":""},{"$f":"IF(Résumé!$B14=1,FORM!$M45,\"\")","v":""},{"$f":"IF(AND(Résumé!$B14=1,$F15=\"OK\"),FORM!$N45,\"\")","v":""},{"$f":"IF(Résumé!$B14=1,FORM!$O45,\"\")","v":""},{"$f":"IF(AND(Résumé!$B14=1,FORM!$T45=\"Yes\"),FORM!$P45,\"\")","v":""},{"$f":"IF(AND(Résumé!$B14=1,FORM!$T45=\"Yes\"),FORM!$Q45,\"\")","v":""},{"$f":"IF(AND(Résumé!$B14=1,FORM!$T45=\"Yes\"),INT(P15/2*24)*2&\" - \"&INT(P15/2*24)*2+2&\" heures\",\"\")","v":""},{"$f":"IF(AND(Résumé!$B14=1,FORM!$T45=\"Yes\"),FORM!$R45,\"\")","v":""},{"$f":"IF(AND(Résumé!$B14=1,FORM!$T45=\"Yes\"),FORM!$S45,\"\")","v":""},{"$f":"IF(AND(Résumé!$B14=1,FORM!$T45=\"\"),\"\",IF(AND(Résumé!$B14=1,FORM!$T45>\"\"),FORM!$T45,\"\"))","v":""},{"$f":"IF(D15>\"0\",FORM!$I$24&\" \"&FORM!$J$24&\" \"&FORM!$M$24&\" - \"&FORM!$O$24,\"\")","v":""}]
[null,null,{"$f":"IF(Résumé!$B15=1,Résumé!$D15,\"\")","v":""},{"$f":"IF(Résumé!$B15=1,Résumé!E15,\"\")","v":""},{"$f":"IF(Résumé!$B15=0,\"\",Résumé!$G15)","v":""},{"$f":"IF(Résumé!$B15=0,\"\",IF(FORM!$H46=\"No\",\"PAS DE TRANSPORT\",\"OK\"))","v":""},{"$f":"IF(Résumé!$B15=1,FORM!$I46,\"\")","v":""},{"$f":"IF(Résumé!$B15=1,FORM!$J46,\"\")","v":""},{"$f":"IF(Résumé!$B15=1,FORM!$K46,\"\")","v":""},{"$f":"IF(Résumé!$B15=1,INT(I16/2*24)*2&\" - \"&INT(I16/2*24)*2+2&\" heures\",\"\")","v":""},{"$f":"IF(Résumé!$B15=1,FORM!$L46,\"\")","v":""},{"$f":"IF(Résumé!$B15=1,FORM!$M46,\"\")","v":""},{"$f":"IF(AND(Résumé!$B15=1,$F16=\"OK\"),FORM!$N46,\"\")","v":""},{"$f":"IF(Résumé!$B15=1,FORM!$O46,\"\")","v":""},{"$f":"IF(AND(Résumé!$B15=1,FORM!$T46=\"Yes\"),FORM!$P46,\"\")","v":""},{"$f":"IF(AND(Résumé!$B15=1,FORM!$T46=\"Yes\"),FORM!$Q46,\"\")","v":""},{"$f":"IF(AND(Résumé!$B15=1,FORM!$T46=\"Yes\"),INT(P16/2*24)*2&\" - \"&INT(P16/2*24)*2+2&\" heures\",\"\")","v":""},{"$f":"IF(AND(Résumé!$B15=1,FORM!$T46=\"Yes\"),FORM!$R46,\"\")","v":""},{"$f":"IF(AND(Résumé!$B15=1,FORM!$T46=\"Yes\"),FORM!$S46,\"\")","v":""},{"$f":"IF(AND(Résumé!$B15=1,FORM!$T46=\"\"),\"\",IF(AND(Résumé!$B15=1,FORM!$T46>\"\"),FORM!$T46,\"\"))","v":""},{"$f":"IF(D16>\"0\",FORM!$I$24&\" \"&FORM!$J$24&\" \"&FORM!$M$24&\" - \"&FORM!$O$24,\"\")","v":""}]
[null,null,{"$f":"IF(Résumé!$B16=1,Résumé!$D16,\"\")","v":""},{"$f":"IF(Résumé!$B16=1,Résumé!E16,\"\")","v":""},{"$f":"IF(Résumé!$B16=0,\"\",Résumé!$G16)","v":""},{"$f":"IF(Résumé!$B16=0,\"\",IF(FORM!$H47=\"No\",\"PAS DE TRANSPORT\",\"OK\"))","v":""},{"$f":"IF(Résumé!$B16=1,FORM!$I47,\"\")","v":""},{"$f":"IF(Résumé!$B16=1,FORM!$J47,\"\")","v":""},{"$f":"IF(Résumé!$B16=1,FORM!$K47,\"\")","v":""},{"$f":"IF(Résumé!$B16=1,INT(I17/2*24)*2&\" - \"&INT(I17/2*24)*2+2&\" heures\",\"\")","v":""},{"$f":"IF(Résumé!$B16=1,FORM!$L47,\"\")","v":""},{"$f":"IF(Résumé!$B16=1,FORM!$M47,\"\")","v":""},{"$f":"IF(AND(Résumé!$B16=1,$F17=\"OK\"),FORM!$N47,\"\")","v":""},{"$f":"IF(Résumé!$B16=1,FORM!$O47,\"\")","v":""},{"$f":"IF(AND(Résumé!$B16=1,FORM!$T47=\"Yes\"),FORM!$P47,\"\")","v":""},{"$f":"IF(AND(Résumé!$B16=1,FORM!$T47=\"Yes\"),FORM!$Q47,\"\")","v":""},{"$f":"IF(AND(Résumé!$B16=1,FORM!$T47=\"Yes\"),INT(P17/2*24)*2&\" - \"&INT(P17/2*24)*2+2&\" heures\",\"\")","v":""},{"$f":"IF(AND(Résumé!$B16=1,FORM!$T47=\"Yes\"),FORM!$R47,\"\")","v":""},{"$f":"IF(AND(Résumé!$B16=1,FORM!$T47=\"Yes\"),FORM!$S47,\"\")","v":""},{"$f":"IF(AND(Résumé!$B16=1,FORM!$T47=\"\"),\"\",IF(AND(Résumé!$B16=1,FORM!$T47>\"\"),FORM!$T47,\"\"))","v":""},{"$f":"IF(D17>\"0\",FORM!$I$24&\" \"&FORM!$J$24&\" \"&FORM!$M$24&\" - \"&FORM!$O$24,\"\")","v":""}]
[null,null,{"$f":"IF(Résumé!$B17=1,Résumé!$D17,\"\")","v":""},{"$f":"IF(Résumé!$B17=1,Résumé!E17,\"\")","v":""},{"$f":"IF(Résumé!$B17=0,\"\",Résumé!$G17)","v":""},{"$f":"IF(Résumé!$B17=0,\"\",IF(FORM!$H48=\"No\",\"PAS DE TRANSPORT\",\"OK\"))","v":""},{"$f":"IF(Résumé!$B17=1,FORM!$I48,\"\")","v":""},{"$f":"IF(Résumé!$B17=1,FORM!$J48,\"\")","v":""},{"$f":"IF(Résumé!$B17=1,FORM!$K48,\"\")","v":""},{"$f":"IF(Résumé!$B17=1,INT(I18/2*24)*2&\" - \"&INT(I18/2*24)*2+2&\" heures\",\"\")","v":""},{"$f":"IF(Résumé!$B17=1,FORM!$L48,\"\")","v":""},{"$f":"IF(Résumé!$B17=1,FORM!$M48,\"\")","v":""},{"$f":"IF(AND(Résumé!$B17=1,$F18=\"OK\"),FORM!$N48,\"\")","v":""},{"$f":"IF(Résumé!$B17=1,FORM!$O48,\"\")","v":""},{"$f":"IF(AND(Résumé!$B17=1,FORM!$T48=\"Yes\"),FORM!$P48,\"\")","v":""},{"$f":"IF(AND(Résumé!$B17=1,FORM!$T48=\"Yes\"),FORM!$Q48,\"\")","v":""},{"$f":"IF(AND(Résumé!$B17=1,FORM!$T48=\"Yes\"),INT(P18/2*24)*2&\" - \"&INT(P18/2*24)*2+2&\" heures\",\"\")","v":""},{"$f":"IF(AND(Résumé!$B17=1,FORM!$T48=\"Yes\"),FORM!$R48,\"\")","v":""},{"$f":"IF(AND(Résumé!$B17=1,FORM!$T48=\"Yes\"),FORM!$S48,\"\")","v":""},{"$f":"IF(AND(Résumé!$B17=1,FORM!$T48=\"\"),\"\",IF(AND(Résumé!$B17=1,FORM!$T48>\"\"),FORM!$T48,\"\"))","v":""},{"$f":"IF(D18>\"0\",FORM!$I$24&\" \"&FORM!$J$24&\" \"&FORM!$M$24&\" - \"&FORM!$O$24,\"\")","v":""}]
[null,null,{"$f":"IF(Résumé!$B18=1,Résumé!$D18,\"\")","v":""},{"$f":"IF(Résumé!$B18=1,Résumé!E18,\"\")","v":""},{"$f":"IF(Résumé!$B18=0,\"\",Résumé!$G18)","v":""},{"$f":"IF(Résumé!$B18=0,\"\",IF(FORM!$H49=\"No\",\"PAS DE TRANSPORT\",\"OK\"))","v":""},{"$f":"IF(Résumé!$B18=1,FORM!$I49,\"\")","v":""},{"$f":"IF(Résumé!$B18=1,FORM!$J49,\"\")","v":""},{"$f":"IF(Résumé!$B18=1,FORM!$K49,\"\")","v":""},{"$f":"IF(Résumé!$B18=1,INT(I19/2*24)*2&\" - \"&INT(I19/2*24)*2+2&\" heures\",\"\")","v":""},{"$f":"IF(Résumé!$B18=1,FORM!$L49,\"\")","v":""},{"$f":"IF(Résumé!$B18=1,FORM!$M49,\"\")","v":""},{"$f":"IF(AND(Résumé!$B18=1,$F19=\"OK\"),FORM!$N49,\"\")","v":""},{"$f":"IF(Résumé!$B18=1,FORM!$O49,\"\")","v":""},{"$f":"IF(AND(Résumé!$B18=1,FORM!$T49=\"Yes\"),FORM!$P49,\"\")","v":""},{"$f":"IF(AND(Résumé!$B18=1,FORM!$T49=\"Yes\"),FORM!$Q49,\"\")","v":""},{"$f":"IF(AND(Résumé!$B18=1,FORM!$T49=\"Yes\"),INT(P19/2*24)*2&\" - \"&INT(P19/2*24)*2+2&\" heures\",\"\")","v":""},{"$f":"IF(AND(Résumé!$B18=1,FORM!$T49=\"Yes\"),FORM!$R49,\"\")","v":""},{"$f":"IF(AND(Résumé!$B18=1,FORM!$T49=\"Yes\"),FORM!$S49,\"\")","v":""},{"$f":"IF(AND(Résumé!$B18=1,FORM!$T49=\"\"),\"\",IF(AND(Résumé!$B18=1,FORM!$T49>\"\"),FORM!$T49,\"\"))","v":""},{"$f":"IF(D19>\"0\",FORM!$I$24&\" \"&FORM!$J$24&\" \"&FORM!$M$24&\" - \"&FORM!$O$24,\"\")","v":""}]
[null,null,{"$f":"IF(Résumé!$B19=1,Résumé!$D19,\"\")","v":""},{"$f":"IF(Résumé!$B19=1,Résumé!E19,\"\")","v":""},{"$f":"IF(Résumé!$B19=0,\"\",Résumé!$G19)","v":""},{"$f":"IF(Résumé!$B19=0,\"\",IF(FORM!$H50=\"No\",\"PAS DE TRANSPORT\",\"OK\"))","v":""},{"$f":"IF(Résumé!$B19=1,FORM!$I50,\"\")","v":""},{"$f":"IF(Résumé!$B19=1,FORM!$J50,\"\")","v":""},{"$f":"IF(Résumé!$B19=1,FORM!$K50,\"\")","v":""},{"$f":"IF(Résumé!$B19=1,INT(I20/2*24)*2&\" - \"&INT(I20/2*24)*2+2&\" heures\",\"\")","v":""},{"$f":"IF(Résumé!$B19=1,FORM!$L50,\"\")","v":""},{"$f":"IF(Résumé!$B19=1,FORM!$M50,\"\")","v":""},{"$f":"IF(AND(Résumé!$B19=1,$F20=\"OK\"),FORM!$N50,\"\")","v":""},{"$f":"IF(Résumé!$B19=1,FORM!$O50,\"\")","v":""},{"$f":"IF(AND(Résumé!$B19=1,FORM!$T50=\"Yes\"),FORM!$P50,\"\")","v":""},{"$f":"IF(AND(Résumé!$B19=1,FORM!$T50=\"Yes\"),FORM!$Q50,\"\")","v":""},{"$f":"IF(AND(Résumé!$B19=1,FORM!$T50=\"Yes\"),INT(P20/2*24)*2&\" - \"&INT(P20/2*24)*2+2&\" heures\",\"\")","v":""},{"$f":"IF(AND(Résumé!$B19=1,FORM!$T50=\"Yes\"),FORM!$R50,\"\")","v":""},{"$f":"IF(AND(Résumé!$B19=1,FORM!$T50=\"Yes\"),FORM!$S50,\"\")","v":""},{"$f":"IF(AND(Résumé!$B19=1,FORM!$T50=\"\"),\"\",IF(AND(Résumé!$B19=1,FORM!$T50>\"\"),FORM!$T50,\"\"))","v":""},{"$f":"IF(D20>\"0\",FORM!$I$24&\" \"&FORM!$J$24&\" \"&FORM!$M$24&\" - \"&FORM!$O$24,\"\")","v":""}]
[null,null,{"$f":"IF(Résumé!$B20=1,Résumé!$D20,\"\")","v":""},{"$f":"IF(Résumé!$B20=1,Résumé!E20,\"\")","v":""},{"$f":"IF(Résumé!$B20=0,\"\",Résumé!$G20)","v":""},{"$f":"IF(Résumé!$B20=0,\"\",IF(FORM!$H51=\"No\",\"PAS DE TRANSPORT\",\"OK\"))","v":""},{"$f":"IF(Résumé!$B20=1,FORM!$I51,\"\")","v":""},{"$f":"IF(Résumé!$B20=1,FORM!$J51,\"\")","v":""},{"$f":"IF(Résumé!$B20=1,FORM!$K51,\"\")","v":""},{"$f":"IF(Résumé!$B20=1,INT(I21/2*24)*2&\" - \"&INT(I21/2*24)*2+2&\" heures\",\"\")","v":""},{"$f":"IF(Résumé!$B20=1,FORM!$L51,\"\")","v":""},{"$f":"IF(Résumé!$B20=1,FORM!$M51,\"\")","v":""},{"$f":"IF(AND(Résumé!$B20=1,$F21=\"OK\"),FORM!$N51,\"\")","v":""},{"$f":"IF(Résumé!$B20=1,FORM!$O51,\"\")","v":""},{"$f":"IF(AND(Résumé!$B20=1,FORM!$T51=\"Yes\"),FORM!$P51,\"\")","v":""},{"$f":"IF(AND(Résumé!$B20=1,FORM!$T51=\"Yes\"),FORM!$Q51,\"\")","v":""},{"$f":"IF(AND(Résumé!$B20=1,FORM!$T51=\"Yes\"),INT(P21/2*24)*2&\" - \"&INT(P21/2*24)*2+2&\" heures\",\"\")","v":""},{"$f":"IF(AND(Résumé!$B20=1,FORM!$T51=\"Yes\"),FORM!$R51,\"\")","v":""},{"$f":"IF(AND(Résumé!$B20=1,FORM!$T51=\"Yes\"),FORM!$S51,\"\")","v":""},{"$f":"IF(AND(Résumé!$B20=1,FORM!$T51=\"\"),\"\",IF(AND(Résumé!$B20=1,FORM!$T51>\"\"),FORM!$T51,\"\"))","v":""},{"$f":"IF(D21>\"0\",FORM!$I$24&\" \"&FORM!$J$24&\" \"&FORM!$M$24&\" - \"&FORM!$O$24,\"\")","v":""}]
[null,null,{"$f":"IF(Résumé!$B21=1,Résumé!$D21,\"\")","v":""},{"$f":"IF(Résumé!$B21=1,Résumé!E21,\"\")","v":""},{"$f":"IF(Résumé!$B21=0,\"\",Résumé!$G21)","v":""},{"$f":"IF(Résumé!$B21=0,\"\",IF(FORM!$H52=\"No\",\"PAS DE TRANSPORT\",\"OK\"))","v":""},{"$f":"IF(Résumé!$B21=1,FORM!$I52,\"\")","v":""},{"$f":"IF(Résumé!$B21=1,FORM!$J52,\"\")","v":""},{"$f":"IF(Résumé!$B21=1,FORM!$K52,\"\")","v":""},{"$f":"IF(Résumé!$B21=1,INT(I22/2*24)*2&\" - \"&INT(I22/2*24)*2+2&\" heures\",\"\")","v":""},{"$f":"IF(Résumé!$B21=1,FORM!$L52,\"\")","v":""},{"$f":"IF(Résumé!$B21=1,FORM!$M52,\"\")","v":""},{"$f":"IF(AND(Résumé!$B21=1,$F22=\"OK\"),FORM!$N52,\"\")","v":""},{"$f":"IF(Résumé!$B21=1,FORM!$O52,\"\")","v":""},{"$f":"IF(AND(Résumé!$B21=1,FORM!$T52=\"Yes\"),FORM!$P52,\"\")","v":""},{"$f":"IF(AND(Résumé!$B21=1,FORM!$T52=\"Yes\"),FORM!$Q52,\"\")","v":""},{"$f":"IF(AND(Résumé!$B21=1,FORM!$T52=\"Yes\"),INT(P22/2*24)*2&\" - \"&INT(P22/2*24)*2+2&\" heures\",\"\")","v":""},{"$f":"IF(AND(Résumé!$B21=1,FORM!$T52=\"Yes\"),FORM!$R52,\"\")","v":""},{"$f":"IF(AND(Résumé!$B21=1,FORM!$T52=\"Yes\"),FORM!$S52,\"\")","v":""},{"$f":"IF(AND(Résumé!$B21=1,FORM!$T52=\"\"),\"\",IF(AND(Résumé!$B21=1,FORM!$T52>\"\"),FORM!$T52,\"\"))","v":""},{"$f":"IF(D22>\"0\",FORM!$I$24&\" \"&FORM!$J$24&\" \"&FORM!$M$24&\" - \"&FORM!$O$24,\"\")","v":""}]
[null,null,{"$f":"IF(Résumé!$B22=1,Résumé!$D22,\"\")","v":""},{"$f":"IF(Résumé!$B22=1,Résumé!E22,\"\")","v":""},{"$f":"IF(Résumé!$B22=0,\"\",Résumé!$G22)","v":""},{"$f":"IF(Résumé!$B22=0,\"\",IF(FORM!$H53=\"No\",\"PAS DE TRANSPORT\",\"OK\"))","v":""},{"$f":"IF(Résumé!$B22=1,FORM!$I53,\"\")","v":""},{"$f":"IF(Résumé!$B22=1,FORM!$J53,\"\")","v":""},{"$f":"IF(Résumé!$B22=1,FORM!$K53,\"\")","v":""},{"$f":"IF(Résumé!$B22=1,INT(I23/2*24)*2&\" - \"&INT(I23/2*24)*2+2&\" heures\",\"\")","v":""},{"$f":"IF(Résumé!$B22=1,FORM!$L53,\"\")","v":""},{"$f":"IF(Résumé!$B22=1,FORM!$M53,\"\")","v":""},{"$f":"IF(AND(Résumé!$B22=1,$F23=\"OK\"),FORM!$N53,\"\")","v":""},{"$f":"IF(Résumé!$B22=1,FORM!$O53,\"\")","v":""},{"$f":"IF(AND(Résumé!$B22=1,FORM!$T53=\"Yes\"),FORM!$P53,\"\")","v":""},{"$f":"IF(AND(Résumé!$B22=1,FORM!$T53=\"Yes\"),FORM!$Q53,\"\")","v":""},{"$f":"IF(AND(Résumé!$B22=1,FORM!$T53=\"Yes\"),INT(P23/2*24)*2&\" - \"&INT(P23/2*24)*2+2&\" heures\",\"\")","v":""},{"$f":"IF(AND(Résumé!$B22=1,FORM!$T53=\"Yes\"),FORM!$R53,\"\")","v":""},{"$f":"IF(AND(Résumé!$B22=1,FORM!$T53=\"Yes\"),FORM!$S53,\"\")","v":""},{"$f":"IF(AND(Résumé!$B22=1,FORM!$T53=\"\"),\"\",IF(AND(Résumé!$B22=1,FORM!$T53>\"\"),FORM!$T53,\"\"))","v":""},{"$f":"IF(D23>\"0\",FORM!$I$24&\" \"&FORM!$J$24&\" \"&FORM!$M$24&\" - \"&FORM!$O$24,\"\")","v":""}]
[null,null,{"$f":"IF(Résumé!$B23=1,Résumé!$D23,\"\")","v":""},{"$f":"IF(Résumé!$B23=1,Résumé!E23,\"\")","v":""},{"$f":"IF(Résumé!$B23=0,\"\",Résumé!$G23)","v":""},{"$f":"IF(Résumé!$B23=0,\"\",IF(FORM!$H54=\"No\",\"PAS DE TRANSPORT\",\"OK\"))","v":""},{"$f":"IF(Résumé!$B23=1,FORM!$I54,\"\")","v":""},{"$f":"IF(Résumé!$B23=1,FORM!$J54,\"\")","v":""},{"$f":"IF(Résumé!$B23=1,FORM!$K54,\"\")","v":""},{"$f":"IF(Résumé!$B23=1,INT(I24/2*24)*2&\" - \"&INT(I24/2*24)*2+2&\" heures\",\"\")","v":""},{"$f":"IF(Résumé!$B23=1,FORM!$L54,\"\")","v":""},{"$f":"IF(Résumé!$B23=1,FORM!$M54,\"\")","v":""},{"$f":"IF(AND(Résumé!$B23=1,$F24=\"OK\"),FORM!$N54,\"\")","v":""},{"$f":"IF(Résumé!$B23=1,FORM!$O54,\"\")","v":""},{"$f":"IF(AND(Résumé!$B23=1,FORM!$T54=\"Yes\"),FORM!$P54,\"\")","v":""},{"$f":"IF(AND(Résumé!$B23=1,FORM!$T54=\"Yes\"),FORM!$Q54,\"\")","v":""},{"$f":"IF(AND(Résumé!$B23=1,FORM!$T54=\"Yes\"),INT(P24/2*24)*2&\" - \"&INT(P24/2*24)*2+2&\" heures\",\"\")","v":""},{"$f":"IF(AND(Résumé!$B23=1,FORM!$T54=\"Yes\"),FORM!$R54,\"\")","v":""},{"$f":"IF(AND(Résumé!$B23=1,FORM!$T54=\"Yes\"),FORM!$S54,\"\")","v":""},{"$f":"IF(AND(Résumé!$B23=1,FORM!$T54=\"\"),\"\",IF(AND(Résumé!$B23=1,FORM!$T54>\"\"),FORM!$T54,\"\"))","v":""},{"$f":"IF(D24>\"0\",FORM!$I$24&\" \"&FORM!$J$24&\" \"&FORM!$M$24&\" - \"&FORM!$O$24,\"\")","v":""}]
[null,null,{"$f":"IF(Résumé!$B24=1,Résumé!$D24,\"\")","v":""},{"$f":"IF(Résumé!$B24=1,Résumé!E24,\"\")","v":""},{"$f":"IF(Résumé!$B24=0,\"\",Résumé!$G24)","v":""},{"$f":"IF(Résumé!$B24=0,\"\",IF(FORM!$H55=\"No\",\"PAS DE TRANSPORT\",\"OK\"))","v":""},{"$f":"IF(Résumé!$B24=1,FORM!$I55,\"\")","v":""},{"$f":"IF(Résumé!$B24=1,FORM!$J55,\"\")","v":""},{"$f":"IF(Résumé!$B24=1,FORM!$K55,\"\")","v":""},{"$f":"IF(Résumé!$B24=1,INT(I25/2*24)*2&\" - \"&INT(I25/2*24)*2+2&\" heures\",\"\")","v":""},{"$f":"IF(Résumé!$B24=1,FORM!$L55,\"\")","v":""},{"$f":"IF(Résumé!$B24=1,FORM!$M55,\"\")","v":""},{"$f":"IF(AND(Résumé!$B24=1,$F25=\"OK\"),FORM!$N55,\"\")","v":""},{"$f":"IF(Résumé!$B24=1,FORM!$O55,\"\")","v":""},{"$f":"IF(AND(Résumé!$B24=1,FORM!$T55=\"Yes\"),FORM!$P55,\"\")","v":""},{"$f":"IF(AND(Résumé!$B24=1,FORM!$T55=\"Yes\"),FORM!$Q55,\"\")","v":""},{"$f":"IF(AND(Résumé!$B24=1,FORM!$T55=\"Yes\"),INT(P25/2*24)*2&\" - \"&INT(P25/2*24)*2+2&\" heures\",\"\")","v":""},{"$f":"IF(AND(Résumé!$B24=1,FORM!$T55=\"Yes\"),FORM!$R55,\"\")","v":""},{"$f":"IF(AND(Résumé!$B24=1,FORM!$T55=\"Yes\"),FORM!$S55,\"\")","v":""},{"$f":"IF(AND(Résumé!$B24=1,FORM!$T55=\"\"),\"\",IF(AND(Résumé!$B24=1,FORM!$T55>\"\"),FORM!$T55,\"\"))","v":""},{"$f":"IF(D25>\"0\",FORM!$I$24&\" \"&FORM!$J$24&\" \"&FORM!$M$24&\" - \"&FORM!$O$24,\"\")","v":""}]
[null,null,{"$f":"IF(Résumé!$B25=1,Résumé!$D25,\"\")","v":""},{"$f":"IF(Résumé!$B25=1,Résumé!E25,\"\")","v":""},{"$f":"IF(Résumé!$B25=0,\"\",Résumé!$G25)","v":""},{"$f":"IF(Résumé!$B25=0,\"\",IF(FORM!$H56=\"No\",\"PAS DE TRANSPORT\",\"OK\"))","v":""},{"$f":"IF(Résumé!$B25=1,FORM!$I56,\"\")","v":""},{"$f":"IF(Résumé!$B25=1,FORM!$J56,\"\")","v":""},{"$f":"IF(Résumé!$B25=1,FORM!$K56,\"\")","v":""},{"$f":"IF(Résumé!$B25=1,INT(I26/2*24)*2&\" - \"&INT(I26/2*24)*2+2&\" heures\",\"\")","v":""},{"$f":"IF(Résumé!$B25=1,FORM!$L56,\"\")","v":""},{"$f":"IF(Résumé!$B25=1,FORM!$M56,\"\")","v":""},{"$f":"IF(AND(Résumé!$B25=1,$F26=\"OK\"),FORM!$N56,\"\")","v":""},{"$f":"IF(Résumé!$B25=1,FORM!$O56,\"\")","v":""},{"$f":"IF(AND(Résumé!$B25=1,FORM!$T56=\"Yes\"),FORM!$P56,\"\")","v":""},{"$f":"IF(AND(Résumé!$B25=1,FORM!$T56=\"Yes\"),FORM!$Q56,\"\")","v":""},{"$f":"IF(AND(Résumé!$B25=1,FORM!$T56=\"Yes\"),INT(P26/2*24)*2&\" - \"&INT(P26/2*24)*2+2&\" heures\",\"\")","v":""},{"$f":"IF(AND(Résumé!$B25=1,FORM!$T56=\"Yes\"),FORM!$R56,\"\")","v":""},{"$f":"IF(AND(Résumé!$B25=1,FORM!$T56=\"Yes\"),FORM!$S56,\"\")","v":""},{"$f":"IF(AND(Résumé!$B25=1,FORM!$T56=\"\"),\"\",IF(AND(Résumé!$B25=1,FORM!$T56>\"\"),FORM!$T56,\"\"))","v":""},{"$f":"IF(D26>\"0\",FORM!$I$24&\" \"&FORM!$J$24&\" \"&FORM!$M$24&\" - \"&FORM!$O$24,\"\")","v":""}]
[null,null,{"$f":"IF(Résumé!$B26=1,Résumé!$D26,\"\")","v":""},{"$f":"IF(Résumé!$B26=1,Résumé!E26,\"\")","v":""},{"$f":"IF(Résumé!$B26=0,\"\",Résumé!$G26)","v":""},{"$f":"IF(Résumé!$B26=0,\"\",IF(FORM!$H57=\"No\",\"PAS DE TRANSPORT\",\"OK\"))","v":""},{"$f":"IF(Résumé!$B26=1,FORM!$I57,\"\")","v":""},{"$f":"IF(Résumé!$B26=1,FORM!$J57,\"\")","v":""},{"$f":"IF(Résumé!$B26=1,FORM!$K57,\"\")","v":""},{"$f":"IF(Résumé!$B26=1,INT(I27/2*24)*2&\" - \"&INT(I27/2*24)*2+2&\" heures\",\"\")","v":""},{"$f":"IF(Résumé!$B26=1,FORM!$L57,\"\")","v":""},{"$f":"IF(Résumé!$B26=1,FORM!$M57,\"\")","v":""},{"$f":"IF(AND(Résumé!$B26=1,$F27=\"OK\"),FORM!$N57,\"\")","v":""},{"$f":"IF(Résumé!$B26=1,FORM!$O57,\"\")","v":""},{"$f":"IF(AND(Résumé!$B26=1,FORM!$T57=\"Yes\"),FORM!$P57,\"\")","v":""},{"$f":"IF(AND(Résumé!$B26=1,FORM!$T57=\"Yes\"),FORM!$Q57,\"\")","v":""},{"$f":"IF(AND(Résumé!$B26=1,FORM!$T57=\"Yes\"),INT(P27/2*24)*2&\" - \"&INT(P27/2*24)*2+2&\" heures\",\"\")","v":""},{"$f":"IF(AND(Résumé!$B26=1,FORM!$T57=\"Yes\"),FORM!$R57,\"\")","v":""},{"$f":"IF(AND(Résumé!$B26=1,FORM!$T57=\"Yes\"),FORM!$S57,\"\")","v":""},{"$f":"IF(AND(Résumé!$B26=1,FORM!$T57=\"\"),\"\",IF(AND(Résumé!$B26=1,FORM!$T57>\"\"),FORM!$T57,\"\"))","v":""},{"$f":"IF(D27>\"0\",FORM!$I$24&\" \"&FORM!$J$24&\" \"&FORM!$M$24&\" - \"&FORM!$O$24,\"\")","v":""}]
[null,null,{"$f":"IF(Résumé!$B27=1,Résumé!$D27,\"\")","v":""},{"$f":"IF(Résumé!$B27=1,Résumé!E27,\"\")","v":""},{"$f":"IF(Résumé!$B27=0,\"\",Résumé!$G27)","v":""},{"$f":"IF(Résumé!$B27=0,\"\",IF(FORM!$H58=\"No\",\"PAS DE TRANSPORT\",\"OK\"))","v":""},{"$f":"IF(Résumé!$B27=1,FORM!$I58,\"\")","v":""},{"$f":"IF(Résumé!$B27=1,FORM!$J58,\"\")","v":""},{"$f":"IF(Résumé!$B27=1,FORM!$K58,\"\")","v":""},{"$f":"IF(Résumé!$B27=1,INT(I28/2*24)*2&\" - \"&INT(I28/2*24)*2+2&\" heures\",\"\")","v":""},{"$f":"IF(Résumé!$B27=1,FORM!$L58,\"\")","v":""},{"$f":"IF(Résumé!$B27=1,FORM!$M58,\"\")","v":""},{"$f":"IF(AND(Résumé!$B27=1,$F28=\"OK\"),FORM!$N58,\"\")","v":""},{"$f":"IF(Résumé!$B27=1,FORM!$O58,\"\")","v":""},{"$f":"IF(AND(Résumé!$B27=1,FORM!$T58=\"Yes\"),FORM!$P58,\"\")","v":""},{"$f":"IF(AND(Résumé!$B27=1,FORM!$T58=\"Yes\"),FORM!$Q58,\"\")","v":""},{"$f":"IF(AND(Résumé!$B27=1,FORM!$T58=\"Yes\"),INT(P28/2*24)*2&\" - \"&INT(P28/2*24)*2+2&\" heures\",\"\")","v":""},{"$f":"IF(AND(Résumé!$B27=1,FORM!$T58=\"Yes\"),FORM!$R58,\"\")","v":""},{"$f":"IF(AND(Résumé!$B27=1,FORM!$T58=\"Yes\"),FORM!$S58,\"\")","v":""},{"$f":"IF(AND(Résumé!$B27=1,FORM!$T58=\"\"),\"\",IF(AND(Résumé!$B27=1,FORM!$T58>\"\"),FORM!$T58,\"\"))","v":""},{"$f":"IF(D28>\"0\",FORM!$I$24&\" \"&FORM!$J$24&\" \"&FORM!$M$24&\" - \"&FORM!$O$24,\"\")","v":""}]
[null,null,{"$f":"IF(Résumé!$B28=1,Résumé!$D28,\"\")","v":""},{"$f":"IF(Résumé!$B28=1,Résumé!E28,\"\")","v":""},{"$f":"IF(Résumé!$B28=0,\"\",Résumé!$G28)","v":""},{"$f":"IF(Résumé!$B28=0,\"\",IF(FORM!$H59=\"No\",\"PAS DE TRANSPORT\",\"OK\"))","v":""},{"$f":"IF(Résumé!$B28=1,FORM!$I59,\"\")","v":""},{"$f":"IF(Résumé!$B28=1,FORM!$J59,\"\")","v":""},{"$f":"IF(Résumé!$B28=1,FORM!$K59,\"\")","v":""},{"$f":"IF(Résumé!$B28=1,INT(I29/2*24)*2&\" - \"&INT(I29/2*24)*2+2&\" heures\",\"\")","v":""},{"$f":"IF(Résumé!$B28=1,FORM!$L59,\"\")","v":""},{"$f":"IF(Résumé!$B28=1,FORM!$M59,\"\")","v":""},{"$f":"IF(AND(Résumé!$B28=1,$F29=\"OK\"),FORM!$N59,\"\")","v":""},{"$f":"IF(Résumé!$B28=1,FORM!$O59,\"\")","v":""},{"$f":"IF(AND(Résumé!$B28=1,FORM!$T59=\"Yes\"),FORM!$P59,\"\")","v":""},{"$f":"IF(AND(Résumé!$B28=1,FORM!$T59=\"Yes\"),FORM!$Q59,\"\")","v":""},{"$f":"IF(AND(Résumé!$B28=1,FORM!$T59=\"Yes\"),INT(P29/2*24)*2&\" - \"&INT(P29/2*24)*2+2&\" heures\",\"\")","v":""},{"$f":"IF(AND(Résumé!$B28=1,FORM!$T59=\"Yes\"),FORM!$R59,\"\")","v":""},{"$f":"IF(AND(Résumé!$B28=1,FORM!$T59=\"Yes\"),FORM!$S59,\"\")","v":""},{"$f":"IF(AND(Résumé!$B28=1,FORM!$T59=\"\"),\"\",IF(AND(Résumé!$B28=1,FORM!$T59>\"\"),FORM!$T59,\"\"))","v":""},{"$f":"IF(D29>\"0\",FORM!$I$24&\" \"&FORM!$J$24&\" \"&FORM!$M$24&\" - \"&FORM!$O$24,\"\")","v":""}]
[null,null,{"$f":"IF(Résumé!$B29=1,Résumé!$D29,\"\")","v":""},{"$f":"IF(Résumé!$B29=1,Résumé!E29,\"\")","v":""},{"$f":"IF(Résumé!$B29=0,\"\",Résumé!$G29)","v":""},{"$f":"IF(Résumé!$B29=0,\"\",IF(FORM!$H60=\"No\",\"PAS DE TRANSPORT\",\"OK\"))","v":""},{"$f":"IF(Résumé!$B29=1,FORM!$I60,\"\")","v":""},{"$f":"IF(Résumé!$B29=1,FORM!$J60,\"\")","v":""},{"$f":"IF(Résumé!$B29=1,FORM!$K60,\"\")","v":""},{"$f":"IF(Résumé!$B29=1,INT(I30/2*24)*2&\" - \"&INT(I30/2*24)*2+2&\" heures\",\"\")","v":""},{"$f":"IF(Résumé!$B29=1,FORM!$L60,\"\")","v":""},{"$f":"IF(Résumé!$B29=1,FORM!$M60,\"\")","v":""},{"$f":"IF(AND(Résumé!$B29=1,$F30=\"OK\"),FORM!$N60,\"\")","v":""},{"$f":"IF(Résumé!$B29=1,FORM!$O60,\"\")","v":""},{"$f":"IF(AND(Résumé!$B29=1,FORM!$T60=\"Yes\"),FORM!$P60,\"\")","v":""},{"$f":"IF(AND(Résumé!$B29=1,FORM!$T60=\"Yes\"),FORM!$Q60,\"\")","v":""},{"$f":"IF(AND(Résumé!$B29=1,FORM!$T60=\"Yes\"),INT(P30/2*24)*2&\" - \"&INT(P30/2*24)*2+2&\" heures\",\"\")","v":""},{"$f":"IF(AND(Résumé!$B29=1,FORM!$T60=\"Yes\"),FORM!$R60,\"\")","v":""},{"$f":"IF(AND(Résumé!$B29=1,FORM!$T60=\"Yes\"),FORM!$S60,\"\")","v":""},{"$f":"IF(AND(Résumé!$B29=1,FORM!$T60=\"\"),\"\",IF(AND(Résumé!$B29=1,FORM!$T60>\"\"),FORM!$T60,\"\"))","v":""},{"$f":"IF(D30>\"0\",FORM!$I$24&\" \"&FORM!$J$24&\" \"&FORM!$M$24&\" - \"&FORM!$O$24,\"\")","v":""}]
[null,null,{"$f":"IF(Résumé!$B30=1,Résumé!$D30,\"\")","v":""},{"$f":"IF(Résumé!$B30=1,Résumé!E30,\"\")","v":""},{"$f":"IF(Résumé!$B30=0,\"\",Résumé!$G30)","v":""},{"$f":"IF(Résumé!$B30=0,\"\",IF(FORM!$H61=\"No\",\"PAS DE TRANSPORT\",\"OK\"))","v":""},{"$f":"IF(Résumé!$B30=1,FORM!$I61,\"\")","v":""},{"$f":"IF(Résumé!$B30=1,FORM!$J61,\"\")","v":""},{"$f":"IF(Résumé!$B30=1,FORM!$K61,\"\")","v":""},{"$f":"IF(Résumé!$B30=1,INT(I31/2*24)*2&\" - \"&INT(I31/2*24)*2+2&\" heures\",\"\")","v":""},{"$f":"IF(Résumé!$B30=1,FORM!$L61,\"\")","v":""},{"$f":"IF(Résumé!$B30=1,FORM!$M61,\"\")","v":""},{"$f":"IF(AND(Résumé!$B30=1,$F31=\"OK\"),FORM!$N61,\"\")","v":""},{"$f":"IF(Résumé!$B30=1,FORM!$O61,\"\")","v":""},{"$f":"IF(AND(Résumé!$B30=1,FORM!$T61=\"Yes\"),FORM!$P61,\"\")","v":""},{"$f":"IF(AND(Résumé!$B30=1,FORM!$T61=\"Yes\"),FORM!$Q61,\"\")","v":""},{"$f":"IF(AND(Résumé!$B30=1,FORM!$T61=\"Yes\"),INT(P31/2*24)*2&\" - \"&INT(P31/2*24)*2+2&\" heures\",\"\")","v":""},{"$f":"IF(AND(Résumé!$B30=1,FORM!$T61=\"Yes\"),FORM!$R61,\"\")","v":""},{"$f":"IF(AND(Résumé!$B30=1,FORM!$T61=\"Yes\"),FORM!$S61,\"\")","v":""},{"$f":"IF(AND(Résumé!$B30=1,FORM!$T61=\"\"),\"\",IF(AND(Résumé!$B30=1,FORM!$T61>\"\"),FORM!$T61,\"\"))","v":""},{"$f":"IF(D31>\"0\",FORM!$I$24&\" \"&FORM!$J$24&\" \"&FORM!$M$24&\" - \"&FORM!$O$24,\"\")","v":""}]
[null,null,{"$f":"IF(Résumé!$B31=1,Résumé!$D31,\"\")","v":""},{"$f":"IF(Résumé!$B31=1,Résumé!E31,\"\")","v":""},{"$f":"IF(Résumé!$B31=0,\"\",Résumé!$G31)","v":""},{"$f":"IF(Résumé!$B31=0,\"\",IF(FORM!$H62=\"No\",\"PAS DE TRANSPORT\",\"OK\"))","v":""},{"$f":"IF(Résumé!$B31=1,FORM!$I62,\"\")","v":""},{"$f":"IF(Résumé!$B31=1,FORM!$J62,\"\")","v":""},{"$f":"IF(Résumé!$B31=1,FORM!$K62,\"\")","v":""},{"$f":"IF(Résumé!$B31=1,INT(I32/2*24)*2&\" - \"&INT(I32/2*24)*2+2&\" heures\",\"\")","v":""},{"$f":"IF(Résumé!$B31=1,FORM!$L62,\"\")","v":""},{"$f":"IF(Résumé!$B31=1,FORM!$M62,\"\")","v":""},{"$f":"IF(AND(Résumé!$B31=1,$F32=\"OK\"),FORM!$N62,\"\")","v":""},{"$f":"IF(Résumé!$B31=1,FORM!$O62,\"\")","v":""},{"$f":"IF(AND(Résumé!$B31=1,FORM!$T62=\"Yes\"),FORM!$P62,\"\")","v":""},{"$f":"IF(AND(Résumé!$B31=1,FORM!$T62=\"Yes\"),FORM!$Q62,\"\")","v":""},{"$f":"IF(AND(Résumé!$B31=1,FORM!$T62=\"Yes\"),INT(P32/2*24)*2&\" - \"&INT(P32/2*24)*2+2&\" heures\",\"\")","v":""},{"$f":"IF(AND(Résumé!$B31=1,FORM!$T62=\"Yes\"),FORM!$R62,\"\")","v":""},{"$f":"IF(AND(Résumé!$B31=1,FORM!$T62=\"Yes\"),FORM!$S62,\"\")","v":""},{"$f":"IF(AND(Résumé!$B31=1,FORM!$T62=\"\"),\"\",IF(AND(Résumé!$B31=1,FORM!$T62>\"\"),FORM!$T62,\"\"))","v":""},{"$f":"IF(D32>\"0\",FORM!$I$24&\" \"&FORM!$J$24&\" \"&FORM!$M$24&\" - \"&FORM!$O$24,\"\")","v":""}]
[null,null,{"$f":"IF(Résumé!$B32=1,Résumé!$D32,\"\")","v":""},{"$f":"IF(Résumé!$B32=1,Résumé!E32,\"\")","v":""},{"$f":"IF(Résumé!$B32=0,\"\",Résumé!$G32)","v":""},{"$f":"IF(Résumé!$B32=0,\"\",IF(FORM!$H63=\"No\",\"PAS DE TRANSPORT\",\"OK\"))","v":""},{"$f":"IF(Résumé!$B32=1,FORM!$I63,\"\")","v":""},{"$f":"IF(Résumé!$B32=1,FORM!$J63,\"\")","v":""},{"$f":"IF(Résumé!$B32=1,FORM!$K63,\"\")","v":""},{"$f":"IF(Résumé!$B32=1,INT(I33/2*24)*2&\" - \"&INT(I33/2*24)*2+2&\" heures\",\"\")","v":""},{"$f":"IF(Résumé!$B32=1,FORM!$L63,\"\")","v":""},{"$f":"IF(Résumé!$B32=1,FORM!$M63,\"\")","v":""},{"$f":"IF(AND(Résumé!$B32=1,$F33=\"OK\"),FORM!$N63,\"\")","v":""},{"$f":"IF(Résumé!$B32=1,FORM!$O63,\"\")","v":""},{"$f":"IF(AND(Résumé!$B32=1,FORM!$T63=\"Yes\"),FORM!$P63,\"\")","v":""},{"$f":"IF(AND(Résumé!$B32=1,FORM!$T63=\"Yes\"),FORM!$Q63,\"\")","v":""},{"$f":"IF(AND(Résumé!$B32=1,FORM!$T63=\"Yes\"),INT(P33/2*24)*2&\" - \"&INT(P33/2*24)*2+2&\" heures\",\"\")","v":""},{"$f":"IF(AND(Résumé!$B32=1,FORM!$T63=\"Yes\"),FORM!$R63,\"\")","v":""},{"$f":"IF(AND(Résumé!$B32=1,FORM!$T63=\"Yes\"),FORM!$S63,\"\")","v":""},{"$f":"IF(AND(Résumé!$B32=1,FORM!$T63=\"\"),\"\",IF(AND(Résumé!$B32=1,FORM!$T63>\"\"),FORM!$T63,\"\"))","v":""},{"$f":"IF(D33>\"0\",FORM!$I$24&\" \"&FORM!$J$24&\" \"&FORM!$M$24&\" - \"&FORM!$O$24,\"\")","v":""}]
[null,null,{"$f":"IF(Résumé!$B33=1,Résumé!$D33,\"\")","v":""},{"$f":"IF(Résumé!$B33=1,Résumé!E33,\"\")","v":""},{"$f":"IF(Résumé!$B33=0,\"\",Résumé!$G33)","v":""},{"$f":"IF(Résumé!$B33=0,\"\",IF(FORM!$H64=\"No\",\"PAS DE TRANSPORT\",\"OK\"))","v":""},{"$f":"IF(Résumé!$B33=1,FORM!$I64,\"\")","v":""},{"$f":"IF(Résumé!$B33=1,FORM!$J64,\"\")","v":""},{"$f":"IF(Résumé!$B33=1,FORM!$K64,\"\")","v":""},{"$f":"IF(Résumé!$B33=1,INT(I34/2*24)*2&\" - \"&INT(I34/2*24)*2+2&\" heures\",\"\")","v":""},{"$f":"IF(Résumé!$B33=1,FORM!$L64,\"\")","v":""},{"$f":"IF(Résumé!$B33=1,FORM!$M64,\"\")","v":""},{"$f":"IF(AND(Résumé!$B33=1,$F34=\"OK\"),FORM!$N64,\"\")","v":""},{"$f":"IF(Résumé!$B33=1,FORM!$O64,\"\")","v":""},{"$f":"IF(AND(Résumé!$B33=1,FORM!$T64=\"Yes\"),FORM!$P64,\"\")","v":""},{"$f":"IF(AND(Résumé!$B33=1,FORM!$T64=\"Yes\"),FORM!$Q64,\"\")","v":""},{"$f":"IF(AND(Résumé!$B33=1,FORM!$T64=\"Yes\"),INT(P34/2*24)*2&\" - \"&INT(P34/2*24)*2+2&\" heures\",\"\")","v":""},{"$f":"IF(AND(Résumé!$B33=1,FORM!$T64=\"Yes\"),FORM!$R64,\"\")","v":""},{"$f":"IF(AND(Résumé!$B33=1,FORM!$T64=\"Yes\"),FORM!$S64,\"\")","v":""},{"$f":"IF(AND(Résumé!$B33=1,FORM!$T64=\"\"),\"\",IF(AND(Résumé!$B33=1,FORM!$T64>\"\"),FORM!$T64,\"\"))","v":""},{"$f":"IF(D34>\"0\",FORM!$I$24&\" \"&FORM!$J$24&\" \"&FORM!$M$24&\" - \"&FORM!$O$24,\"\")","v":""}]
[null,null,{"$f":"IF(Résumé!$B34=1,Résumé!$D34,\"\")","v":""},{"$f":"IF(Résumé!$B34=1,Résumé!E34,\"\")","v":""},{"$f":"IF(Résumé!$B34=0,\"\",Résumé!$G34)","v":""},{"$f":"IF(Résumé!$B34=0,\"\",IF(FORM!$H65=\"No\",\"PAS DE TRANSPORT\",\"OK\"))","v":""},{"$f":"IF(Résumé!$B34=1,FORM!$I65,\"\")","v":""},{"$f":"IF(Résumé!$B34=1,FORM!$J65,\"\")","v":""},{"$f":"IF(Résumé!$B34=1,FORM!$K65,\"\")","v":""},{"$f":"IF(Résumé!$B34=1,INT(I35/2*24)*2&\" - \"&INT(I35/2*24)*2+2&\" heures\",\"\")","v":""},{"$f":"IF(Résumé!$B34=1,FORM!$L65,\"\")","v":""},{"$f":"IF(Résumé!$B34=1,FORM!$M65,\"\")","v":""},{"$f":"IF(AND(Résumé!$B34=1,$F35=\"OK\"),FORM!$N65,\"\")","v":""},{"$f":"IF(Résumé!$B34=1,FORM!$O65,\"\")","v":""},{"$f":"IF(AND(Résumé!$B34=1,FORM!$T65=\"Yes\"),FORM!$P65,\"\")","v":""},{"$f":"IF(AND(Résumé!$B34=1,FORM!$T65=\"Yes\"),FORM!$Q65,\"\")","v":""},{"$f":"IF(AND(Résumé!$B34=1,FORM!$T65=\"Yes\"),INT(P35/2*24)*2&\" - \"&INT(P35/2*24)*2+2&\" heures\",\"\")","v":""},{"$f":"IF(AND(Résumé!$B34=1,FORM!$T65=\"Yes\"),FORM!$R65,\"\")","v":""},{"$f":"IF(AND(Résumé!$B34=1,FORM!$T65=\"Yes\"),FORM!$S65,\"\")","v":""},{"$f":"IF(AND(Résumé!$B34=1,FORM!$T65=\"\"),\"\",IF(AND(Résumé!$B34=1,FORM!$T65>\"\"),FORM!$T65,\"\"))","v":""},{"$f":"IF(D35>\"0\",FORM!$I$24&\" \"&FORM!$J$24&\" \"&FORM!$M$24&\" - \"&FORM!$O$24,\"\")","v":""}]
[null,null,{"$f":"IF(Résumé!$B35=1,Résumé!$D35,\"\")","v":""},{"$f":"IF(Résumé!$B35=1,Résumé!E35,\"\")","v":""},{"$f":"IF(Résumé!$B35=0,\"\",Résumé!$G35)","v":""},{"$f":"IF(Résumé!$B35=0,\"\",IF(FORM!$H66=\"No\",\"PAS DE TRANSPORT\",\"OK\"))","v":""},{"$f":"IF(Résumé!$B35=1,FORM!$I66,\"\")","v":""},{"$f":"IF(Résumé!$B35=1,FORM!$J66,\"\")","v":""},{"$f":"IF(Résumé!$B35=1,FORM!$K66,\"\")","v":""},{"$f":"IF(Résumé!$B35=1,INT(I36/2*24)*2&\" - \"&INT(I36/2*24)*2+2&\" heures\",\"\")","v":""},{"$f":"IF(Résumé!$B35=1,FORM!$L66,\"\")","v":""},{"$f":"IF(Résumé!$B35=1,FORM!$M66,\"\")","v":""},{"$f":"IF(AND(Résumé!$B35=1,$F36=\"OK\"),FORM!$N66,\"\")","v":""},{"$f":"IF(Résumé!$B35=1,FORM!$O66,\"\")","v":""},{"$f":"IF(AND(Résumé!$B35=1,FORM!$T66=\"Yes\"),FORM!$P66,\"\")","v":""},{"$f":"IF(AND(Résumé!$B35=1,FORM!$T66=\"Yes\"),FORM!$Q66,\"\")","v":""},{"$f":"IF(AND(Résumé!$B35=1,FORM!$T66=\"Yes\"),INT(P36/2*24)*2&\" - \"&INT(P36/2*24)*2+2&\" heures\",\"\")","v":""},{"$f":"IF(AND(Résumé!$B35=1,FORM!$T66=\"Yes\"),FORM!$R66,\"\")","v":""},{"$f":"IF(AND(Résumé!$B35=1,FORM!$T66=\"Yes\"),FORM!$S66,\"\")","v":""},{"$f":"IF(AND(Résumé!$B35=1,FORM!$T66=\"\"),\"\",IF(AND(Résumé!$B35=1,FORM!$T66>\"\"),FORM!$T66,\"\"))","v":""},{"$f":"IF(D36>\"0\",FORM!$I$24&\" \"&FORM!$J$24&\" \"&FORM!$M$24&\" - \"&FORM!$O$24,\"\")","v":""}]
[null,null,{"$f":"IF(Résumé!$B36=1,Résumé!$D36,\"\")","v":""},{"$f":"IF(Résumé!$B36=1,Résumé!E36,\"\")","v":""},{"$f":"IF(Résumé!$B36=0,\"\",Résumé!$G36)","v":""},{"$f":"IF(Résumé!$B36=0,\"\",IF(FORM!$H67=\"No\",\"PAS DE TRANSPORT\",\"OK\"))","v":""},{"$f":"IF(Résumé!$B36=1,FORM!$I67,\"\")","v":""},{"$f":"IF(Résumé!$B36=1,FORM!$J67,\"\")","v":""},{"$f":"IF(Résumé!$B36=1,FORM!$K67,\"\")","v":""},{"$f":"IF(Résumé!$B36=1,INT(I37/2*24)*2&\" - \"&INT(I37/2*24)*2+2&\" heures\",\"\")","v":""},{"$f":"IF(Résumé!$B36=1,FORM!$L67,\"\")","v":""},{"$f":"IF(Résumé!$B36=1,FORM!$M67,\"\")","v":""},{"$f":"IF(AND(Résumé!$B36=1,$F37=\"OK\"),FORM!$N67,\"\")","v":""},{"$f":"IF(Résumé!$B36=1,FORM!$O67,\"\")","v":""},{"$f":"IF(AND(Résumé!$B36=1,FORM!$T67=\"Yes\"),FORM!$P67,\"\")","v":""},{"$f":"IF(AND(Résumé!$B36=1,FORM!$T67=\"Yes\"),FORM!$Q67,\"\")","v":""},{"$f":"IF(AND(Résumé!$B36=1,FORM!$T67=\"Yes\"),INT(P37/2*24)*2&\" - \"&INT(P37/2*24)*2+2&\" heures\",\"\")","v":""},{"$f":"IF(AND(Résumé!$B36=1,FORM!$T67=\"Yes\"),FORM!$R67,\"\")","v":""},{"$f":"IF(AND(Résumé!$B36=1,FORM!$T67=\"Yes\"),FORM!$S67,\"\")","v":""},{"$f":"IF(AND(Résumé!$B36=1,FORM!$T67=\"\"),\"\",IF(AND(Résumé!$B36=1,FORM!$T67>\"\"),FORM!$T67,\"\"))","v":""},{"$f":"IF(D37>\"0\",FORM!$I$24&\" \"&FORM!$J$24&\" \"&FORM!$M$24&\" - \"&FORM!$O$24,\"\")","v":""}]
[null,null,{"$f":"IF(Résumé!$B37=1,Résumé!$D37,\"\")","v":""},{"$f":"IF(Résumé!$B37=1,Résumé!E37,\"\")","v":""},{"$f":"IF(Résumé!$B37=0,\"\",Résumé!$G37)","v":""},{"$f":"IF(Résumé!$B37=0,\"\",IF(FORM!$H68=\"No\",\"PAS DE TRANSPORT\",\"OK\"))","v":""},{"$f":"IF(Résumé!$B37=1,FORM!$I68,\"\")","v":""},{"$f":"IF(Résumé!$B37=1,FORM!$J68,\"\")","v":""},{"$f":"IF(Résumé!$B37=1,FORM!$K68,\"\")","v":""},{"$f":"IF(Résumé!$B37=1,INT(I38/2*24)*2&\" - \"&INT(I38/2*24)*2+2&\" heures\",\"\")","v":""},{"$f":"IF(Résumé!$B37=1,FORM!$L68,\"\")","v":""},{"$f":"IF(Résumé!$B37=1,FORM!$M68,\"\")","v":""},{"$f":"IF(AND(Résumé!$B37=1,$F38=\"OK\"),FORM!$N68,\"\")","v":""},{"$f":"IF(Résumé!$B37=1,FORM!$O68,\"\")","v":""},{"$f":"IF(AND(Résumé!$B37=1,FORM!$T68=\"Yes\"),FORM!$P68,\"\")","v":""},{"$f":"IF(AND(Résumé!$B37=1,FORM!$T68=\"Yes\"),FORM!$Q68,\"\")","v":""},{"$f":"IF(AND(Résumé!$B37=1,FORM!$T68=\"Yes\"),INT(P38/2*24)*2&\" - \"&INT(P38/2*24)*2+2&\" heures\",\"\")","v":""},{"$f":"IF(AND(Résumé!$B37=1,FORM!$T68=\"Yes\"),FORM!$R68,\"\")","v":""},{"$f":"IF(AND(Résumé!$B37=1,FORM!$T68=\"Yes\"),FORM!$S68,\"\")","v":""},{"$f":"IF(AND(Résumé!$B37=1,FORM!$T68=\"\"),\"\",IF(AND(Résumé!$B37=1,FORM!$T68>\"\"),FORM!$T68,\"\"))","v":""},{"$f":"IF(D38>\"0\",FORM!$I$24&\" \"&FORM!$J$24&\" \"&FORM!$M$24&\" - \"&FORM!$O$24,\"\")","v":""}]
[null,null,{"$f":"IF(Résumé!$B38=1,Résumé!$D38,\"\")","v":""},{"$f":"IF(Résumé!$B38=1,Résumé!E38,\"\")","v":""},{"$f":"IF(Résumé!$B38=0,\"\",Résumé!$G38)","v":""},{"$f":"IF(Résumé!$B38=0,\"\",IF(FORM!$H69=\"No\",\"PAS DE TRANSPORT\",\"OK\"))","v":""},{"$f":"IF(Résumé!$B38=1,FORM!$I69,\"\")","v":""},{"$f":"IF(Résumé!$B38=1,FORM!$J69,\"\")","v":""},{"$f":"IF(Résumé!$B38=1,FORM!$K69,\"\")","v":""},{"$f":"IF(Résumé!$B38=1,INT(I39/2*24)*2&\" - \"&INT(I39/2*24)*2+2&\" heures\",\"\")","v":""},{"$f":"IF(Résumé!$B38=1,FORM!$L69,\"\")","v":""},{"$f":"IF(Résumé!$B38=1,FORM!$M69,\"\")","v":""},{"$f":"IF(AND(Résumé!$B38=1,$F39=\"OK\"),FORM!$N69,\"\")","v":""},{"$f":"IF(Résumé!$B38=1,FORM!$O69,\"\")","v":""},{"$f":"IF(AND(Résumé!$B38=1,FORM!$T69=\"Yes\"),FORM!$P69,\"\")","v":""},{"$f":"IF(AND(Résumé!$B38=1,FORM!$T69=\"Yes\"),FORM!$Q69,\"\")","v":""},{"$f":"IF(AND(Résumé!$B38=1,FORM!$T69=\"Yes\"),INT(P39/2*24)*2&\" - \"&INT(P39/2*24)*2+2&\" heures\",\"\")","v":""},{"$f":"IF(AND(Résumé!$B38=1,FORM!$T69=\"Yes\"),FORM!$R69,\"\")","v":""},{"$f":"IF(AND(Résumé!$B38=1,FORM!$T69=\"Yes\"),FORM!$S69,\"\")","v":""},{"$f":"IF(AND(Résumé!$B38=1,FORM!$T69=\"\"),\"\",IF(AND(Résumé!$B38=1,FORM!$T69>\"\"),FORM!$T69,\"\"))","v":""},{"$f":"IF(D39>\"0\",FORM!$I$24&\" \"&FORM!$J$24&\" \"&FORM!$M$24&\" - \"&FORM!$O$24,\"\")","v":""}]
[null,null,{"$f":"IF(Résumé!$B39=1,Résumé!$D39,\"\")","v":""},{"$f":"IF(Résumé!$B39=1,Résumé!E39,\"\")","v":""},{"$f":"IF(Résumé!$B39=0,\"\",Résumé!$G39)","v":""},{"$f":"IF(Résumé!$B39=0,\"\",IF(FORM!$H70=\"No\",\"PAS DE TRANSPORT\",\"OK\"))","v":""},{"$f":"IF(Résumé!$B39=1,FORM!$I70,\"\")","v":""},{"$f":"IF(Résumé!$B39=1,FORM!$J70,\"\")","v":""},{"$f":"IF(Résumé!$B39=1,FORM!$K70,\"\")","v":""},{"$f":"IF(Résumé!$B39=1,INT(I40/2*24)*2&\" - \"&INT(I40/2*24)*2+2&\" heures\",\"\")","v":""},{"$f":"IF(Résumé!$B39=1,FORM!$L70,\"\")","v":""},{"$f":"IF(Résumé!$B39=1,FORM!$M70,\"\")","v":""},{"$f":"IF(AND(Résumé!$B39=1,$F40=\"OK\"),FORM!$N70,\"\")","v":""},{"$f":"IF(Résumé!$B39=1,FORM!$O70,\"\")","v":""},{"$f":"IF(AND(Résumé!$B39=1,FORM!$T70=\"Yes\"),FORM!$P70,\"\")","v":""},{"$f":"IF(AND(Résumé!$B39=1,FORM!$T70=\"Yes\"),FORM!$Q70,\"\")","v":""},{"$f":"IF(AND(Résumé!$B39=1,FORM!$T70=\"Yes\"),INT(P40/2*24)*2&\" - \"&INT(P40/2*24)*2+2&\" heures\",\"\")","v":""},{"$f":"IF(AND(Résumé!$B39=1,FORM!$T70=\"Yes\"),FORM!$R70,\"\")","v":""},{"$f":"IF(AND(Résumé!$B39=1,FORM!$T70=\"Yes\"),FORM!$S70,\"\")","v":""},{"$f":"IF(AND(Résumé!$B39=1,FORM!$T70=\"\"),\"\",IF(AND(Résumé!$B39=1,FORM!$T70>\"\"),FORM!$T70,\"\"))","v":""},{"$f":"IF(D40>\"0\",FORM!$I$24&\" \"&FORM!$J$24&\" \"&FORM!$M$24&\" - \"&FORM!$O$24,\"\")","v":""}]
[null,null,{"$f":"IF(Résumé!$B40=1,Résumé!$D40,\"\")","v":""},{"$f":"IF(Résumé!$B40=1,Résumé!E40,\"\")","v":""},{"$f":"IF(Résumé!$B40=0,\"\",Résumé!$G40)","v":""},{"$f":"IF(Résumé!$B40=0,\"\",IF(FORM!$H71=\"No\",\"PAS DE TRANSPORT\",\"OK\"))","v":""},{"$f":"IF(Résumé!$B40=1,FORM!$I71,\"\")","v":""},{"$f":"IF(Résumé!$B40=1,FORM!$J71,\"\")","v":""},{"$f":"IF(Résumé!$B40=1,FORM!$K71,\"\")","v":""},{"$f":"IF(Résumé!$B40=1,INT(I41/2*24)*2&\" - \"&INT(I41/2*24)*2+2&\" heures\",\"\")","v":""},{"$f":"IF(Résumé!$B40=1,FORM!$L71,\"\")","v":""},{"$f":"IF(Résumé!$B40=1,FORM!$M71,\"\")","v":""},{"$f":"IF(AND(Résumé!$B40=1,$F41=\"OK\"),FORM!$N71,\"\")","v":""},{"$f":"IF(Résumé!$B40=1,FORM!$O71,\"\")","v":""},{"$f":"IF(AND(Résumé!$B40=1,FORM!$T71=\"Yes\"),FORM!$P71,\"\")","v":""},{"$f":"IF(AND(Résumé!$B40=1,FORM!$T71=\"Yes\"),FORM!$Q71,\"\")","v":""},{"$f":"IF(AND(Résumé!$B40=1,FORM!$T71=\"Yes\"),INT(P41/2*24)*2&\" - \"&INT(P41/2*24)*2+2&\" heures\",\"\")","v":""},{"$f":"IF(AND(Résumé!$B40=1,FORM!$T71=\"Yes\"),FORM!$R71,\"\")","v":""},{"$f":"IF(AND(Résumé!$B40=1,FORM!$T71=\"Yes\"),FORM!$S71,\"\")","v":""},{"$f":"IF(AND(Résumé!$B40=1,FORM!$T71=\"\"),\"\",IF(AND(Résumé!$B40=1,FORM!$T71>\"\"),FORM!$T71,\"\"))","v":""},{"$f":"IF(D41>\"0\",FORM!$I$24&\" \"&FORM!$J$24&\" \"&FORM!$M$24&\" - \"&FORM!$O$24,\"\")","v":""}]
[null,null,{"$f":"IF(Résumé!$B41=1,Résumé!$D41,\"\")","v":""},{"$f":"IF(Résumé!$B41=1,Résumé!E41,\"\")","v":""},{"$f":"IF(Résumé!$B41=0,\"\",Résumé!$G41)","v":""},{"$f":"IF(Résumé!$B41=0,\"\",IF(FORM!$H72=\"No\",\"PAS DE TRANSPORT\",\"OK\"))","v":""},{"$f":"IF(Résumé!$B41=1,FORM!$I72,\"\")","v":""},{"$f":"IF(Résumé!$B41=1,FORM!$J72,\"\")","v":""},{"$f":"IF(Résumé!$B41=1,FORM!$K72,\"\")","v":""},{"$f":"IF(Résumé!$B41=1,INT(I42/2*24)*2&\" - \"&INT(I42/2*24)*2+2&\" heures\",\"\")","v":""},{"$f":"IF(Résumé!$B41=1,FORM!$L72,\"\")","v":""},{"$f":"IF(Résumé!$B41=1,FORM!$M72,\"\")","v":""},{"$f":"IF(AND(Résumé!$B41=1,$F42=\"OK\"),FORM!$N72,\"\")","v":""},{"$f":"IF(Résumé!$B41=1,FORM!$O72,\"\")","v":""},{"$f":"IF(AND(Résumé!$B41=1,FORM!$T72=\"Yes\"),FORM!$P72,\"\")","v":""},{"$f":"IF(AND(Résumé!$B41=1,FORM!$T72=\"Yes\"),FORM!$Q72,\"\")","v":""},{"$f":"IF(AND(Résumé!$B41=1,FORM!$T72=\"Yes\"),INT(P42/2*24)*2&\" - \"&INT(P42/2*24)*2+2&\" heures\",\"\")","v":""},{"$f":"IF(AND(Résumé!$B41=1,FORM!$T72=\"Yes\"),FORM!$R72,\"\")","v":""},{"$f":"IF(AND(Résumé!$B41=1,FORM!$T72=\"Yes\"),FORM!$S72,\"\")","v":""},{"$f":"IF(AND(Résumé!$B41=1,FORM!$T72=\"\"),\"\",IF(AND(Résumé!$B41=1,FORM!$T72>\"\"),FORM!$T72,\"\"))","v":""},{"$f":"IF(D42>\"0\",FORM!$I$24&\" \"&FORM!$J$24&\" \"&FORM!$M$24&\" - \"&FORM!$O$24,\"\")","v":""}]
[null,null,{"$f":"IF(Résumé!$B42=1,Résumé!$D42,\"\")","v":""},{"$f":"IF(Résumé!$B42=1,Résumé!E42,\"\")","v":""},{"$f":"IF(Résumé!$B42=0,\"\",Résumé!$G42)","v":""},{"$f":"IF(Résumé!$B42=0,\"\",IF(FORM!$H73=\"No\",\"PAS DE TRANSPORT\",\"OK\"))","v":""},{"$f":"IF(Résumé!$B42=1,FORM!$I73,\"\")","v":""},{"$f":"IF(Résumé!$B42=1,FORM!$J73,\"\")","v":""},{"$f":"IF(Résumé!$B42=1,FORM!$K73,\"\")","v":""},{"$f":"IF(Résumé!$B42=1,INT(I43/2*24)*2&\" - \"&INT(I43/2*24)*2+2&\" heures\",\"\")","v":""},{"$f":"IF(Résumé!$B42=1,FORM!$L73,\"\")","v":""},{"$f":"IF(Résumé!$B42=1,FORM!$M73,\"\")","v":""},{"$f":"IF(AND(Résumé!$B42=1,$F43=\"OK\"),FORM!$N73,\"\")","v":""},{"$f":"IF(Résumé!$B42=1,FORM!$O73,\"\")","v":""},{"$f":"IF(AND(Résumé!$B42=1,FORM!$T73=\"Yes\"),FORM!$P73,\"\")","v":""},{"$f":"IF(AND(Résumé!$B42=1,FORM!$T73=\"Yes\"),FORM!$Q73,\"\")","v":""},{"$f":"IF(AND(Résumé!$B42=1,FORM!$T73=\"Yes\"),INT(P43/2*24)*2&\" - \"&INT(P43/2*24)*2+2&\" heures\",\"\")","v":""},{"$f":"IF(AND(Résumé!$B42=1,FORM!$T73=\"Yes\"),FORM!$R73,\"\")","v":""},{"$f":"IF(AND(Résumé!$B42=1,FORM!$T73=\"Yes\"),FORM!$S73,\"\")","v":""},{"$f":"IF(AND(Résumé!$B42=1,FORM!$T73=\"\"),\"\",IF(AND(Résumé!$B42=1,FORM!$T73>\"\"),FORM!$T73,\"\"))","v":""},{"$f":"IF(D43>\"0\",FORM!$I$24&\" \"&FORM!$J$24&\" \"&FORM!$M$24&\" - \"&FORM!$O$24,\"\")","v":""}]
[null,null,{"$f":"IF(Résumé!$B43=1,Résumé!$D43,\"\")","v":""},{"$f":"IF(Résumé!$B43=1,Résumé!E43,\"\")","v":""},{"$f":"IF(Résumé!$B43=0,\"\",Résumé!$G43)","v":""},{"$f":"IF(Résumé!$B43=0,\"\",IF(FORM!$H74=\"No\",\"PAS DE TRANSPORT\",\"OK\"))","v":""},{"$f":"IF(Résumé!$B43=1,FORM!$I74,\"\")","v":""},{"$f":"IF(Résumé!$B43=1,FORM!$J74,\"\")","v":""},{"$f":"IF(Résumé!$B43=1,FORM!$K74,\"\")","v":""},{"$f":"IF(Résumé!$B43=1,INT(I44/2*24)*2&\" - \"&INT(I44/2*24)*2+2&\" heures\",\"\")","v":""},{"$f":"IF(Résumé!$B43=1,FORM!$L74,\"\")","v":""},{"$f":"IF(Résumé!$B43=1,FORM!$M74,\"\")","v":""},{"$f":"IF(AND(Résumé!$B43=1,$F44=\"OK\"),FORM!$N74,\"\")","v":""},{"$f":"IF(Résumé!$B43=1,FORM!$O74,\"\")","v":""},{"$f":"IF(AND(Résumé!$B43=1,FORM!$T74=\"Yes\"),FORM!$P74,\"\")","v":""},{"$f":"IF(AND(Résumé!$B43=1,FORM!$T74=\"Yes\"),FORM!$Q74,\"\")","v":""},{"$f":"IF(AND(Résumé!$B43=1,FORM!$T74=\"Yes\"),INT(P44/2*24)*2&\" - \"&INT(P44/2*24)*2+2&\" heures\",\"\")","v":""},{"$f":"IF(AND(Résumé!$B43=1,FORM!$T74=\"Yes\"),FORM!$R74,\"\")","v":""},{"$f":"IF(AND(Résumé!$B43=1,FORM!$T74=\"Yes\"),FORM!$S74,\"\")","v":""},{"$f":"IF(AND(Résumé!$B43=1,FORM!$T74=\"\"),\"\",IF(AND(Résumé!$B43=1,FORM!$T74>\"\"),FORM!$T74,\"\"))","v":""},{"$f":"IF(D44>\"0\",FORM!$I$24&\" \"&FORM!$J$24&\" \"&FORM!$M$24&\" - \"&FORM!$O$24,\"\")","v":""}]
[null,null,{"$f":"IF(Résumé!$B44=1,Résumé!$D44,\"\")","v":""},{"$f":"IF(Résumé!$B44=1,Résumé!E44,\"\")","v":""},{"$f":"IF(Résumé!$B44=0,\"\",Résumé!$G44)","v":""},{"$f":"IF(Résumé!$B44=0,\"\",IF(FORM!$H75=\"No\",\"PAS DE TRANSPORT\",\"OK\"))","v":""},{"$f":"IF(Résumé!$B44=1,FORM!$I75,\"\")","v":""},{"$f":"IF(Résumé!$B44=1,FORM!$J75,\"\")","v":""},{"$f":"IF(Résumé!$B44=1,FORM!$K75,\"\")","v":""},{"$f":"IF(Résumé!$B44=1,INT(I45/2*24)*2&\" - \"&INT(I45/2*24)*2+2&\" heures\",\"\")","v":""},{"$f":"IF(Résumé!$B44=1,FORM!$L75,\"\")","v":""},{"$f":"IF(Résumé!$B44=1,FORM!$M75,\"\")","v":""},{"$f":"IF(AND(Résumé!$B44=1,$F45=\"OK\"),FORM!$N75,\"\")","v":""},{"$f":"IF(Résumé!$B44=1,FORM!$O75,\"\")","v":""},{"$f":"IF(AND(Résumé!$B44=1,FORM!$T75=\"Yes\"),FORM!$P75,\"\")","v":""},{"$f":"IF(AND(Résumé!$B44=1,FORM!$T75=\"Yes\"),FORM!$Q75,\"\")","v":""},{"$f":"IF(AND(Résumé!$B44=1,FORM!$T75=\"Yes\"),INT(P45/2*24)*2&\" - \"&INT(P45/2*24)*2+2&\" heures\",\"\")","v":""},{"$f":"IF(AND(Résumé!$B44=1,FORM!$T75=\"Yes\"),FORM!$R75,\"\")","v":""},{"$f":"IF(AND(Résumé!$B44=1,FORM!$T75=\"Yes\"),FORM!$S75,\"\")","v":""},{"$f":"IF(AND(Résumé!$B44=1,FORM!$T75=\"\"),\"\",IF(AND(Résumé!$B44=1,FORM!$T75>\"\"),FORM!$T75,\"\"))","v":""},{"$f":"IF(D45>\"0\",FORM!$I$24&\" \"&FORM!$J$24&\" \"&FORM!$M$24&\" - \"&FORM!$O$24,\"\")","v":""}]
[null,null,{"$f":"IF(Résumé!$B45=1,Résumé!$D45,\"\")","v":""},{"$f":"IF(Résumé!$B45=1,Résumé!E45,\"\")","v":""},{"$f":"IF(Résumé!$B45=0,\"\",Résumé!$G45)","v":""},{"$f":"IF(Résumé!$B45=0,\"\",IF(FORM!$H76=\"No\",\"PAS DE TRANSPORT\",\"OK\"))","v":""},{"$f":"IF(Résumé!$B45=1,FORM!$I76,\"\")","v":""},{"$f":"IF(Résumé!$B45=1,FORM!$J76,\"\")","v":""},{"$f":"IF(Résumé!$B45=1,FORM!$K76,\"\")","v":""},{"$f":"IF(Résumé!$B45=1,INT(I46/2*24)*2&\" - \"&INT(I46/2*24)*2+2&\" heures\",\"\")","v":""},{"$f":"IF(Résumé!$B45=1,FORM!$L76,\"\")","v":""},{"$f":"IF(Résumé!$B45=1,FORM!$M76,\"\")","v":""},{"$f":"IF(AND(Résumé!$B45=1,$F46=\"OK\"),FORM!$N76,\"\")","v":""},{"$f":"IF(Résumé!$B45=1,FORM!$O76,\"\")","v":""},{"$f":"IF(AND(Résumé!$B45=1,FORM!$T76=\"Yes\"),FORM!$P76,\"\")","v":""},{"$f":"IF(AND(Résumé!$B45=1,FORM!$T76=\"Yes\"),FORM!$Q76,\"\")","v":""},{"$f":"IF(AND(Résumé!$B45=1,FORM!$T76=\"Yes\"),INT(P46/2*24)*2&\" - \"&INT(P46/2*24)*2+2&\" heures\",\"\")","v":""},{"$f":"IF(AND(Résumé!$B45=1,FORM!$T76=\"Yes\"),FORM!$R76,\"\")","v":""},{"$f":"IF(AND(Résumé!$B45=1,FORM!$T76=\"Yes\"),FORM!$S76,\"\")","v":""},{"$f":"IF(AND(Résumé!$B45=1,FORM!$T76=\"\"),\"\",IF(AND(Résumé!$B45=1,FORM!$T76>\"\"),FORM!$T76,\"\"))","v":""},{"$f":"IF(D46>\"0\",FORM!$I$24&\" \"&FORM!$J$24&\" \"&FORM!$M$24&\" - \"&FORM!$O$24,\"\")","v":""}]
[null,null,{"$f":"IF(Résumé!$B46=1,Résumé!$D46,\"\")","v":""},{"$f":"IF(Résumé!$B46=1,Résumé!E46,\"\")","v":""},{"$f":"IF(Résumé!$B46=0,\"\",Résumé!$G46)","v":""},{"$f":"IF(Résumé!$B46=0,\"\",IF(FORM!$H77=\"No\",\"PAS DE TRANSPORT\",\"OK\"))","v":""},{"$f":"IF(Résumé!$B46=1,FORM!$I77,\"\")","v":""},{"$f":"IF(Résumé!$B46=1,FORM!$J77,\"\")","v":""},{"$f":"IF(Résumé!$B46=1,FORM!$K77,\"\")","v":""},{"$f":"IF(Résumé!$B46=1,INT(I47/2*24)*2&\" - \"&INT(I47/2*24)*2+2&\" heures\",\"\")","v":""},{"$f":"IF(Résumé!$B46=1,FORM!$L77,\"\")","v":""},{"$f":"IF(Résumé!$B46=1,FORM!$M77,\"\")","v":""},{"$f":"IF(AND(Résumé!$B46=1,$F47=\"OK\"),FORM!$N77,\"\")","v":""},{"$f":"IF(Résumé!$B46=1,FORM!$O77,\"\")","v":""},{"$f":"IF(AND(Résumé!$B46=1,FORM!$T77=\"Yes\"),FORM!$P77,\"\")","v":""},{"$f":"IF(AND(Résumé!$B46=1,FORM!$T77=\"Yes\"),FORM!$Q77,\"\")","v":""},{"$f":"IF(AND(Résumé!$B46=1,FORM!$T77=\"Yes\"),INT(P47/2*24)*2&\" - \"&INT(P47/2*24)*2+2&\" heures\",\"\")","v":""},{"$f":"IF(AND(Résumé!$B46=1,FORM!$T77=\"Yes\"),FORM!$R77,\"\")","v":""},{"$f":"IF(AND(Résumé!$B46=1,FORM!$T77=\"Yes\"),FORM!$S77,\"\")","v":""},{"$f":"IF(AND(Résumé!$B46=1,FORM!$T77=\"\"),\"\",IF(AND(Résumé!$B46=1,FORM!$T77>\"\"),FORM!$T77,\"\"))","v":""},{"$f":"IF(D47>\"0\",FORM!$I$24&\" \"&FORM!$J$24&\" \"&FORM!$M$24&\" - \"&FORM!$O$24,\"\")","v":""}]
[null,null,{"$f":"IF(Résumé!$B47=1,Résumé!$D47,\"\")","v":""},{"$f":"IF(Résumé!$B47=1,Résumé!E47,\"\")","v":""},{"$f":"IF(Résumé!$B47=0,\"\",Résumé!$G47)","v":""},{"$f":"IF(Résumé!$B47=0,\"\",IF(FORM!$H78=\"No\",\"PAS DE TRANSPORT\",\"OK\"))","v":""},{"$f":"IF(Résumé!$B47=1,FORM!$I78,\"\")","v":""},{"$f":"IF(Résumé!$B47=1,FORM!$J78,\"\")","v":""},{"$f":"IF(Résumé!$B47=1,FORM!$K78,\"\")","v":""},{"$f":"IF(Résumé!$B47=1,INT(I48/2*24)*2&\" - \"&INT(I48/2*24)*2+2&\" heures\",\"\")","v":""},{"$f":"IF(Résumé!$B47=1,FORM!$L78,\"\")","v":""},{"$f":"IF(Résumé!$B47=1,FORM!$M78,\"\")","v":""},{"$f":"IF(AND(Résumé!$B47=1,$F48=\"OK\"),FORM!$N78,\"\")","v":""},{"$f":"IF(Résumé!$B47=1,FORM!$O78,\"\")","v":""},{"$f":"IF(AND(Résumé!$B47=1,FORM!$T78=\"Yes\"),FORM!$P78,\"\")","v":""},{"$f":"IF(AND(Résumé!$B47=1,FORM!$T78=\"Yes\"),FORM!$Q78,\"\")","v":""},{"$f":"IF(AND(Résumé!$B47=1,FORM!$T78=\"Yes\"),INT(P48/2*24)*2&\" - \"&INT(P48/2*24)*2+2&\" heures\",\"\")","v":""},{"$f":"IF(AND(Résumé!$B47=1,FORM!$T78=\"Yes\"),FORM!$R78,\"\")","v":""},{"$f":"IF(AND(Résumé!$B47=1,FORM!$T78=\"Yes\"),FORM!$S78,\"\")","v":""},{"$f":"IF(AND(Résumé!$B47=1,FORM!$T78=\"\"),\"\",IF(AND(Résumé!$B47=1,FORM!$T78>\"\"),FORM!$T78,\"\"))","v":""},{"$f":"IF(D48>\"0\",FORM!$I$24&\" \"&FORM!$J$24&\" \"&FORM!$M$24&\" - \"&FORM!$O$24,\"\")","v":""}]
[null,null,{"$f":"IF(Résumé!$B48=1,Résumé!$D48,\"\")","v":""},{"$f":"IF(Résumé!$B48=1,Résumé!E48,\"\")","v":""},{"$f":"IF(Résumé!$B48=0,\"\",Résumé!$G48)","v":""},{"$f":"IF(Résumé!$B48=0,\"\",IF(FORM!$H79=\"No\",\"PAS DE TRANSPORT\",\"OK\"))","v":""},{"$f":"IF(Résumé!$B48=1,FORM!$I79,\"\")","v":""},{"$f":"IF(Résumé!$B48=1,FORM!$J79,\"\")","v":""},{"$f":"IF(Résumé!$B48=1,FORM!$K79,\"\")","v":""},{"$f":"IF(Résumé!$B48=1,INT(I49/2*24)*2&\" - \"&INT(I49/2*24)*2+2&\" heures\",\"\")","v":""},{"$f":"IF(Résumé!$B48=1,FORM!$L79,\"\")","v":""},{"$f":"IF(Résumé!$B48=1,FORM!$M79,\"\")","v":""},{"$f":"IF(AND(Résumé!$B48=1,$F49=\"OK\"),FORM!$N79,\"\")","v":""},{"$f":"IF(Résumé!$B48=1,FORM!$O79,\"\")","v":""},{"$f":"IF(AND(Résumé!$B48=1,FORM!$T79=\"Yes\"),FORM!$P79,\"\")","v":""},{"$f":"IF(AND(Résumé!$B48=1,FORM!$T79=\"Yes\"),FORM!$Q79,\"\")","v":""},{"$f":"IF(AND(Résumé!$B48=1,FORM!$T79=\"Yes\"),INT(P49/2*24)*2&\" - \"&INT(P49/2*24)*2+2&\" heures\",\"\")","v":""},{"$f":"IF(AND(Résumé!$B48=1,FORM!$T79=\"Yes\"),FORM!$R79,\"\")","v":""},{"$f":"IF(AND(Résumé!$B48=1,FORM!$T79=\"Yes\"),FORM!$S79,\"\")","v":""},{"$f":"IF(AND(Résumé!$B48=1,FORM!$T79=\"\"),\"\",IF(AND(Résumé!$B48=1,FORM!$T79>\"\"),FORM!$T79,\"\"))","v":""},{"$f":"IF(D49>\"0\",FORM!$I$24&\" \"&FORM!$J$24&\" \"&FORM!$M$24&\" - \"&FORM!$O$24,\"\")","v":""}]
[null,null,{"$f":"IF(Résumé!$B49=1,Résumé!$D49,\"\")","v":""},{"$f":"IF(Résumé!$B49=1,Résumé!E49,\"\")","v":""},{"$f":"IF(Résumé!$B49=0,\"\",Résumé!$G49)","v":""},{"$f":"IF(Résumé!$B49=0,\"\",IF(FORM!$H80=\"No\",\"PAS DE TRANSPORT\",\"OK\"))","v":""},{"$f":"IF(Résumé!$B49=1,FORM!$I80,\"\")","v":""},{"$f":"IF(Résumé!$B49=1,FORM!$J80,\"\")","v":""},{"$f":"IF(Résumé!$B49=1,FORM!$K80,\"\")","v":""},{"$f":"IF(Résumé!$B49=1,INT(I50/2*24)*2&\" - \"&INT(I50/2*24)*2+2&\" heures\",\"\")","v":""},{"$f":"IF(Résumé!$B49=1,FORM!$L80,\"\")","v":""},{"$f":"IF(Résumé!$B49=1,FORM!$M80,\"\")","v":""},{"$f":"IF(AND(Résumé!$B49=1,$F50=\"OK\"),FORM!$N80,\"\")","v":""},{"$f":"IF(Résumé!$B49=1,FORM!$O80,\"\")","v":""},{"$f":"IF(AND(Résumé!$B49=1,FORM!$T80=\"Yes\"),FORM!$P80,\"\")","v":""},{"$f":"IF(AND(Résumé!$B49=1,FORM!$T80=\"Yes\"),FORM!$Q80,\"\")","v":""},{"$f":"IF(AND(Résumé!$B49=1,FORM!$T80=\"Yes\"),INT(P50/2*24)*2&\" - \"&INT(P50/2*24)*2+2&\" heures\",\"\")","v":""},{"$f":"IF(AND(Résumé!$B49=1,FORM!$T80=\"Yes\"),FORM!$R80,\"\")","v":""},{"$f":"IF(AND(Résumé!$B49=1,FORM!$T80=\"Yes\"),FORM!$S80,\"\")","v":""},{"$f":"IF(AND(Résumé!$B49=1,FORM!$T80=\"\"),\"\",IF(AND(Résumé!$B49=1,FORM!$T80>\"\"),FORM!$T80,\"\"))","v":""},{"$f":"IF(D50>\"0\",FORM!$I$24&\" \"&FORM!$J$24&\" \"&FORM!$M$24&\" - \"&FORM!$O$24,\"\")","v":""}]
[null,null,{"$f":"IF(Résumé!$B50=1,Résumé!$D50,\"\")","v":""},{"$f":"IF(Résumé!$B50=1,Résumé!E50,\"\")","v":""},{"$f":"IF(Résumé!$B50=0,\"\",Résumé!$G50)","v":""},{"$f":"IF(Résumé!$B50=0,\"\",IF(FORM!$H81=\"No\",\"PAS DE TRANSPORT\",\"OK\"))","v":""},{"$f":"IF(Résumé!$B50=1,FORM!$I81,\"\")","v":""},{"$f":"IF(Résumé!$B50=1,FORM!$J81,\"\")","v":""},{"$f":"IF(Résumé!$B50=1,FORM!$K81,\"\")","v":""},{"$f":"IF(Résumé!$B50=1,INT(I51/2*24)*2&\" - \"&INT(I51/2*24)*2+2&\" heures\",\"\")","v":""},{"$f":"IF(Résumé!$B50=1,FORM!$L81,\"\")","v":""},{"$f":"IF(Résumé!$B50=1,FORM!$M81,\"\")","v":""},{"$f":"IF(AND(Résumé!$B50=1,$F51=\"OK\"),FORM!$N81,\"\")","v":""},{"$f":"IF(Résumé!$B50=1,FORM!$O81,\"\")","v":""},{"$f":"IF(AND(Résumé!$B50=1,FORM!$T81=\"Yes\"),FORM!$P81,\"\")","v":""},{"$f":"IF(AND(Résumé!$B50=1,FORM!$T81=\"Yes\"),FORM!$Q81,\"\")","v":""},{"$f":"IF(AND(Résumé!$B50=1,FORM!$T81=\"Yes\"),INT(P51/2*24)*2&\" - \"&INT(P51/2*24)*2+2&\" heures\",\"\")","v":""},{"$f":"IF(AND(Résumé!$B50=1,FORM!$T81=\"Yes\"),FORM!$R81,\"\")","v":""},{"$f":"IF(AND(Résumé!$B50=1,FORM!$T81=\"Yes\"),FORM!$S81,\"\")","v":""},{"$f":"IF(AND(Résumé!$B50=1,FORM!$T81=\"\"),\"\",IF(AND(Résumé!$B50=1,FORM!$T81>\"\"),FORM!$T81,\"\"))","v":""},{"$f":"IF(D51>\"0\",FORM!$I$24&\" \"&FORM!$J$24&\" \"&FORM!$M$24&\" - \"&FORM!$O$24,\"\")","v":""}]
[null,null,{"$f":"IF(Résumé!$B51=1,Résumé!$D51,\"\")","v":""},{"$f":"IF(Résumé!$B51=1,Résumé!E51,\"\")","v":""},{"$f":"IF(Résumé!$B51=0,\"\",Résumé!$G51)","v":""},{"$f":"IF(Résumé!$B51=0,\"\",IF(FORM!$H82=\"No\",\"PAS DE TRANSPORT\",\"OK\"))","v":""},{"$f":"IF(Résumé!$B51=1,FORM!$I82,\"\")","v":""},{"$f":"IF(Résumé!$B51=1,FORM!$J82,\"\")","v":""},{"$f":"IF(Résumé!$B51=1,FORM!$K82,\"\")","v":""},{"$f":"IF(Résumé!$B51=1,INT(I52/2*24)*2&\" - \"&INT(I52/2*24)*2+2&\" heures\",\"\")","v":""},{"$f":"IF(Résumé!$B51=1,FORM!$L82,\"\")","v":""},{"$f":"IF(Résumé!$B51=1,FORM!$M82,\"\")","v":""},{"$f":"IF(AND(Résumé!$B51=1,$F52=\"OK\"),FORM!$N82,\"\")","v":""},{"$f":"IF(Résumé!$B51=1,FORM!$O82,\"\")","v":""},{"$f":"IF(AND(Résumé!$B51=1,FORM!$T82=\"Yes\"),FORM!$P82,\"\")","v":""},{"$f":"IF(AND(Résumé!$B51=1,FORM!$T82=\"Yes\"),FORM!$Q82,\"\")","v":""},{"$f":"IF(AND(Résumé!$B51=1,FORM!$T82=\"Yes\"),INT(P52/2*24)*2&\" - \"&INT(P52/2*24)*2+2&\" heures\",\"\")","v":""},{"$f":"IF(AND(Résumé!$B51=1,FORM!$T82=\"Yes\"),FORM!$R82,\"\")","v":""},{"$f":"IF(AND(Résumé!$B51=1,FORM!$T82=\"Yes\"),FORM!$S82,\"\")","v":""},{"$f":"IF(AND(Résumé!$B51=1,FORM!$T82=\"\"),\"\",IF(AND(Résumé!$B51=1,FORM!$T82>\"\"),FORM!$T82,\"\"))","v":""},{"$f":"IF(D52>\"0\",FORM!$I$24&\" \"&FORM!$J$24&\" \"&FORM!$M$24&\" - \"&FORM!$O$24,\"\")","v":""}]
[null,null,{"$f":"IF(Résumé!$B52=1,Résumé!$D52,\"\")","v":""},{"$f":"IF(Résumé!$B52=1,Résumé!E52,\"\")","v":""},{"$f":"IF(Résumé!$B52=0,\"\",Résumé!$G52)","v":""},{"$f":"IF(Résumé!$B52=0,\"\",IF(FORM!$H83=\"No\",\"PAS DE TRANSPORT\",\"OK\"))","v":""},{"$f":"IF(Résumé!$B52=1,FORM!$I83,\"\")","v":""},{"$f":"IF(Résumé!$B52=1,FORM!$J83,\"\")","v":""},{"$f":"IF(Résumé!$B52=1,FORM!$K83,\"\")","v":""},{"$f":"IF(Résumé!$B52=1,INT(I53/2*24)*2&\" - \"&INT(I53/2*24)*2+2&\" heures\",\"\")","v":""},{"$f":"IF(Résumé!$B52=1,FORM!$L83,\"\")","v":""},{"$f":"IF(Résumé!$B52=1,FORM!$M83,\"\")","v":""},{"$f":"IF(AND(Résumé!$B52=1,$F53=\"OK\"),FORM!$N83,\"\")","v":""},{"$f":"IF(Résumé!$B52=1,FORM!$O83,\"\")","v":""},{"$f":"IF(AND(Résumé!$B52=1,FORM!$T83=\"Yes\"),FORM!$P83,\"\")","v":""},{"$f":"IF(AND(Résumé!$B52=1,FORM!$T83=\"Yes\"),FORM!$Q83,\"\")","v":""},{"$f":"IF(AND(Résumé!$B52=1,FORM!$T83=\"Yes\"),INT(P53/2*24)*2&\" - \"&INT(P53/2*24)*2+2&\" heures\",\"\")","v":""},{"$f":"IF(AND(Résumé!$B52=1,FORM!$T83=\"Yes\"),FORM!$R83,\"\")","v":""},{"$f":"IF(AND(Résumé!$B52=1,FORM!$T83=\"Yes\"),FORM!$S83,\"\")","v":""},{"$f":"IF(AND(Résumé!$B52=1,FORM!$T83=\"\"),\"\",IF(AND(Résumé!$B52=1,FORM!$T83>\"\"),FORM!$T83,\"\"))","v":""},{"$f":"IF(D53>\"0\",FORM!$I$24&\" \"&FORM!$J$24&\" \"&FORM!$M$24&\" - \"&FORM!$O$24,\"\")","v":""}]
[null,null,{"$f":"IF(Résumé!$B53=1,Résumé!$D53,\"\")","v":""},{"$f":"IF(Résumé!$B53=1,Résumé!E53,\"\")","v":""},{"$f":"IF(Résumé!$B53=0,\"\",Résumé!$G53)","v":""},{"$f":"IF(Résumé!$B53=0,\"\",IF(FORM!$H84=\"No\",\"PAS DE TRANSPORT\",\"OK\"))","v":""},{"$f":"IF(Résumé!$B53=1,FORM!$I84,\"\")","v":""},{"$f":"IF(Résumé!$B53=1,FORM!$J84,\"\")","v":""},{"$f":"IF(Résumé!$B53=1,FORM!$K84,\"\")","v":""},{"$f":"IF(Résumé!$B53=1,INT(I54/2*24)*2&\" - \"&INT(I54/2*24)*2+2&\" heures\",\"\")","v":""},{"$f":"IF(Résumé!$B53=1,FORM!$L84,\"\")","v":""},{"$f":"IF(Résumé!$B53=1,FORM!$M84,\"\")","v":""},{"$f":"IF(AND(Résumé!$B53=1,$F54=\"OK\"),FORM!$N84,\"\")","v":""},{"$f":"IF(Résumé!$B53=1,FORM!$O84,\"\")","v":""},{"$f":"IF(AND(Résumé!$B53=1,FORM!$T84=\"Yes\"),FORM!$P84,\"\")","v":""},{"$f":"IF(AND(Résumé!$B53=1,FORM!$T84=\"Yes\"),FORM!$Q84,\"\")","v":""},{"$f":"IF(AND(Résumé!$B53=1,FORM!$T84=\"Yes\"),INT(P54/2*24)*2&\" - \"&INT(P54/2*24)*2+2&\" heures\",\"\")","v":""},{"$f":"IF(AND(Résumé!$B53=1,FORM!$T84=\"Yes\"),FORM!$R84,\"\")","v":""},{"$f":"IF(AND(Résumé!$B53=1,FORM!$T84=\"Yes\"),FORM!$S84,\"\")","v":""},{"$f":"IF(AND(Résumé!$B53=1,FORM!$T84=\"\"),\"\",IF(AND(Résumé!$B53=1,FORM!$T84>\"\"),FORM!$T84,\"\"))","v":""},{"$f":"IF(D54>\"0\",FORM!$I$24&\" \"&FORM!$J$24&\" \"&FORM!$M$24&\" - \"&FORM!$O$24,\"\")","v":""}]
[null,null,{"$f":"IF(Résumé!$B54=1,Résumé!$D54,\"\")","v":""},{"$f":"IF(Résumé!$B54=1,Résumé!E54,\"\")","v":""},{"$f":"IF(Résumé!$B54=0,\"\",Résumé!$G54)","v":""},{"$f":"IF(Résumé!$B54=0,\"\",IF(FORM!$H85=\"No\",\"PAS DE TRANSPORT\",\"OK\"))","v":""},{"$f":"IF(Résumé!$B54=1,FORM!$I85,\"\")","v":""},{"$f":"IF(Résumé!$B54=1,FORM!$J85,\"\")","v":""},{"$f":"IF(Résumé!$B54=1,FORM!$K85,\"\")","v":""},{"$f":"IF(Résumé!$B54=1,INT(I55/2*24)*2&\" - \"&INT(I55/2*24)*2+2&\" heures\",\"\")","v":""},{"$f":"IF(Résumé!$B54=1,FORM!$L85,\"\")","v":""},{"$f":"IF(Résumé!$B54=1,FORM!$M85,\"\")","v":""},{"$f":"IF(AND(Résumé!$B54=1,$F55=\"OK\"),FORM!$N85,\"\")","v":""},{"$f":"IF(Résumé!$B54=1,FORM!$O85,\"\")","v":""},{"$f":"IF(AND(Résumé!$B54=1,FORM!$T85=\"Yes\"),FORM!$P85,\"\")","v":""},{"$f":"IF(AND(Résumé!$B54=1,FORM!$T85=\"Yes\"),FORM!$Q85,\"\")","v":""},{"$f":"IF(AND(Résumé!$B54=1,FORM!$T85=\"Yes\"),INT(P55/2*24)*2&\" - \"&INT(P55/2*24)*2+2&\" heures\",\"\")","v":""},{"$f":"IF(AND(Résumé!$B54=1,FORM!$T85=\"Yes\"),FORM!$R85,\"\")","v":""},{"$f":"IF(AND(Résumé!$B54=1,FORM!$T85=\"Yes\"),FORM!$S85,\"\")","v":""},{"$f":"IF(AND(Résumé!$B54=1,FORM!$T85=\"\"),\"\",IF(AND(Résumé!$B54=1,FORM!$T85>\"\"),FORM!$T85,\"\"))","v":""},{"$f":"IF(D55>\"0\",FORM!$I$24&\" \"&FORM!$J$24&\" \"&FORM!$M$24&\" - \"&FORM!$O$24,\"\")","v":""}]
[null,null,{"$f":"IF(Résumé!$B55=1,Résumé!$D55,\"\")","v":""},{"$f":"IF(Résumé!$B55=1,Résumé!E55,\"\")","v":""},{"$f":"IF(Résumé!$B55=0,\"\",Résumé!$G55)","v":""},{"$f":"IF(Résumé!$B55=0,\"\",IF(FORM!$H86=\"No\",\"PAS DE TRANSPORT\",\"OK\"))","v":""},{"$f":"IF(Résumé!$B55=1,FORM!$I86,\"\")","v":""},{"$f":"IF(Résumé!$B55=1,FORM!$J86,\"\")","v":""},{"$f":"IF(Résumé!$B55=1,FORM!$K86,\"\")","v":""},{"$f":"IF(Résumé!$B55=1,INT(I56/2*24)*2&\" - \"&INT(I56/2*24)*2+2&\" heures\",\"\")","v":""},{"$f":"IF(Résumé!$B55=1,FORM!$L86,\"\")","v":""},{"$f":"IF(Résumé!$B55=1,FORM!$M86,\"\")","v":""},{"$f":"IF(AND(Résumé!$B55=1,$F56=\"OK\"),FORM!$N86,\"\")","v":""},{"$f":"IF(Résumé!$B55=1,FORM!$O86,\"\")","v":""},{"$f":"IF(AND(Résumé!$B55=1,FORM!$T86=\"Yes\"),FORM!$P86,\"\")","v":""},{"$f":"IF(AND(Résumé!$B55=1,FORM!$T86=\"Yes\"),FORM!$Q86,\"\")","v":""},{"$f":"IF(AND(Résumé!$B55=1,FORM!$T86=\"Yes\"),INT(P56/2*24)*2&\" - \"&INT(P56/2*24)*2+2&\" heures\",\"\")","v":""},{"$f":"IF(AND(Résumé!$B55=1,FORM!$T86=\"Yes\"),FORM!$R86,\"\")","v":""},{"$f":"IF(AND(Résumé!$B55=1,FORM!$T86=\"Yes\"),FORM!$S86,\"\")","v":""},{"$f":"IF(AND(Résumé!$B55=1,FORM!$T86=\"\"),\"\",IF(AND(Résumé!$B55=1,FORM!$T86>\"\"),FORM!$T86,\"\"))","v":""},{"$f":"IF(D56>\"0\",FORM!$I$24&\" \"&FORM!$J$24&\" \"&FORM!$M$24&\" - \"&FORM!$O$24,\"\")","v":""}]
[null,null,{"$f":"IF(Résumé!$B56=1,Résumé!$D56,\"\")","v":""},{"$f":"IF(Résumé!$B56=1,Résumé!E56,\"\")","v":""},{"$f":"IF(Résumé!$B56=0,\"\",Résumé!$G56)","v":""},{"$f":"IF(Résumé!$B56=0,\"\",IF(FORM!$H87=\"No\",\"PAS DE TRANSPORT\",\"OK\"))","v":""},{"$f":"IF(Résumé!$B56=1,FORM!$I87,\"\")","v":""},{"$f":"IF(Résumé!$B56=1,FORM!$J87,\"\")","v":""},{"$f":"IF(Résumé!$B56=1,FORM!$K87,\"\")","v":""},{"$f":"IF(Résumé!$B56=1,INT(I57/2*24)*2&\" - \"&INT(I57/2*24)*2+2&\" heures\",\"\")","v":""},{"$f":"IF(Résumé!$B56=1,FORM!$L87,\"\")","v":""},{"$f":"IF(Résumé!$B56=1,FORM!$M87,\"\")","v":""},{"$f":"IF(AND(Résumé!$B56=1,$F57=\"OK\"),FORM!$N87,\"\")","v":""},{"$f":"IF(Résumé!$B56=1,FORM!$O87,\"\")","v":""},{"$f":"IF(AND(Résumé!$B56=1,FORM!$T87=\"Yes\"),FORM!$P87,\"\")","v":""},{"$f":"IF(AND(Résumé!$B56=1,FORM!$T87=\"Yes\"),FORM!$Q87,\"\")","v":""},{"$f":"IF(AND(Résumé!$B56=1,FORM!$T87=\"Yes\"),INT(P57/2*24)*2&\" - \"&INT(P57/2*24)*2+2&\" heures\",\"\")","v":""},{"$f":"IF(AND(Résumé!$B56=1,FORM!$T87=\"Yes\"),FORM!$R87,\"\")","v":""},{"$f":"IF(AND(Résumé!$B56=1,FORM!$T87=\"Yes\"),FORM!$S87,\"\")","v":""},{"$f":"IF(AND(Résumé!$B56=1,FORM!$T87=\"\"),\"\",IF(AND(Résumé!$B56=1,FORM!$T87>\"\"),FORM!$T87,\"\"))","v":""},{"$f":"IF(D57>\"0\",FORM!$I$24&\" \"&FORM!$J$24&\" \"&FORM!$M$24&\" - \"&FORM!$O$24,\"\")","v":""}]
[null,null,{"$f":"IF(Résumé!$B57=1,Résumé!$D57,\"\")","v":""},{"$f":"IF(Résumé!$B57=1,Résumé!E57,\"\")","v":""},{"$f":"IF(Résumé!$B57=0,\"\",Résumé!$G57)","v":""},{"$f":"IF(Résumé!$B57=0,\"\",IF(FORM!$H88=\"No\",\"PAS DE TRANSPORT\",\"OK\"))","v":""},{"$f":"IF(Résumé!$B57=1,FORM!$I88,\"\")","v":""},{"$f":"IF(Résumé!$B57=1,FORM!$J88,\"\")","v":""},{"$f":"IF(Résumé!$B57=1,FORM!$K88,\"\")","v":""},{"$f":"IF(Résumé!$B57=1,INT(I58/2*24)*2&\" - \"&INT(I58/2*24)*2+2&\" heures\",\"\")","v":""},{"$f":"IF(Résumé!$B57=1,FORM!$L88,\"\")","v":""},{"$f":"IF(Résumé!$B57=1,FORM!$M88,\"\")","v":""},{"$f":"IF(AND(Résumé!$B57=1,$F58=\"OK\"),FORM!$N88,\"\")","v":""},{"$f":"IF(Résumé!$B57=1,FORM!$O88,\"\")","v":""},{"$f":"IF(AND(Résumé!$B57=1,FORM!$T88=\"Yes\"),FORM!$P88,\"\")","v":""},{"$f":"IF(AND(Résumé!$B57=1,FORM!$T88=\"Yes\"),FORM!$Q88,\"\")","v":""},{"$f":"IF(AND(Résumé!$B57=1,FORM!$T88=\"Yes\"),INT(P58/2*24)*2&\" - \"&INT(P58/2*24)*2+2&\" heures\",\"\")","v":""},{"$f":"IF(AND(Résumé!$B57=1,FORM!$T88=\"Yes\"),FORM!$R88,\"\")","v":""},{"$f":"IF(AND(Résumé!$B57=1,FORM!$T88=\"Yes\"),FORM!$S88,\"\")","v":""},{"$f":"IF(AND(Résumé!$B57=1,FORM!$T88=\"\"),\"\",IF(AND(Résumé!$B57=1,FORM!$T88>\"\"),FORM!$T88,\"\"))","v":""},{"$f":"IF(D58>\"0\",FORM!$I$24&\" \"&FORM!$J$24&\" \"&FORM!$M$24&\" - \"&FORM!$O$24,\"\")","v":""}]
[null,null,{"$f":"IF(Résumé!$B58=1,Résumé!$D58,\"\")","v":""},{"$f":"IF(Résumé!$B58=1,Résumé!E58,\"\")","v":""},{"$f":"IF(Résumé!$B58=0,\"\",Résumé!$G58)","v":""},{"$f":"IF(Résumé!$B58=0,\"\",IF(FORM!$H89=\"No\",\"PAS DE TRANSPORT\",\"OK\"))","v":""},{"$f":"IF(Résumé!$B58=1,FORM!$I89,\"\")","v":""},{"$f":"IF(Résumé!$B58=1,FORM!$J89,\"\")","v":""},{"$f":"IF(Résumé!$B58=1,FORM!$K89,\"\")","v":""},{"$f":"IF(Résumé!$B58=1,INT(I59/2*24)*2&\" - \"&INT(I59/2*24)*2+2&\" heures\",\"\")","v":""},{"$f":"IF(Résumé!$B58=1,FORM!$L89,\"\")","v":""},{"$f":"IF(Résumé!$B58=1,FORM!$M89,\"\")","v":""},{"$f":"IF(AND(Résumé!$B58=1,$F59=\"OK\"),FORM!$N89,\"\")","v":""},{"$f":"IF(Résumé!$B58=1,FORM!$O89,\"\")","v":""},{"$f":"IF(AND(Résumé!$B58=1,FORM!$T89=\"Yes\"),FORM!$P89,\"\")","v":""},{"$f":"IF(AND(Résumé!$B58=1,FORM!$T89=\"Yes\"),FORM!$Q89,\"\")","v":""},{"$f":"IF(AND(Résumé!$B58=1,FORM!$T89=\"Yes\"),INT(P59/2*24)*2&\" - \"&INT(P59/2*24)*2+2&\" heures\",\"\")","v":""},{"$f":"IF(AND(Résumé!$B58=1,FORM!$T89=\"Yes\"),FORM!$R89,\"\")","v":""},{"$f":"IF(AND(Résumé!$B58=1,FORM!$T89=\"Yes\"),FORM!$S89,\"\")","v":""},{"$f":"IF(AND(Résumé!$B58=1,FORM!$T89=\"\"),\"\",IF(AND(Résumé!$B58=1,FORM!$T89>\"\"),FORM!$T89,\"\"))","v":""},{"$f":"IF(D59>\"0\",FORM!$I$24&\" \"&FORM!$J$24&\" \"&FORM!$M$24&\" - \"&FORM!$O$24,\"\")","v":""}]
[null,null,{"$f":"IF(Résumé!$B59=1,Résumé!$D59,\"\")","v":""},{"$f":"IF(Résumé!$B59=1,Résumé!E59,\"\")","v":""},{"$f":"IF(Résumé!$B59=0,\"\",Résumé!$G59)","v":""},{"$f":"IF(Résumé!$B59=0,\"\",IF(FORM!$H90=\"No\",\"PAS DE TRANSPORT\",\"OK\"))","v":""},{"$f":"IF(Résumé!$B59=1,FORM!$I90,\"\")","v":""},{"$f":"IF(Résumé!$B59=1,FORM!$J90,\"\")","v":""},{"$f":"IF(Résumé!$B59=1,FORM!$K90,\"\")","v":""},{"$f":"IF(Résumé!$B59=1,INT(I60/2*24)*2&\" - \"&INT(I60/2*24)*2+2&\" heures\",\"\")","v":""},{"$f":"IF(Résumé!$B59=1,FORM!$L90,\"\")","v":""},{"$f":"IF(Résumé!$B59=1,FORM!$M90,\"\")","v":""},{"$f":"IF(AND(Résumé!$B59=1,$F60=\"OK\"),FORM!$N90,\"\")","v":""},{"$f":"IF(Résumé!$B59=1,FORM!$O90,\"\")","v":""},{"$f":"IF(AND(Résumé!$B59=1,FORM!$T90=\"Yes\"),FORM!$P90,\"\")","v":""},{"$f":"IF(AND(Résumé!$B59=1,FORM!$T90=\"Yes\"),FORM!$Q90,\"\")","v":""},{"$f":"IF(AND(Résumé!$B59=1,FORM!$T90=\"Yes\"),INT(P60/2*24)*2&\" - \"&INT(P60/2*24)*2+2&\" heures\",\"\")","v":""},{"$f":"IF(AND(Résumé!$B59=1,FORM!$T90=\"Yes\"),FORM!$R90,\"\")","v":""},{"$f":"IF(AND(Résumé!$B59=1,FORM!$T90=\"Yes\"),FORM!$S90,\"\")","v":""},{"$f":"IF(AND(Résumé!$B59=1,FORM!$T90=\"\"),\"\",IF(AND(Résumé!$B59=1,FORM!$T90>\"\"),FORM!$T90,\"\"))","v":""},{"$f":"IF(D60>\"0\",FORM!$I$24&\" \"&FORM!$J$24&\" \"&FORM!$M$24&\" - \"&FORM!$O$24,\"\")","v":""}]
[null,null,{"$f":"IF(Résumé!$B60=1,Résumé!$D60,\"\")","v":""},{"$f":"IF(Résumé!$B60=1,Résumé!E60,\"\")","v":""},{"$f":"IF(Résumé!$B60=0,\"\",Résumé!$G60)","v":""},{"$f":"IF(Résumé!$B60=0,\"\",IF(FORM!$H91=\"No\",\"PAS DE TRANSPORT\",\"OK\"))","v":""},{"$f":"IF(Résumé!$B60=1,FORM!$I91,\"\")","v":""},{"$f":"IF(Résumé!$B60=1,FORM!$J91,\"\")","v":""},{"$f":"IF(Résumé!$B60=1,FORM!$K91,\"\")","v":""},{"$f":"IF(Résumé!$B60=1,INT(I61/2*24)*2&\" - \"&INT(I61/2*24)*2+2&\" heures\",\"\")","v":""},{"$f":"IF(Résumé!$B60=1,FORM!$L91,\"\")","v":""},{"$f":"IF(Résumé!$B60=1,FORM!$M91,\"\")","v":""},{"$f":"IF(AND(Résumé!$B60=1,$F61=\"OK\"),FORM!$N91,\"\")","v":""},{"$f":"IF(Résumé!$B60=1,FORM!$O91,\"\")","v":""},{"$f":"IF(AND(Résumé!$B60=1,FORM!$T91=\"Yes\"),FORM!$P91,\"\")","v":""},{"$f":"IF(AND(Résumé!$B60=1,FORM!$T91=\"Yes\"),FORM!$Q91,\"\")","v":""},{"$f":"IF(AND(Résumé!$B60=1,FORM!$T91=\"Yes\"),INT(P61/2*24)*2&\" - \"&INT(P61/2*24)*2+2&\" heures\",\"\")","v":""},{"$f":"IF(AND(Résumé!$B60=1,FORM!$T91=\"Yes\"),FORM!$R91,\"\")","v":""},{"$f":"IF(AND(Résumé!$B60=1,FORM!$T91=\"Yes\"),FORM!$S91,\"\")","v":""},{"$f":"IF(AND(Résumé!$B60=1,FORM!$T91=\"\"),\"\",IF(AND(Résumé!$B60=1,FORM!$T91>\"\"),FORM!$T91,\"\"))","v":""},{"$f":"IF(D61>\"0\",FORM!$I$24&\" \"&FORM!$J$24&\" \"&FORM!$M$24&\" - \"&FORM!$O$24,\"\")","v":""}]
[null,null,{"$f":"IF(Résumé!$B61=1,Résumé!$D61,\"\")","v":""},{"$f":"IF(Résumé!$B61=1,Résumé!E61,\"\")","v":""},{"$f":"IF(Résumé!$B61=0,\"\",Résumé!$G61)","v":""},{"$f":"IF(Résumé!$B61=0,\"\",IF(FORM!$H92=\"No\",\"PAS DE TRANSPORT\",\"OK\"))","v":""},{"$f":"IF(Résumé!$B61=1,FORM!$I92,\"\")","v":""},{"$f":"IF(Résumé!$B61=1,FORM!$J92,\"\")","v":""},{"$f":"IF(Résumé!$B61=1,FORM!$K92,\"\")","v":""},{"$f":"IF(Résumé!$B61=1,INT(I62/2*24)*2&\" - \"&INT(I62/2*24)*2+2&\" heures\",\"\")","v":""},{"$f":"IF(Résumé!$B61=1,FORM!$L92,\"\")","v":""},{"$f":"IF(Résumé!$B61=1,FORM!$M92,\"\")","v":""},{"$f":"IF(AND(Résumé!$B61=1,$F62=\"OK\"),FORM!$N92,\"\")","v":""},{"$f":"IF(Résumé!$B61=1,FORM!$O92,\"\")","v":""},{"$f":"IF(AND(Résumé!$B61=1,FORM!$T92=\"Yes\"),FORM!$P92,\"\")","v":""},{"$f":"IF(AND(Résumé!$B61=1,FORM!$T92=\"Yes\"),FORM!$Q92,\"\")","v":""},{"$f":"IF(AND(Résumé!$B61=1,FORM!$T92=\"Yes\"),INT(P62/2*24)*2&\" - \"&INT(P62/2*24)*2+2&\" heures\",\"\")","v":""},{"$f":"IF(AND(Résumé!$B61=1,FORM!$T92=\"Yes\"),FORM!$R92,\"\")","v":""},{"$f":"IF(AND(Résumé!$B61=1,FORM!$T92=\"Yes\"),FORM!$S92,\"\")","v":""},{"$f":"IF(AND(Résumé!$B61=1,FORM!$T92=\"\"),\"\",IF(AND(Résumé!$B61=1,FORM!$T92>\"\"),FORM!$T92,\"\"))","v":""},{"$f":"IF(D62>\"0\",FORM!$I$24&\" \"&FORM!$J$24&\" \"&FORM!$M$24&\" - \"&FORM!$O$24,\"\")","v":""}]
[null,null,{"$f":"IF(Résumé!$B62=1,Résumé!$D62,\"\")","v":""},{"$f":"IF(Résumé!$B62=1,Résumé!E62,\"\")","v":""},{"$f":"IF(Résumé!$B62=0,\"\",Résumé!$G62)","v":""},{"$f":"IF(Résumé!$B62=0,\"\",IF(FORM!$H93=\"No\",\"PAS DE TRANSPORT\",\"OK\"))","v":""},{"$f":"IF(Résumé!$B62=1,FORM!$I93,\"\")","v":""},{"$f":"IF(Résumé!$B62=1,FORM!$J93,\"\")","v":""},{"$f":"IF(Résumé!$B62=1,FORM!$K93,\"\")","v":""},{"$f":"IF(Résumé!$B62=1,INT(I63/2*24)*2&\" - \"&INT(I63/2*24)*2+2&\" heures\",\"\")","v":""},{"$f":"IF(Résumé!$B62=1,FORM!$L93,\"\")","v":""},{"$f":"IF(Résumé!$B62=1,FORM!$M93,\"\")","v":""},{"$f":"IF(AND(Résumé!$B62=1,$F63=\"OK\"),FORM!$N93,\"\")","v":""},{"$f":"IF(Résumé!$B62=1,FORM!$O93,\"\")","v":""},{"$f":"IF(AND(Résumé!$B62=1,FORM!$T93=\"Yes\"),FORM!$P93,\"\")","v":""},{"$f":"IF(AND(Résumé!$B62=1,FORM!$T93=\"Yes\"),FORM!$Q93,\"\")","v":""},{"$f":"IF(AND(Résumé!$B62=1,FORM!$T93=\"Yes\"),INT(P63/2*24)*2&\" - \"&INT(P63/2*24)*2+2&\" heures\",\"\")","v":""},{"$f":"IF(AND(Résumé!$B62=1,FORM!$T93=\"Yes\"),FORM!$R93,\"\")","v":""},{"$f":"IF(AND(Résumé!$B62=1,FORM!$T93=\"Yes\"),FORM!$S93,\"\")","v":""},{"$f":"IF(AND(Résumé!$B62=1,FORM!$T93=\"\"),\"\",IF(AND(Résumé!$B62=1,FORM!$T93>\"\"),FORM!$T93,\"\"))","v":""},{"$f":"IF(D63>\"0\",FORM!$I$24&\" \"&FORM!$J$24&\" \"&FORM!$M$24&\" - \"&FORM!$O$24,\"\")","v":""}]
[null,null,{"$f":"IF(Résumé!$B63=1,Résumé!$D63,\"\")","v":""},{"$f":"IF(Résumé!$B63=1,Résumé!E63,\"\")","v":""},{"$f":"IF(Résumé!$B63=0,\"\",Résumé!$G63)","v":""},{"$f":"IF(Résumé!$B63=0,\"\",IF(FORM!$H94=\"No\",\"PAS DE TRANSPORT\",\"OK\"))","v":""},{"$f":"IF(Résumé!$B63=1,FORM!$I94,\"\")","v":""},{"$f":"IF(Résumé!$B63=1,FORM!$J94,\"\")","v":""},{"$f":"IF(Résumé!$B63=1,FORM!$K94,\"\")","v":""},{"$f":"IF(Résumé!$B63=1,INT(I64/2*24)*2&\" - \"&INT(I64/2*24)*2+2&\" heures\",\"\")","v":""},{"$f":"IF(Résumé!$B63=1,FORM!$L94,\"\")","v":""},{"$f":"IF(Résumé!$B63=1,FORM!$M94,\"\")","v":""},{"$f":"IF(AND(Résumé!$B63=1,$F64=\"OK\"),FORM!$N94,\"\")","v":""},{"$f":"IF(Résumé!$B63=1,FORM!$O94,\"\")","v":""},{"$f":"IF(AND(Résumé!$B63=1,FORM!$T94=\"Yes\"),FORM!$P94,\"\")","v":""},{"$f":"IF(AND(Résumé!$B63=1,FORM!$T94=\"Yes\"),FORM!$Q94,\"\")","v":""},{"$f":"IF(AND(Résumé!$B63=1,FORM!$T94=\"Yes\"),INT(P64/2*24)*2&\" - \"&INT(P64/2*24)*2+2&\" heures\",\"\")","v":""},{"$f":"IF(AND(Résumé!$B63=1,FORM!$T94=\"Yes\"),FORM!$R94,\"\")","v":""},{"$f":"IF(AND(Résumé!$B63=1,FORM!$T94=\"Yes\"),FORM!$S94,\"\")","v":""},{"$f":"IF(AND(Résumé!$B63=1,FORM!$T94=\"\"),\"\",IF(AND(Résumé!$B63=1,FORM!$T94>\"\"),FORM!$T94,\"\"))","v":""},{"$f":"IF(D64>\"0\",FORM!$I$24&\" \"&FORM!$J$24&\" \"&FORM!$M$24&\" - \"&FORM!$O$24,\"\")","v":""}]
[null,null,{"$f":"IF(Résumé!$B64=1,Résumé!$D64,\"\")","v":""},{"$f":"IF(Résumé!$B64=1,Résumé!E64,\"\")","v":""},{"$f":"IF(Résumé!$B64=0,\"\",Résumé!$G64)","v":""},{"$f":"IF(Résumé!$B64=0,\"\",IF(FORM!$H95=\"No\",\"PAS DE TRANSPORT\",\"OK\"))","v":""},{"$f":"IF(Résumé!$B64=1,FORM!$I95,\"\")","v":""},{"$f":"IF(Résumé!$B64=1,FORM!$J95,\"\")","v":""},{"$f":"IF(Résumé!$B64=1,FORM!$K95,\"\")","v":""},{"$f":"IF(Résumé!$B64=1,INT(I65/2*24)*2&\" - \"&INT(I65/2*24)*2+2&\" heures\",\"\")","v":""},{"$f":"IF(Résumé!$B64=1,FORM!$L95,\"\")","v":""},{"$f":"IF(Résumé!$B64=1,FORM!$M95,\"\")","v":""},{"$f":"IF(AND(Résumé!$B64=1,$F65=\"OK\"),FORM!$N95,\"\")","v":""},{"$f":"IF(Résumé!$B64=1,FORM!$O95,\"\")","v":""},{"$f":"IF(AND(Résumé!$B64=1,FORM!$T95=\"Yes\"),FORM!$P95,\"\")","v":""},{"$f":"IF(AND(Résumé!$B64=1,FORM!$T95=\"Yes\"),FORM!$Q95,\"\")","v":""},{"$f":"IF(AND(Résumé!$B64=1,FORM!$T95=\"Yes\"),INT(P65/2*24)*2&\" - \"&INT(P65/2*24)*2+2&\" heures\",\"\")","v":""},{"$f":"IF(AND(Résumé!$B64=1,FORM!$T95=\"Yes\"),FORM!$R95,\"\")","v":""},{"$f":"IF(AND(Résumé!$B64=1,FORM!$T95=\"Yes\"),FORM!$S95,\"\")","v":""},{"$f":"IF(AND(Résumé!$B64=1,FORM!$T95=\"\"),\"\",IF(AND(Résumé!$B64=1,FORM!$T95>\"\"),FORM!$T95,\"\"))","v":""},{"$f":"IF(D65>\"0\",FORM!$I$24&\" \"&FORM!$J$24&\" \"&FORM!$M$24&\" - \"&FORM!$O$24,\"\")","v":""}]
[null,null,{"$f":"IF(Résumé!$B65=1,Résumé!$D65,\"\")","v":""},{"$f":"IF(Résumé!$B65=1,Résumé!E65,\"\")","v":""},{"$f":"IF(Résumé!$B65=0,\"\",Résumé!$G65)","v":""},{"$f":"IF(Résumé!$B65=0,\"\",IF(FORM!$H96=\"No\",\"PAS DE TRANSPORT\",\"OK\"))","v":""},{"$f":"IF(Résumé!$B65=1,FORM!$I96,\"\")","v":""},{"$f":"IF(Résumé!$B65=1,FORM!$J96,\"\")","v":""},{"$f":"IF(Résumé!$B65=1,FORM!$K96,\"\")","v":""},{"$f":"IF(Résumé!$B65=1,INT(I66/2*24)*2&\" - \"&INT(I66/2*24)*2+2&\" heures\",\"\")","v":""},{"$f":"IF(Résumé!$B65=1,FORM!$L96,\"\")","v":""},{"$f":"IF(Résumé!$B65=1,FORM!$M96,\"\")","v":""},{"$f":"IF(AND(Résumé!$B65=1,$F66=\"OK\"),FORM!$N96,\"\")","v":""},{"$f":"IF(Résumé!$B65=1,FORM!$O96,\"\")","v":""},{"$f":"IF(AND(Résumé!$B65=1,FORM!$T96=\"Yes\"),FORM!$P96,\"\")","v":""},{"$f":"IF(AND(Résumé!$B65=1,FORM!$T96=\"Yes\"),FORM!$Q96,\"\")","v":""},{"$f":"IF(AND(Résumé!$B65=1,FORM!$T96=\"Yes\"),INT(P66/2*24)*2&\" - \"&INT(P66/2*24)*2+2&\" heures\",\"\")","v":""},{"$f":"IF(AND(Résumé!$B65=1,FORM!$T96=\"Yes\"),FORM!$R96,\"\")","v":""},{"$f":"IF(AND(Résumé!$B65=1,FORM!$T96=\"Yes\"),FORM!$S96,\"\")","v":""},{"$f":"IF(AND(Résumé!$B65=1,FORM!$T96=\"\"),\"\",IF(AND(Résumé!$B65=1,FORM!$T96>\"\"),FORM!$T96,\"\"))","v":""},{"$f":"IF(D66>\"0\",FORM!$I$24&\" \"&FORM!$J$24&\" \"&FORM!$M$24&\" - \"&FORM!$O$24,\"\")","v":""}]
[null,null,{"$f":"IF(Résumé!$B66=1,Résumé!$D66,\"\")","v":""},{"$f":"IF(Résumé!$B66=1,Résumé!E66,\"\")","v":""},{"$f":"IF(Résumé!$B66=0,\"\",Résumé!$G66)","v":""},{"$f":"IF(Résumé!$B66=0,\"\",IF(FORM!$H97=\"No\",\"PAS DE TRANSPORT\",\"OK\"))","v":""},{"$f":"IF(Résumé!$B66=1,FORM!$I97,\"\")","v":""},{"$f":"IF(Résumé!$B66=1,FORM!$J97,\"\")","v":""},{"$f":"IF(Résumé!$B66=1,FORM!$K97,\"\")","v":""},{"$f":"IF(Résumé!$B66=1,INT(I67/2*24)*2&\" - \"&INT(I67/2*24)*2+2&\" heures\",\"\")","v":""},{"$f":"IF(Résumé!$B66=1,FORM!$L97,\"\")","v":""},{"$f":"IF(Résumé!$B66=1,FORM!$M97,\"\")","v":""},{"$f":"IF(AND(Résumé!$B66=1,$F67=\"OK\"),FORM!$N97,\"\")","v":""},{"$f":"IF(Résumé!$B66=1,FORM!$O97,\"\")","v":""},{"$f":"IF(AND(Résumé!$B66=1,FORM!$T97=\"Yes\"),FORM!$P97,\"\")","v":""},{"$f":"IF(AND(Résumé!$B66=1,FORM!$T97=\"Yes\"),FORM!$Q97,\"\")","v":""},{"$f":"IF(AND(Résumé!$B66=1,FORM!$T97=\"Yes\"),INT(P67/2*24)*2&\" - \"&INT(P67/2*24)*2+2&\" heures\",\"\")","v":""},{"$f":"IF(AND(Résumé!$B66=1,FORM!$T97=\"Yes\"),FORM!$R97,\"\")","v":""},{"$f":"IF(AND(Résumé!$B66=1,FORM!$T97=\"Yes\"),FORM!$S97,\"\")","v":""},{"$f":"IF(AND(Résumé!$B66=1,FORM!$T97=\"\"),\"\",IF(AND(Résumé!$B66=1,FORM!$T97>\"\"),FORM!$T97,\"\"))","v":""},{"$f":"IF(D67>\"0\",FORM!$I$24&\" \"&FORM!$J$24&\" \"&FORM!$M$24&\" - \"&FORM!$O$24,\"\")","v":""}]
[null,null,{"$f":"IF(Résumé!$B67=1,Résumé!$D67,\"\")","v":""},{"$f":"IF(Résumé!$B67=1,Résumé!E67,\"\")","v":""},{"$f":"IF(Résumé!$B67=0,\"\",Résumé!$G67)","v":""},{"$f":"IF(Résumé!$B67=0,\"\",IF(FORM!$H98=\"No\",\"PAS DE TRANSPORT\",\"OK\"))","v":""},{"$f":"IF(Résumé!$B67=1,FORM!$I98,\"\")","v":""},{"$f":"IF(Résumé!$B67=1,FORM!$J98,\"\")","v":""},{"$f":"IF(Résumé!$B67=1,FORM!$K98,\"\")","v":""},{"$f":"IF(Résumé!$B67=1,INT(I68/2*24)*2&\" - \"&INT(I68/2*24)*2+2&\" heures\",\"\")","v":""},{"$f":"IF(Résumé!$B67=1,FORM!$L98,\"\")","v":""},{"$f":"IF(Résumé!$B67=1,FORM!$M98,\"\")","v":""},{"$f":"IF(AND(Résumé!$B67=1,$F68=\"OK\"),FORM!$N98,\"\")","v":""},{"$f":"IF(Résumé!$B67=1,FORM!$O98,\"\")","v":""},{"$f":"IF(AND(Résumé!$B67=1,FORM!$T98=\"Yes\"),FORM!$P98,\"\")","v":""},{"$f":"IF(AND(Résumé!$B67=1,FORM!$T98=\"Yes\"),FORM!$Q98,\"\")","v":""},{"$f":"IF(AND(Résumé!$B67=1,FORM!$T98=\"Yes\"),INT(P68/2*24)*2&\" - \"&INT(P68/2*24)*2+2&\" heures\",\"\")","v":""},{"$f":"IF(AND(Résumé!$B67=1,FORM!$T98=\"Yes\"),FORM!$R98,\"\")","v":""},{"$f":"IF(AND(Résumé!$B67=1,FORM!$T98=\"Yes\"),FORM!$S98,\"\")","v":""},{"$f":"IF(AND(Résumé!$B67=1,FORM!$T98=\"\"),\"\",IF(AND(Résumé!$B67=1,FORM!$T98>\"\"),FORM!$T98,\"\"))","v":""},{"$f":"IF(D68>\"0\",FORM!$I$24&\" \"&FORM!$J$24&\" \"&FORM!$M$24&\" - \"&FORM!$O$24,\"\")","v":""}]
[null,null,{"$f":"IF(Résumé!$B68=1,Résumé!$D68,\"\")","v":""},{"$f":"IF(Résumé!$B68=1,Résumé!E68,\"\")","v":""},{"$f":"IF(Résumé!$B68=0,\"\",Résumé!$G68)","v":""},{"$f":"IF(Résumé!$B68=0,\"\",IF(FORM!$H99=\"No\",\"PAS DE TRANSPORT\",\"OK\"))","v":""},{"$f":"IF(Résumé!$B68=1,FORM!$I99,\"\")","v":""},{"$f":"IF(Résumé!$B68=1,FORM!$J99,\"\")","v":""},{"$f":"IF(Résumé!$B68=1,FORM!$K99,\"\")","v":""},{"$f":"IF(Résumé!$B68=1,INT(I69/2*24)*2&\" - \"&INT(I69/2*24)*2+2&\" heures\",\"\")","v":""},{"$f":"IF(Résumé!$B68=1,FORM!$L99,\"\")","v":""},{"$f":"IF(Résumé!$B68=1,FORM!$M99,\"\")","v":""},{"$f":"IF(AND(Résumé!$B68=1,$F69=\"OK\"),FORM!$N99,\"\")","v":""},{"$f":"IF(Résumé!$B68=1,FORM!$O99,\"\")","v":""},{"$f":"IF(AND(Résumé!$B68=1,FORM!$T99=\"Yes\"),FORM!$P99,\"\")","v":""},{"$f":"IF(AND(Résumé!$B68=1,FORM!$T99=\"Yes\"),FORM!$Q99,\"\")","v":""},{"$f":"IF(AND(Résumé!$B68=1,FORM!$T99=\"Yes\"),INT(P69/2*24)*2&\" - \"&INT(P69/2*24)*2+2&\" heures\",\"\")","v":""},{"$f":"IF(AND(Résumé!$B68=1,FORM!$T99=\"Yes\"),FORM!$R99,\"\")","v":""},{"$f":"IF(AND(Résumé!$B68=1,FORM!$T99=\"Yes\"),FORM!$S99,\"\")","v":""},{"$f":"IF(AND(Résumé!$B68=1,FORM!$T99=\"\"),\"\",IF(AND(Résumé!$B68=1,FORM!$T99>\"\"),FORM!$T99,\"\"))","v":""},{"$f":"IF(D69>\"0\",FORM!$I$24&\" \"&FORM!$J$24&\" \"&FORM!$M$24&\" - \"&FORM!$O$24,\"\")","v":""}]
[null,null,{"$f":"IF(Résumé!$B69=1,Résumé!$D69,\"\")","v":""},{"$f":"IF(Résumé!$B69=1,Résumé!E69,\"\")","v":""},{"$f":"IF(Résumé!$B69=0,\"\",Résumé!$G69)","v":""},{"$f":"IF(Résumé!$B69=0,\"\",IF(FORM!$H100=\"No\",\"PAS DE TRANSPORT\",\"OK\"))","v":""},{"$f":"IF(Résumé!$B69=1,FORM!$I100,\"\")","v":""},{"$f":"IF(Résumé!$B69=1,FORM!$J100,\"\")","v":""},{"$f":"IF(Résumé!$B69=1,FORM!$K100,\"\")","v":""},{"$f":"IF(Résumé!$B69=1,INT(I70/2*24)*2&\" - \"&INT(I70/2*24)*2+2&\" heures\",\"\")","v":""},{"$f":"IF(Résumé!$B69=1,FORM!$L100,\"\")","v":""},{"$f":"IF(Résumé!$B69=1,FORM!$M100,\"\")","v":""},{"$f":"IF(AND(Résumé!$B69=1,$F70=\"OK\"),FORM!$N100,\"\")","v":""},{"$f":"IF(Résumé!$B69=1,FORM!$O100,\"\")","v":""},{"$f":"IF(AND(Résumé!$B69=1,FORM!$T100=\"Yes\"),FORM!$P100,\"\")","v":""},{"$f":"IF(AND(Résumé!$B69=1,FORM!$T100=\"Yes\"),FORM!$Q100,\"\")","v":""},{"$f":"IF(AND(Résumé!$B69=1,FORM!$T100=\"Yes\"),INT(P70/2*24)*2&\" - \"&INT(P70/2*24)*2+2&\" heures\",\"\")","v":""},{"$f":"IF(AND(Résumé!$B69=1,FORM!$T100=\"Yes\"),FORM!$R100,\"\")","v":""},{"$f":"IF(AND(Résumé!$B69=1,FORM!$T100=\"Yes\"),FORM!$S100,\"\")","v":""},{"$f":"IF(AND(Résumé!$B69=1,FORM!$T100=\"\"),\"\",IF(AND(Résumé!$B69=1,FORM!$T100>\"\"),FORM!$T100,\"\"))","v":""},{"$f":"IF(D70>\"0\",FORM!$I$24&\" \"&FORM!$J$24&\" \"&FORM!$M$24&\" - \"&FORM!$O$24,\"\")","v":""}]
[null,null,{"$f":"IF(Résumé!$B70=1,Résumé!$D70,\"\")","v":""},{"$f":"IF(Résumé!$B70=1,Résumé!E70,\"\")","v":""},{"$f":"IF(Résumé!$B70=0,\"\",Résumé!$G70)","v":""},{"$f":"IF(Résumé!$B70=0,\"\",IF(FORM!$H101=\"No\",\"PAS DE TRANSPORT\",\"OK\"))","v":""},{"$f":"IF(Résumé!$B70=1,FORM!$I101,\"\")","v":""},{"$f":"IF(Résumé!$B70=1,FORM!$J101,\"\")","v":""},{"$f":"IF(Résumé!$B70=1,FORM!$K101,\"\")","v":""},{"$f":"IF(Résumé!$B70=1,INT(I71/2*24)*2&\" - \"&INT(I71/2*24)*2+2&\" heures\",\"\")","v":""},{"$f":"IF(Résumé!$B70=1,FORM!$L101,\"\")","v":""},{"$f":"IF(Résumé!$B70=1,FORM!$M101,\"\")","v":""},{"$f":"IF(AND(Résumé!$B70=1,$F71=\"OK\"),FORM!$N101,\"\")","v":""},{"$f":"IF(Résumé!$B70=1,FORM!$O101,\"\")","v":""},{"$f":"IF(AND(Résumé!$B70=1,FORM!$T101=\"Yes\"),FORM!$P101,\"\")","v":""},{"$f":"IF(AND(Résumé!$B70=1,FORM!$T101=\"Yes\"),FORM!$Q101,\"\")","v":""},{"$f":"IF(AND(Résumé!$B70=1,FORM!$T101=\"Yes\"),INT(P71/2*24)*2&\" - \"&INT(P71/2*24)*2+2&\" heures\",\"\")","v":""},{"$f":"IF(AND(Résumé!$B70=1,FORM!$T101=\"Yes\"),FORM!$R101,\"\")","v":""},{"$f":"IF(AND(Résumé!$B70=1,FORM!$T101=\"Yes\"),FORM!$S101,\"\")","v":""},{"$f":"IF(AND(Résumé!$B70=1,FORM!$T101=\"\"),\"\",IF(AND(Résumé!$B70=1,FORM!$T101>\"\"),FORM!$T101,\"\"))","v":""},{"$f":"IF(D71>\"0\",FORM!$I$24&\" \"&FORM!$J$24&\" \"&FORM!$M$24&\" - \"&FORM!$O$24,\"\")","v":""}]
[null,null,{"$f":"IF(Résumé!$B71=1,Résumé!$D71,\"\")","v":""},{"$f":"IF(Résumé!$B71=1,Résumé!E71,\"\")","v":""},{"$f":"IF(Résumé!$B71=0,\"\",Résumé!$G71)","v":""},{"$f":"IF(Résumé!$B71=0,\"\",IF(FORM!$H102=\"No\",\"PAS DE TRANSPORT\",\"OK\"))","v":""},{"$f":"IF(Résumé!$B71=1,FORM!$I102,\"\")","v":""},{"$f":"IF(Résumé!$B71=1,FORM!$J102,\"\")","v":""},{"$f":"IF(Résumé!$B71=1,FORM!$K102,\"\")","v":""},{"$f":"IF(Résumé!$B71=1,INT(I72/2*24)*2&\" - \"&INT(I72/2*24)*2+2&\" heures\",\"\")","v":""},{"$f":"IF(Résumé!$B71=1,FORM!$L102,\"\")","v":""},{"$f":"IF(Résumé!$B71=1,FORM!$M102,\"\")","v":""},{"$f":"IF(AND(Résumé!$B71=1,$F72=\"OK\"),FORM!$N102,\"\")","v":""},{"$f":"IF(Résumé!$B71=1,FORM!$O102,\"\")","v":""},{"$f":"IF(AND(Résumé!$B71=1,FORM!$T102=\"Yes\"),FORM!$P102,\"\")","v":""},{"$f":"IF(AND(Résumé!$B71=1,FORM!$T102=\"Yes\"),FORM!$Q102,\"\")","v":""},{"$f":"IF(AND(Résumé!$B71=1,FORM!$T102=\"Yes\"),INT(P72/2*24)*2&\" - \"&INT(P72/2*24)*2+2&\" heures\",\"\")","v":""},{"$f":"IF(AND(Résumé!$B71=1,FORM!$T102=\"Yes\"),FORM!$R102,\"\")","v":""},{"$f":"IF(AND(Résumé!$B71=1,FORM!$T102=\"Yes\"),FORM!$S102,\"\")","v":""},{"$f":"IF(AND(Résumé!$B71=1,FORM!$T102=\"\"),\"\",IF(AND(Résumé!$B71=1,FORM!$T102>\"\"),FORM!$T102,\"\"))","v":""},{"$f":"IF(D72>\"0\",FORM!$I$24&\" \"&FORM!$J$24&\" \"&FORM!$M$24&\" - \"&FORM!$O$24,\"\")","v":""}]
[null,null,{"$f":"IF(Résumé!$B72=1,Résumé!$D72,\"\")","v":""},{"$f":"IF(Résumé!$B72=1,Résumé!E72,\"\")","v":""},{"$f":"IF(Résumé!$B72=0,\"\",Résumé!$G72)","v":""},{"$f":"IF(Résumé!$B72=0,\"\",IF(FORM!$H103=\"No\",\"PAS DE TRANSPORT\",\"OK\"))","v":""},{"$f":"IF(Résumé!$B72=1,FORM!$I103,\"\")","v":""},{"$f":"IF(Résumé!$B72=1,FORM!$J103,\"\")","v":""},{"$f":"IF(Résumé!$B72=1,FORM!$K103,\"\")","v":""},{"$f":"IF(Résumé!$B72=1,INT(I73/2*24)*2&\" - \"&INT(I73/2*24)*2+2&\" heures\",\"\")","v":""},{"$f":"IF(Résumé!$B72=1,FORM!$L103,\"\")","v":""},{"$f":"IF(Résumé!$B72=1,FORM!$M103,\"\")","v":""},{"$f":"IF(AND(Résumé!$B72=1,$F73=\"OK\"),FORM!$N103,\"\")","v":""},{"$f":"IF(Résumé!$B72=1,FORM!$O103,\"\")","v":""},{"$f":"IF(AND(Résumé!$B72=1,FORM!$T103=\"Yes\"),FORM!$P103,\"\")","v":""},{"$f":"IF(AND(Résumé!$B72=1,FORM!$T103=\"Yes\"),FORM!$Q103,\"\")","v":""},{"$f":"IF(AND(Résumé!$B72=1,FORM!$T103=\"Yes\"),INT(P73/2*24)*2&\" - \"&INT(P73/2*24)*2+2&\" heures\",\"\")","v":""},{"$f":"IF(AND(Résumé!$B72=1,FORM!$T103=\"Yes\"),FORM!$R103,\"\")","v":""},{"$f":"IF(AND(Résumé!$B72=1,FORM!$T103=\"Yes\"),FORM!$S103,\"\")","v":""},{"$f":"IF(AND(Résumé!$B72=1,FORM!$T103=\"\"),\"\",IF(AND(Résumé!$B72=1,FORM!$T103>\"\"),FORM!$T103,\"\"))","v":""},{"$f":"IF(D73>\"0\",FORM!$I$24&\" \"&FORM!$J$24&\" \"&FORM!$M$24&\" - \"&FORM!$O$24,\"\")","v":""}]
[null,null,{"$f":"IF(Résumé!$B73=1,Résumé!$D73,\"\")","v":""},{"$f":"IF(Résumé!$B73=1,Résumé!E73,\"\")","v":""},{"$f":"IF(Résumé!$B73=0,\"\",Résumé!$G73)","v":""},{"$f":"IF(Résumé!$B73=0,\"\",IF(FORM!$H104=\"No\",\"PAS DE TRANSPORT\",\"OK\"))","v":""},{"$f":"IF(Résumé!$B73=1,FORM!$I104,\"\")","v":""},{"$f":"IF(Résumé!$B73=1,FORM!$J104,\"\")","v":""},{"$f":"IF(Résumé!$B73=1,FORM!$K104,\"\")","v":""},{"$f":"IF(Résumé!$B73=1,INT(I74/2*24)*2&\" - \"&INT(I74/2*24)*2+2&\" heures\",\"\")","v":""},{"$f":"IF(Résumé!$B73=1,FORM!$L104,\"\")","v":""},{"$f":"IF(Résumé!$B73=1,FORM!$M104,\"\")","v":""},{"$f":"IF(AND(Résumé!$B73=1,$F74=\"OK\"),FORM!$N104,\"\")","v":""},{"$f":"IF(Résumé!$B73=1,FORM!$O104,\"\")","v":""},{"$f":"IF(AND(Résumé!$B73=1,FORM!$T104=\"Yes\"),FORM!$P104,\"\")","v":""},{"$f":"IF(AND(Résumé!$B73=1,FORM!$T104=\"Yes\"),FORM!$Q104,\"\")","v":""},{"$f":"IF(AND(Résumé!$B73=1,FORM!$T104=\"Yes\"),INT(P74/2*24)*2&\" - \"&INT(P74/2*24)*2+2&\" heures\",\"\")","v":""},{"$f":"IF(AND(Résumé!$B73=1,FORM!$T104=\"Yes\"),FORM!$R104,\"\")","v":""},{"$f":"IF(AND(Résumé!$B73=1,FORM!$T104=\"Yes\"),FORM!$S104,\"\")","v":""},{"$f":"IF(AND(Résumé!$B73=1,FORM!$T104=\"\"),\"\",IF(AND(Résumé!$B73=1,FORM!$T104>\"\"),FORM!$T104,\"\"))","v":""},{"$f":"IF(D74>\"0\",FORM!$I$24&\" \"&FORM!$J$24&\" \"&FORM!$M$24&\" - \"&FORM!$O$24,\"\")","v":""}]
[null,null,{"$f":"IF(Résumé!$B74=1,Résumé!$D74,\"\")","v":""},{"$f":"IF(Résumé!$B74=1,Résumé!E74,\"\")","v":""},{"$f":"IF(Résumé!$B74=0,\"\",Résumé!$G74)","v":""},{"$f":"IF(Résumé!$B74=0,\"\",IF(FORM!$H105=\"No\",\"PAS DE TRANSPORT\",\"OK\"))","v":""},{"$f":"IF(Résumé!$B74=1,FORM!$I105,\"\")","v":""},{"$f":"IF(Résumé!$B74=1,FORM!$J105,\"\")","v":""},{"$f":"IF(Résumé!$B74=1,FORM!$K105,\"\")","v":""},{"$f":"IF(Résumé!$B74=1,INT(I75/2*24)*2&\" - \"&INT(I75/2*24)*2+2&\" heures\",\"\")","v":""},{"$f":"IF(Résumé!$B74=1,FORM!$L105,\"\")","v":""},{"$f":"IF(Résumé!$B74=1,FORM!$M105,\"\")","v":""},{"$f":"IF(AND(Résumé!$B74=1,$F75=\"OK\"),FORM!$N105,\"\")","v":""},{"$f":"IF(Résumé!$B74=1,FORM!$O105,\"\")","v":""},{"$f":"IF(AND(Résumé!$B74=1,FORM!$T105=\"Yes\"),FORM!$P105,\"\")","v":""},{"$f":"IF(AND(Résumé!$B74=1,FORM!$T105=\"Yes\"),FORM!$Q105,\"\")","v":""},{"$f":"IF(AND(Résumé!$B74=1,FORM!$T105=\"Yes\"),INT(P75/2*24)*2&\" - \"&INT(P75/2*24)*2+2&\" heures\",\"\")","v":""},{"$f":"IF(AND(Résumé!$B74=1,FORM!$T105=\"Yes\"),FORM!$R105,\"\")","v":""},{"$f":"IF(AND(Résumé!$B74=1,FORM!$T105=\"Yes\"),FORM!$S105,\"\")","v":""},{"$f":"IF(AND(Résumé!$B74=1,FORM!$T105=\"\"),\"\",IF(AND(Résumé!$B74=1,FORM!$T105>\"\"),FORM!$T105,\"\"))","v":""},{"$f":"IF(D75>\"0\",FORM!$I$24&\" \"&FORM!$J$24&\" \"&FORM!$M$24&\" - \"&FORM!$O$24,\"\")","v":""}]
[null,null,{"$f":"IF(Résumé!$B75=1,Résumé!$D75,\"\")","v":""},{"$f":"IF(Résumé!$B75=1,Résumé!E75,\"\")","v":""},{"$f":"IF(Résumé!$B75=0,\"\",Résumé!$G75)","v":""},{"$f":"IF(Résumé!$B75=0,\"\",IF(FORM!$H106=\"No\",\"PAS DE TRANSPORT\",\"OK\"))","v":""},{"$f":"IF(Résumé!$B75=1,FORM!$I106,\"\")","v":""},{"$f":"IF(Résumé!$B75=1,FORM!$J106,\"\")","v":""},{"$f":"IF(Résumé!$B75=1,FORM!$K106,\"\")","v":""},{"$f":"IF(Résumé!$B75=1,INT(I76/2*24)*2&\" - \"&INT(I76/2*24)*2+2&\" heures\",\"\")","v":""},{"$f":"IF(Résumé!$B75=1,FORM!$L106,\"\")","v":""},{"$f":"IF(Résumé!$B75=1,FORM!$M106,\"\")","v":""},{"$f":"IF(AND(Résumé!$B75=1,$F76=\"OK\"),FORM!$N106,\"\")","v":""},{"$f":"IF(Résumé!$B75=1,FORM!$O106,\"\")","v":""},{"$f":"IF(AND(Résumé!$B75=1,FORM!$T106=\"Yes\"),FORM!$P106,\"\")","v":""},{"$f":"IF(AND(Résumé!$B75=1,FORM!$T106=\"Yes\"),FORM!$Q106,\"\")","v":""},{"$f":"IF(AND(Résumé!$B75=1,FORM!$T106=\"Yes\"),INT(P76/2*24)*2&\" - \"&INT(P76/2*24)*2+2&\" heures\",\"\")","v":""},{"$f":"IF(AND(Résumé!$B75=1,FORM!$T106=\"Yes\"),FORM!$R106,\"\")","v":""},{"$f":"IF(AND(Résumé!$B75=1,FORM!$T106=\"Yes\"),FORM!$S106,\"\")","v":""},{"$f":"IF(AND(Résumé!$B75=1,FORM!$T106=\"\"),\"\",IF(AND(Résumé!$B75=1,FORM!$T106>\"\"),FORM!$T106,\"\"))","v":""},{"$f":"IF(D76>\"0\",FORM!$I$24&\" \"&FORM!$J$24&\" \"&FORM!$M$24&\" - \"&FORM!$O$24,\"\")","v":""}]
[null,null,{"$f":"IF(Résumé!$B76=1,Résumé!$D76,\"\")","v":""},{"$f":"IF(Résumé!$B76=1,Résumé!E76,\"\")","v":""},{"$f":"IF(Résumé!$B76=0,\"\",Résumé!$G76)","v":""},{"$f":"IF(Résumé!$B76=0,\"\",IF(FORM!$H107=\"No\",\"PAS DE TRANSPORT\",\"OK\"))","v":""},{"$f":"IF(Résumé!$B76=1,FORM!$I107,\"\")","v":""},{"$f":"IF(Résumé!$B76=1,FORM!$J107,\"\")","v":""},{"$f":"IF(Résumé!$B76=1,FORM!$K107,\"\")","v":""},{"$f":"IF(Résumé!$B76=1,INT(I77/2*24)*2&\" - \"&INT(I77/2*24)*2+2&\" heures\",\"\")","v":""},{"$f":"IF(Résumé!$B76=1,FORM!$L107,\"\")","v":""},{"$f":"IF(Résumé!$B76=1,FORM!$M107,\"\")","v":""},{"$f":"IF(AND(Résumé!$B76=1,$F77=\"OK\"),FORM!$N107,\"\")","v":""},{"$f":"IF(Résumé!$B76=1,FORM!$O107,\"\")","v":""},{"$f":"IF(AND(Résumé!$B76=1,FORM!$T107=\"Yes\"),FORM!$P107,\"\")","v":""},{"$f":"IF(AND(Résumé!$B76=1,FORM!$T107=\"Yes\"),FORM!$Q107,\"\")","v":""},{"$f":"IF(AND(Résumé!$B76=1,FORM!$T107=\"Yes\"),INT(P77/2*24)*2&\" - \"&INT(P77/2*24)*2+2&\" heures\",\"\")","v":""},{"$f":"IF(AND(Résumé!$B76=1,FORM!$T107=\"Yes\"),FORM!$R107,\"\")","v":""},{"$f":"IF(AND(Résumé!$B76=1,FORM!$T107=\"Yes\"),FORM!$S107,\"\")","v":""},{"$f":"IF(AND(Résumé!$B76=1,FORM!$T107=\"\"),\"\",IF(AND(Résumé!$B76=1,FORM!$T107>\"\"),FORM!$T107,\"\"))","v":""},{"$f":"IF(D77>\"0\",FORM!$I$24&\" \"&FORM!$J$24&\" \"&FORM!$M$24&\" - \"&FORM!$O$24,\"\")","v":""}]
[null,null,{"$f":"IF(Résumé!$B77=1,Résumé!$D77,\"\")","v":""},{"$f":"IF(Résumé!$B77=1,Résumé!E77,\"\")","v":""},{"$f":"IF(Résumé!$B77=0,\"\",Résumé!$G77)","v":""},{"$f":"IF(Résumé!$B77=0,\"\",IF(FORM!$H108=\"No\",\"PAS DE TRANSPORT\",\"OK\"))","v":""},{"$f":"IF(Résumé!$B77=1,FORM!$I108,\"\")","v":""},{"$f":"IF(Résumé!$B77=1,FORM!$J108,\"\")","v":""},{"$f":"IF(Résumé!$B77=1,FORM!$K108,\"\")","v":""},{"$f":"IF(Résumé!$B77=1,INT(I78/2*24)*2&\" - \"&INT(I78/2*24)*2+2&\" heures\",\"\")","v":""},{"$f":"IF(Résumé!$B77=1,FORM!$L108,\"\")","v":""},{"$f":"IF(Résumé!$B77=1,FORM!$M108,\"\")","v":""},{"$f":"IF(AND(Résumé!$B77=1,$F78=\"OK\"),FORM!$N108,\"\")","v":""},{"$f":"IF(Résumé!$B77=1,FORM!$O108,\"\")","v":""},{"$f":"IF(AND(Résumé!$B77=1,FORM!$T108=\"Yes\"),FORM!$P108,\"\")","v":""},{"$f":"IF(AND(Résumé!$B77=1,FORM!$T108=\"Yes\"),FORM!$Q108,\"\")","v":""},{"$f":"IF(AND(Résumé!$B77=1,FORM!$T108=\"Yes\"),INT(P78/2*24)*2&\" - \"&INT(P78/2*24)*2+2&\" heures\",\"\")","v":""},{"$f":"IF(AND(Résumé!$B77=1,FORM!$T108=\"Yes\"),FORM!$R108,\"\")","v":""},{"$f":"IF(AND(Résumé!$B77=1,FORM!$T108=\"Yes\"),FORM!$S108,\"\")","v":""},{"$f":"IF(AND(Résumé!$B77=1,FORM!$T108=\"\"),\"\",IF(AND(Résumé!$B77=1,FORM!$T108>\"\"),FORM!$T108,\"\"))","v":""},{"$f":"IF(D78>\"0\",FORM!$I$24&\" \"&FORM!$J$24&\" \"&FORM!$M$24&\" - \"&FORM!$O$24,\"\")","v":""}]
[null,null,{"$f":"IF(Résumé!$B78=1,Résumé!$D78,\"\")","v":""},{"$f":"IF(Résumé!$B78=1,Résumé!E78,\"\")","v":""},{"$f":"IF(Résumé!$B78=0,\"\",Résumé!$G78)","v":""},{"$f":"IF(Résumé!$B78=0,\"\",IF(FORM!$H109=\"No\",\"PAS DE TRANSPORT\",\"OK\"))","v":""},{"$f":"IF(Résumé!$B78=1,FORM!$I109,\"\")","v":""},{"$f":"IF(Résumé!$B78=1,FORM!$J109,\"\")","v":""},{"$f":"IF(Résumé!$B78=1,FORM!$K109,\"\")","v":""},{"$f":"IF(Résumé!$B78=1,INT(I79/2*24)*2&\" - \"&INT(I79/2*24)*2+2&\" heures\",\"\")","v":""},{"$f":"IF(Résumé!$B78=1,FORM!$L109,\"\")","v":""},{"$f":"IF(Résumé!$B78=1,FORM!$M109,\"\")","v":""},{"$f":"IF(AND(Résumé!$B78=1,$F79=\"OK\"),FORM!$N109,\"\")","v":""},{"$f":"IF(Résumé!$B78=1,FORM!$O109,\"\")","v":""},{"$f":"IF(AND(Résumé!$B78=1,FORM!$T109=\"Yes\"),FORM!$P109,\"\")","v":""},{"$f":"IF(AND(Résumé!$B78=1,FORM!$T109=\"Yes\"),FORM!$Q109,\"\")","v":""},{"$f":"IF(AND(Résumé!$B78=1,FORM!$T109=\"Yes\"),INT(P79/2*24)*2&\" - \"&INT(P79/2*24)*2+2&\" heures\",\"\")","v":""},{"$f":"IF(AND(Résumé!$B78=1,FORM!$T109=\"Yes\"),FORM!$R109,\"\")","v":""},{"$f":"IF(AND(Résumé!$B78=1,FORM!$T109=\"Yes\"),FORM!$S109,\"\")","v":""},{"$f":"IF(AND(Résumé!$B78=1,FORM!$T109=\"\"),\"\",IF(AND(Résumé!$B78=1,FORM!$T109>\"\"),FORM!$T109,\"\"))","v":""},{"$f":"IF(D79>\"0\",FORM!$I$24&\" \"&FORM!$J$24&\" \"&FORM!$M$24&\" - \"&FORM!$O$24,\"\")","v":""}]
[null,null,{"$f":"IF(Résumé!$B79=1,Résumé!$D79,\"\")","v":""},{"$f":"IF(Résumé!$B79=1,Résumé!E79,\"\")","v":""},{"$f":"IF(Résumé!$B79=0,\"\",Résumé!$G79)","v":""},{"$f":"IF(Résumé!$B79=0,\"\",IF(FORM!$H110=\"No\",\"PAS DE TRANSPORT\",\"OK\"))","v":""},{"$f":"IF(Résumé!$B79=1,FORM!$I110,\"\")","v":""},{"$f":"IF(Résumé!$B79=1,FORM!$J110,\"\")","v":""},{"$f":"IF(Résumé!$B79=1,FORM!$K110,\"\")","v":""},{"$f":"IF(Résumé!$B79=1,INT(I80/2*24)*2&\" - \"&INT(I80/2*24)*2+2&\" heures\",\"\")","v":""},{"$f":"IF(Résumé!$B79=1,FORM!$L110,\"\")","v":""},{"$f":"IF(Résumé!$B79=1,FORM!$M110,\"\")","v":""},{"$f":"IF(AND(Résumé!$B79=1,$F80=\"OK\"),FORM!$N110,\"\")","v":""},{"$f":"IF(Résumé!$B79=1,FORM!$O110,\"\")","v":""},{"$f":"IF(AND(Résumé!$B79=1,FORM!$T110=\"Yes\"),FORM!$P110,\"\")","v":""},{"$f":"IF(AND(Résumé!$B79=1,FORM!$T110=\"Yes\"),FORM!$Q110,\"\")","v":""},{"$f":"IF(AND(Résumé!$B79=1,FORM!$T110=\"Yes\"),INT(P80/2*24)*2&\" - \"&INT(P80/2*24)*2+2&\" heures\",\"\")","v":""},{"$f":"IF(AND(Résumé!$B79=1,FORM!$T110=\"Yes\"),FORM!$R110,\"\")","v":""},{"$f":"IF(AND(Résumé!$B79=1,FORM!$T110=\"Yes\"),FORM!$S110,\"\")","v":""},{"$f":"IF(AND(Résumé!$B79=1,FORM!$T110=\"\"),\"\",IF(AND(Résumé!$B79=1,FORM!$T110>\"\"),FORM!$T110,\"\"))","v":""},{"$f":"IF(D80>\"0\",FORM!$I$24&\" \"&FORM!$J$24&\" \"&FORM!$M$24&\" - \"&FORM!$O$24,\"\")","v":""}]
[null,null,{"$f":"IF(Résumé!$B80=1,Résumé!$D80,\"\")","v":""},{"$f":"IF(Résumé!$B80=1,Résumé!E80,\"\")","v":""},{"$f":"IF(Résumé!$B80=0,\"\",Résumé!$G80)","v":""},{"$f":"IF(Résumé!$B80=0,\"\",IF(FORM!$H111=\"No\",\"PAS DE TRANSPORT\",\"OK\"))","v":""},{"$f":"IF(Résumé!$B80=1,FORM!$I111,\"\")","v":""},{"$f":"IF(Résumé!$B80=1,FORM!$J111,\"\")","v":""},{"$f":"IF(Résumé!$B80=1,FORM!$K111,\"\")","v":""},{"$f":"IF(Résumé!$B80=1,INT(I81/2*24)*2&\" - \"&INT(I81/2*24)*2+2&\" heures\",\"\")","v":""},{"$f":"IF(Résumé!$B80=1,FORM!$L111,\"\")","v":""},{"$f":"IF(Résumé!$B80=1,FORM!$M111,\"\")","v":""},{"$f":"IF(AND(Résumé!$B80=1,$F81=\"OK\"),FORM!$N111,\"\")","v":""},{"$f":"IF(Résumé!$B80=1,FORM!$O111,\"\")","v":""},{"$f":"IF(AND(Résumé!$B80=1,FORM!$T111=\"Yes\"),FORM!$P111,\"\")","v":""},{"$f":"IF(AND(Résumé!$B80=1,FORM!$T111=\"Yes\"),FORM!$Q111,\"\")","v":""},{"$f":"IF(AND(Résumé!$B80=1,FORM!$T111=\"Yes\"),INT(P81/2*24)*2&\" - \"&INT(P81/2*24)*2+2&\" heures\",\"\")","v":""},{"$f":"IF(AND(Résumé!$B80=1,FORM!$T111=\"Yes\"),FORM!$R111,\"\")","v":""},{"$f":"IF(AND(Résumé!$B80=1,FORM!$T111=\"Yes\"),FORM!$S111,\"\")","v":""},{"$f":"IF(AND(Résumé!$B80=1,FORM!$T111=\"\"),\"\",IF(AND(Résumé!$B80=1,FORM!$T111>\"\"),FORM!$T111,\"\"))","v":""},{"$f":"IF(D81>\"0\",FORM!$I$24&\" \"&FORM!$J$24&\" \"&FORM!$M$24&\" - \"&FORM!$O$24,\"\")","v":""}]
[null,null,{"$f":"IF(Résumé!$B81=1,Résumé!$D81,\"\")","v":""},{"$f":"IF(Résumé!$B81=1,Résumé!E81,\"\")","v":""},{"$f":"IF(Résumé!$B81=0,\"\",Résumé!$G81)","v":""},{"$f":"IF(Résumé!$B81=0,\"\",IF(FORM!$H112=\"No\",\"PAS DE TRANSPORT\",\"OK\"))","v":""},{"$f":"IF(Résumé!$B81=1,FORM!$I112,\"\")","v":""},{"$f":"IF(Résumé!$B81=1,FORM!$J112,\"\")","v":""},{"$f":"IF(Résumé!$B81=1,FORM!$K112,\"\")","v":""},{"$f":"IF(Résumé!$B81=1,INT(I82/2*24)*2&\" - \"&INT(I82/2*24)*2+2&\" heures\",\"\")","v":""},{"$f":"IF(Résumé!$B81=1,FORM!$L112,\"\")","v":""},{"$f":"IF(Résumé!$B81=1,FORM!$M112,\"\")","v":""},{"$f":"IF(AND(Résumé!$B81=1,$F82=\"OK\"),FORM!$N112,\"\")","v":""},{"$f":"IF(Résumé!$B81=1,FORM!$O112,\"\")","v":""},{"$f":"IF(AND(Résumé!$B81=1,FORM!$T112=\"Yes\"),FORM!$P112,\"\")","v":""},{"$f":"IF(AND(Résumé!$B81=1,FORM!$T112=\"Yes\"),FORM!$Q112,\"\")","v":""},{"$f":"IF(AND(Résumé!$B81=1,FORM!$T112=\"Yes\"),INT(P82/2*24)*2&\" - \"&INT(P82/2*24)*2+2&\" heures\",\"\")","v":""},{"$f":"IF(AND(Résumé!$B81=1,FORM!$T112=\"Yes\"),FORM!$R112,\"\")","v":""},{"$f":"IF(AND(Résumé!$B81=1,FORM!$T112=\"Yes\"),FORM!$S112,\"\")","v":""},{"$f":"IF(AND(Résumé!$B81=1,FORM!$T112=\"\"),\"\",IF(AND(Résumé!$B81=1,FORM!$T112>\"\"),FORM!$T112,\"\"))","v":""},{"$f":"IF(D82>\"0\",FORM!$I$24&\" \"&FORM!$J$24&\" \"&FORM!$M$24&\" - \"&FORM!$O$24,\"\")","v":""}]
[null,null,{"$f":"IF(Résumé!$B82=1,Résumé!$D82,\"\")","v":""},{"$f":"IF(Résumé!$B82=1,Résumé!E82,\"\")","v":""},{"$f":"IF(Résumé!$B82=0,\"\",Résumé!$G82)","v":""},{"$f":"IF(Résumé!$B82=0,\"\",IF(FORM!$H113=\"No\",\"PAS DE TRANSPORT\",\"OK\"))","v":""},{"$f":"IF(Résumé!$B82=1,FORM!$I113,\"\")","v":""},{"$f":"IF(Résumé!$B82=1,FORM!$J113,\"\")","v":""},{"$f":"IF(Résumé!$B82=1,FORM!$K113,\"\")","v":""},{"$f":"IF(Résumé!$B82=1,INT(I83/2*24)*2&\" - \"&INT(I83/2*24)*2+2&\" heures\",\"\")","v":""},{"$f":"IF(Résumé!$B82=1,FORM!$L113,\"\")","v":""},{"$f":"IF(Résumé!$B82=1,FORM!$M113,\"\")","v":""},{"$f":"IF(AND(Résumé!$B82=1,$F83=\"OK\"),FORM!$N113,\"\")","v":""},{"$f":"IF(Résumé!$B82=1,FORM!$O113,\"\")","v":""},{"$f":"IF(AND(Résumé!$B82=1,FORM!$T113=\"Yes\"),FORM!$P113,\"\")","v":""},{"$f":"IF(AND(Résumé!$B82=1,FORM!$T113=\"Yes\"),FORM!$Q113,\"\")","v":""},{"$f":"IF(AND(Résumé!$B82=1,FORM!$T113=\"Yes\"),INT(P83/2*24)*2&\" - \"&INT(P83/2*24)*2+2&\" heures\",\"\")","v":""},{"$f":"IF(AND(Résumé!$B82=1,FORM!$T113=\"Yes\"),FORM!$R113,\"\")","v":""},{"$f":"IF(AND(Résumé!$B82=1,FORM!$T113=\"Yes\"),FORM!$S113,\"\")","v":""},{"$f":"IF(AND(Résumé!$B82=1,FORM!$T113=\"\"),\"\",IF(AND(Résumé!$B82=1,FORM!$T113>\"\"),FORM!$T113,\"\"))","v":""},{"$f":"IF(D83>\"0\",FORM!$I$24&\" \"&FORM!$J$24&\" \"&FORM!$M$24&\" - \"&FORM!$O$24,\"\")","v":""}]
[null,null,{"$f":"IF(Résumé!$B83=1,Résumé!$D83,\"\")","v":""},{"$f":"IF(Résumé!$B83=1,Résumé!E83,\"\")","v":""},{"$f":"IF(Résumé!$B83=0,\"\",Résumé!$G83)","v":""},{"$f":"IF(Résumé!$B83=0,\"\",IF(FORM!$H114=\"No\",\"PAS DE TRANSPORT\",\"OK\"))","v":""},{"$f":"IF(Résumé!$B83=1,FORM!$I114,\"\")","v":""},{"$f":"IF(Résumé!$B83=1,FORM!$J114,\"\")","v":""},{"$f":"IF(Résumé!$B83=1,FORM!$K114,\"\")","v":""},{"$f":"IF(Résumé!$B83=1,INT(I84/2*24)*2&\" - \"&INT(I84/2*24)*2+2&\" heures\",\"\")","v":""},{"$f":"IF(Résumé!$B83=1,FORM!$L114,\"\")","v":""},{"$f":"IF(Résumé!$B83=1,FORM!$M114,\"\")","v":""},{"$f":"IF(AND(Résumé!$B83=1,$F84=\"OK\"),FORM!$N114,\"\")","v":""},{"$f":"IF(Résumé!$B83=1,FORM!$O114,\"\")","v":""},{"$f":"IF(AND(Résumé!$B83=1,FORM!$T114=\"Yes\"),FORM!$P114,\"\")","v":""},{"$f":"IF(AND(Résumé!$B83=1,FORM!$T114=\"Yes\"),FORM!$Q114,\"\")","v":""},{"$f":"IF(AND(Résumé!$B83=1,FORM!$T114=\"Yes\"),INT(P84/2*24)*2&\" - \"&INT(P84/2*24)*2+2&\" heures\",\"\")","v":""},{"$f":"IF(AND(Résumé!$B83=1,FORM!$T114=\"Yes\"),FORM!$R114,\"\")","v":""},{"$f":"IF(AND(Résumé!$B83=1,FORM!$T114=\"Yes\"),FORM!$S114,\"\")","v":""},{"$f":"IF(AND(Résumé!$B83=1,FORM!$T114=\"\"),\"\",IF(AND(Résumé!$B83=1,FORM!$T114>\"\"),FORM!$T114,\"\"))","v":""},{"$f":"IF(D84>\"0\",FORM!$I$24&\" \"&FORM!$J$24&\" \"&FORM!$M$24&\" - \"&FORM!$O$24,\"\")","v":""}]
[null,null,{"$f":"IF(Résumé!$B84=1,Résumé!$D84,\"\")","v":""},{"$f":"IF(Résumé!$B84=1,Résumé!E84,\"\")","v":""},{"$f":"IF(Résumé!$B84=0,\"\",Résumé!$G84)","v":""},{"$f":"IF(Résumé!$B84=0,\"\",IF(FORM!$H115=\"No\",\"PAS DE TRANSPORT\",\"OK\"))","v":""},{"$f":"IF(Résumé!$B84=1,FORM!$I115,\"\")","v":""},{"$f":"IF(Résumé!$B84=1,FORM!$J115,\"\")","v":""},{"$f":"IF(Résumé!$B84=1,FORM!$K115,\"\")","v":""},{"$f":"IF(Résumé!$B84=1,INT(I85/2*24)*2&\" - \"&INT(I85/2*24)*2+2&\" heures\",\"\")","v":""},{"$f":"IF(Résumé!$B84=1,FORM!$L115,\"\")","v":""},{"$f":"IF(Résumé!$B84=1,FORM!$M115,\"\")","v":""},{"$f":"IF(AND(Résumé!$B84=1,$F85=\"OK\"),FORM!$N115,\"\")","v":""},{"$f":"IF(Résumé!$B84=1,FORM!$O115,\"\")","v":""},{"$f":"IF(AND(Résumé!$B84=1,FORM!$T115=\"Yes\"),FORM!$P115,\"\")","v":""},{"$f":"IF(AND(Résumé!$B84=1,FORM!$T115=\"Yes\"),FORM!$Q115,\"\")","v":""},{"$f":"IF(AND(Résumé!$B84=1,FORM!$T115=\"Yes\"),INT(P85/2*24)*2&\" - \"&INT(P85/2*24)*2+2&\" heures\",\"\")","v":""},{"$f":"IF(AND(Résumé!$B84=1,FORM!$T115=\"Yes\"),FORM!$R115,\"\")","v":""},{"$f":"IF(AND(Résumé!$B84=1,FORM!$T115=\"Yes\"),FORM!$S115,\"\")","v":""},{"$f":"IF(AND(Résumé!$B84=1,FORM!$T115=\"\"),\"\",IF(AND(Résumé!$B84=1,FORM!$T115>\"\"),FORM!$T115,\"\"))","v":""},{"$f":"IF(D85>\"0\",FORM!$I$24&\" \"&FORM!$J$24&\" \"&FORM!$M$24&\" - \"&FORM!$O$24,\"\")","v":""}]
[null,null,{"$f":"IF(Résumé!$B85=1,Résumé!$D85,\"\")","v":""},{"$f":"IF(Résumé!$B85=1,Résumé!E85,\"\")","v":""},{"$f":"IF(Résumé!$B85=0,\"\",Résumé!$G85)","v":""},{"$f":"IF(Résumé!$B85=0,\"\",IF(FORM!$H116=\"No\",\"PAS DE TRANSPORT\",\"OK\"))","v":""},{"$f":"IF(Résumé!$B85=1,FORM!$I116,\"\")","v":""},{"$f":"IF(Résumé!$B85=1,FORM!$J116,\"\")","v":""},{"$f":"IF(Résumé!$B85=1,FORM!$K116,\"\")","v":""},{"$f":"IF(Résumé!$B85=1,INT(I86/2*24)*2&\" - \"&INT(I86/2*24)*2+2&\" heures\",\"\")","v":""},{"$f":"IF(Résumé!$B85=1,FORM!$L116,\"\")","v":""},{"$f":"IF(Résumé!$B85=1,FORM!$M116,\"\")","v":""},{"$f":"IF(AND(Résumé!$B85=1,$F86=\"OK\"),FORM!$N116,\"\")","v":""},{"$f":"IF(Résumé!$B85=1,FORM!$O116,\"\")","v":""},{"$f":"IF(AND(Résumé!$B85=1,FORM!$T116=\"Yes\"),FORM!$P116,\"\")","v":""},{"$f":"IF(AND(Résumé!$B85=1,FORM!$T116=\"Yes\"),FORM!$Q116,\"\")","v":""},{"$f":"IF(AND(Résumé!$B85=1,FORM!$T116=\"Yes\"),INT(P86/2*24)*2&\" - \"&INT(P86/2*24)*2+2&\" heures\",\"\")","v":""},{"$f":"IF(AND(Résumé!$B85=1,FORM!$T116=\"Yes\"),FORM!$R116,\"\")","v":""},{"$f":"IF(AND(Résumé!$B85=1,FORM!$T116=\"Yes\"),FORM!$S116,\"\")","v":""},{"$f":"IF(AND(Résumé!$B85=1,FORM!$T116=\"\"),\"\",IF(AND(Résumé!$B85=1,FORM!$T116>\"\"),FORM!$T116,\"\"))","v":""},{"$f":"IF(D86>\"0\",FORM!$I$24&\" \"&FORM!$J$24&\" \"&FORM!$M$24&\" - \"&FORM!$O$24,\"\")","v":""}]
[null,null,{"$f":"IF(Résumé!$B86=1,Résumé!$D86,\"\")","v":""},{"$f":"IF(Résumé!$B86=1,Résumé!E86,\"\")","v":""},{"$f":"IF(Résumé!$B86=0,\"\",Résumé!$G86)","v":""},{"$f":"IF(Résumé!$B86=0,\"\",IF(FORM!$H117=\"No\",\"PAS DE TRANSPORT\",\"OK\"))","v":""},{"$f":"IF(Résumé!$B86=1,FORM!$I117,\"\")","v":""},{"$f":"IF(Résumé!$B86=1,FORM!$J117,\"\")","v":""},{"$f":"IF(Résumé!$B86=1,FORM!$K117,\"\")","v":""},{"$f":"IF(Résumé!$B86=1,INT(I87/2*24)*2&\" - \"&INT(I87/2*24)*2+2&\" heures\",\"\")","v":""},{"$f":"IF(Résumé!$B86=1,FORM!$L117,\"\")","v":""},{"$f":"IF(Résumé!$B86=1,FORM!$M117,\"\")","v":""},{"$f":"IF(AND(Résumé!$B86=1,$F87=\"OK\"),FORM!$N117,\"\")","v":""},{"$f":"IF(Résumé!$B86=1,FORM!$O117,\"\")","v":""},{"$f":"IF(AND(Résumé!$B86=1,FORM!$T117=\"Yes\"),FORM!$P117,\"\")","v":""},{"$f":"IF(AND(Résumé!$B86=1,FORM!$T117=\"Yes\"),FORM!$Q117,\"\")","v":""},{"$f":"IF(AND(Résumé!$B86=1,FORM!$T117=\"Yes\"),INT(P87/2*24)*2&\" - \"&INT(P87/2*24)*2+2&\" heures\",\"\")","v":""},{"$f":"IF(AND(Résumé!$B86=1,FORM!$T117=\"Yes\"),FORM!$R117,\"\")","v":""},{"$f":"IF(AND(Résumé!$B86=1,FORM!$T117=\"Yes\"),FORM!$S117,\"\")","v":""},{"$f":"IF(AND(Résumé!$B86=1,FORM!$T117=\"\"),\"\",IF(AND(Résumé!$B86=1,FORM!$T117>\"\"),FORM!$T117,\"\"))","v":""},{"$f":"IF(D87>\"0\",FORM!$I$24&\" \"&FORM!$J$24&\" \"&FORM!$M$24&\" - \"&FORM!$O$24,\"\")","v":""}]
[null,null,{"$f":"IF(Résumé!$B87=1,Résumé!$D87,\"\")","v":""},{"$f":"IF(Résumé!$B87=1,Résumé!E87,\"\")","v":""},{"$f":"IF(Résumé!$B87=0,\"\",Résumé!$G87)","v":""},{"$f":"IF(Résumé!$B87=0,\"\",IF(FORM!$H118=\"No\",\"PAS DE TRANSPORT\",\"OK\"))","v":""},{"$f":"IF(Résumé!$B87=1,FORM!$I118,\"\")","v":""},{"$f":"IF(Résumé!$B87=1,FORM!$J118,\"\")","v":""},{"$f":"IF(Résumé!$B87=1,FORM!$K118,\"\")","v":""},{"$f":"IF(Résumé!$B87=1,INT(I88/2*24)*2&\" - \"&INT(I88/2*24)*2+2&\" heures\",\"\")","v":""},{"$f":"IF(Résumé!$B87=1,FORM!$L118,\"\")","v":""},{"$f":"IF(Résumé!$B87=1,FORM!$M118,\"\")","v":""},{"$f":"IF(AND(Résumé!$B87=1,$F88=\"OK\"),FORM!$N118,\"\")","v":""},{"$f":"IF(Résumé!$B87=1,FORM!$O118,\"\")","v":""},{"$f":"IF(AND(Résumé!$B87=1,FORM!$T118=\"Yes\"),FORM!$P118,\"\")","v":""},{"$f":"IF(AND(Résumé!$B87=1,FORM!$T118=\"Yes\"),FORM!$Q118,\"\")","v":""},{"$f":"IF(AND(Résumé!$B87=1,FORM!$T118=\"Yes\"),INT(P88/2*24)*2&\" - \"&INT(P88/2*24)*2+2&\" heures\",\"\")","v":""},{"$f":"IF(AND(Résumé!$B87=1,FORM!$T118=\"Yes\"),FORM!$R118,\"\")","v":""},{"$f":"IF(AND(Résumé!$B87=1,FORM!$T118=\"Yes\"),FORM!$S118,\"\")","v":""},{"$f":"IF(AND(Résumé!$B87=1,FORM!$T118=\"\"),\"\",IF(AND(Résumé!$B87=1,FORM!$T118>\"\"),FORM!$T118,\"\"))","v":""},{"$f":"IF(D88>\"0\",FORM!$I$24&\" \"&FORM!$J$24&\" \"&FORM!$M$24&\" - \"&FORM!$O$24,\"\")","v":""}]
[null,null,{"$f":"IF(Résumé!$B88=1,Résumé!$D88,\"\")","v":""},{"$f":"IF(Résumé!$B88=1,Résumé!E88,\"\")","v":""},{"$f":"IF(Résumé!$B88=0,\"\",Résumé!$G88)","v":""},{"$f":"IF(Résumé!$B88=0,\"\",IF(FORM!$H119=\"No\",\"PAS DE TRANSPORT\",\"OK\"))","v":""},{"$f":"IF(Résumé!$B88=1,FORM!$I119,\"\")","v":""},{"$f":"IF(Résumé!$B88=1,FORM!$J119,\"\")","v":""},{"$f":"IF(Résumé!$B88=1,FORM!$K119,\"\")","v":""},{"$f":"IF(Résumé!$B88=1,INT(I89/2*24)*2&\" - \"&INT(I89/2*24)*2+2&\" heures\",\"\")","v":""},{"$f":"IF(Résumé!$B88=1,FORM!$L119,\"\")","v":""},{"$f":"IF(Résumé!$B88=1,FORM!$M119,\"\")","v":""},{"$f":"IF(AND(Résumé!$B88=1,$F89=\"OK\"),FORM!$N119,\"\")","v":""},{"$f":"IF(Résumé!$B88=1,FORM!$O119,\"\")","v":""},{"$f":"IF(AND(Résumé!$B88=1,FORM!$T119=\"Yes\"),FORM!$P119,\"\")","v":""},{"$f":"IF(AND(Résumé!$B88=1,FORM!$T119=\"Yes\"),FORM!$Q119,\"\")","v":""},{"$f":"IF(AND(Résumé!$B88=1,FORM!$T119=\"Yes\"),INT(P89/2*24)*2&\" - \"&INT(P89/2*24)*2+2&\" heures\",\"\")","v":""},{"$f":"IF(AND(Résumé!$B88=1,FORM!$T119=\"Yes\"),FORM!$R119,\"\")","v":""},{"$f":"IF(AND(Résumé!$B88=1,FORM!$T119=\"Yes\"),FORM!$S119,\"\")","v":""},{"$f":"IF(AND(Résumé!$B88=1,FORM!$T119=\"\"),\"\",IF(AND(Résumé!$B88=1,FORM!$T119>\"\"),FORM!$T119,\"\"))","v":""},{"$f":"IF(D89>\"0\",FORM!$I$24&\" \"&FORM!$J$24&\" \"&FORM!$M$24&\" - \"&FORM!$O$24,\"\")","v":""}]
[null,null,{"$f":"IF(Résumé!$B89=1,Résumé!$D89,\"\")","v":""},{"$f":"IF(Résumé!$B89=1,Résumé!E89,\"\")","v":""},{"$f":"IF(Résumé!$B89=0,\"\",Résumé!$G89)","v":""},{"$f":"IF(Résumé!$B89=0,\"\",IF(FORM!$H120=\"No\",\"PAS DE TRANSPORT\",\"OK\"))","v":""},{"$f":"IF(Résumé!$B89=1,FORM!$I120,\"\")","v":""},{"$f":"IF(Résumé!$B89=1,FORM!$J120,\"\")","v":""},{"$f":"IF(Résumé!$B89=1,FORM!$K120,\"\")","v":""},{"$f":"IF(Résumé!$B89=1,INT(I90/2*24)*2&\" - \"&INT(I90/2*24)*2+2&\" heures\",\"\")","v":""},{"$f":"IF(Résumé!$B89=1,FORM!$L120,\"\")","v":""},{"$f":"IF(Résumé!$B89=1,FORM!$M120,\"\")","v":""},{"$f":"IF(AND(Résumé!$B89=1,$F90=\"OK\"),FORM!$N120,\"\")","v":""},{"$f":"IF(Résumé!$B89=1,FORM!$O120,\"\")","v":""},{"$f":"IF(AND(Résumé!$B89=1,FORM!$T120=\"Yes\"),FORM!$P120,\"\")","v":""},{"$f":"IF(AND(Résumé!$B89=1,FORM!$T120=\"Yes\"),FORM!$Q120,\"\")","v":""},{"$f":"IF(AND(Résumé!$B89=1,FORM!$T120=\"Yes\"),INT(P90/2*24)*2&\" - \"&INT(P90/2*24)*2+2&\" heures\",\"\")","v":""},{"$f":"IF(AND(Résumé!$B89=1,FORM!$T120=\"Yes\"),FORM!$R120,\"\")","v":""},{"$f":"IF(AND(Résumé!$B89=1,FORM!$T120=\"Yes\"),FORM!$S120,\"\")","v":""},{"$f":"IF(AND(Résumé!$B89=1,FORM!$T120=\"\"),\"\",IF(AND(Résumé!$B89=1,FORM!$T120>\"\"),FORM!$T120,\"\"))","v":""},{"$f":"IF(D90>\"0\",FORM!$I$24&\" \"&FORM!$J$24&\" \"&FORM!$M$24&\" - \"&FORM!$O$24,\"\")","v":""}]
[null,null,{"$f":"IF(Résumé!$B90=1,Résumé!$D90,\"\")","v":""},{"$f":"IF(Résumé!$B90=1,Résumé!E90,\"\")","v":""},{"$f":"IF(Résumé!$B90=0,\"\",Résumé!$G90)","v":""},{"$f":"IF(Résumé!$B90=0,\"\",IF(FORM!$H121=\"No\",\"PAS DE TRANSPORT\",\"OK\"))","v":""},{"$f":"IF(Résumé!$B90=1,FORM!$I121,\"\")","v":""},{"$f":"IF(Résumé!$B90=1,FORM!$J121,\"\")","v":""},{"$f":"IF(Résumé!$B90=1,FORM!$K121,\"\")","v":""},{"$f":"IF(Résumé!$B90=1,INT(I91/2*24)*2&\" - \"&INT(I91/2*24)*2+2&\" heures\",\"\")","v":""},{"$f":"IF(Résumé!$B90=1,FORM!$L121,\"\")","v":""},{"$f":"IF(Résumé!$B90=1,FORM!$M121,\"\")","v":""},{"$f":"IF(AND(Résumé!$B90=1,$F91=\"OK\"),FORM!$N121,\"\")","v":""},{"$f":"IF(Résumé!$B90=1,FORM!$O121,\"\")","v":""},{"$f":"IF(AND(Résumé!$B90=1,FORM!$T121=\"Yes\"),FORM!$P121,\"\")","v":""},{"$f":"IF(AND(Résumé!$B90=1,FORM!$T121=\"Yes\"),FORM!$Q121,\"\")","v":""},{"$f":"IF(AND(Résumé!$B90=1,FORM!$T121=\"Yes\"),INT(P91/2*24)*2&\" - \"&INT(P91/2*24)*2+2&\" heures\",\"\")","v":""},{"$f":"IF(AND(Résumé!$B90=1,FORM!$T121=\"Yes\"),FORM!$R121,\"\")","v":""},{"$f":"IF(AND(Résumé!$B90=1,FORM!$T121=\"Yes\"),FORM!$S121,\"\")","v":""},{"$f":"IF(AND(Résumé!$B90=1,FORM!$T121=\"\"),\"\",IF(AND(Résumé!$B90=1,FORM!$T121>\"\"),FORM!$T121,\"\"))","v":""},{"$f":"IF(D91>\"0\",FORM!$I$24&\" \"&FORM!$J$24&\" \"&FORM!$M$24&\" - \"&FORM!$O$24,\"\")","v":""}]
[null,null,{"$f":"IF(Résumé!$B91=1,Résumé!$D91,\"\")","v":""},{"$f":"IF(Résumé!$B91=1,Résumé!E91,\"\")","v":""},{"$f":"IF(Résumé!$B91=0,\"\",Résumé!$G91)","v":""},{"$f":"IF(Résumé!$B91=0,\"\",IF(FORM!$H122=\"No\",\"PAS DE TRANSPORT\",\"OK\"))","v":""},{"$f":"IF(Résumé!$B91=1,FORM!$I122,\"\")","v":""},{"$f":"IF(Résumé!$B91=1,FORM!$J122,\"\")","v":""},{"$f":"IF(Résumé!$B91=1,FORM!$K122,\"\")","v":""},{"$f":"IF(Résumé!$B91=1,INT(I92/2*24)*2&\" - \"&INT(I92/2*24)*2+2&\" heures\",\"\")","v":""},{"$f":"IF(Résumé!$B91=1,FORM!$L122,\"\")","v":""},{"$f":"IF(Résumé!$B91=1,FORM!$M122,\"\")","v":""},{"$f":"IF(AND(Résumé!$B91=1,$F92=\"OK\"),FORM!$N122,\"\")","v":""},{"$f":"IF(Résumé!$B91=1,FORM!$O122,\"\")","v":""},{"$f":"IF(AND(Résumé!$B91=1,FORM!$T122=\"Yes\"),FORM!$P122,\"\")","v":""},{"$f":"IF(AND(Résumé!$B91=1,FORM!$T122=\"Yes\"),FORM!$Q122,\"\")","v":""},{"$f":"IF(AND(Résumé!$B91=1,FORM!$T122=\"Yes\"),INT(P92/2*24)*2&\" - \"&INT(P92/2*24)*2+2&\" heures\",\"\")","v":""},{"$f":"IF(AND(Résumé!$B91=1,FORM!$T122=\"Yes\"),FORM!$R122,\"\")","v":""},{"$f":"IF(AND(Résumé!$B91=1,FORM!$T122=\"Yes\"),FORM!$S122,\"\")","v":""},{"$f":"IF(AND(Résumé!$B91=1,FORM!$T122=\"\"),\"\",IF(AND(Résumé!$B91=1,FORM!$T122>\"\"),FORM!$T122,\"\"))","v":""},{"$f":"IF(D92>\"0\",FORM!$I$24&\" \"&FORM!$J$24&\" \"&FORM!$M$24&\" - \"&FORM!$O$24,\"\")","v":""}]
[null,null,{"$f":"IF(Résumé!$B92=1,Résumé!$D92,\"\")","v":""},{"$f":"IF(Résumé!$B92=1,Résumé!E92,\"\")","v":""},{"$f":"IF(Résumé!$B92=0,\"\",Résumé!$G92)","v":""},{"$f":"IF(Résumé!$B92=0,\"\",IF(FORM!$H123=\"No\",\"PAS DE TRANSPORT\",\"OK\"))","v":""},{"$f":"IF(Résumé!$B92=1,FORM!$I123,\"\")","v":""},{"$f":"IF(Résumé!$B92=1,FORM!$J123,\"\")","v":""},{"$f":"IF(Résumé!$B92=1,FORM!$K123,\"\")","v":""},{"$f":"IF(Résumé!$B92=1,INT(I93/2*24)*2&\" - \"&INT(I93/2*24)*2+2&\" heures\",\"\")","v":""},{"$f":"IF(Résumé!$B92=1,FORM!$L123,\"\")","v":""},{"$f":"IF(Résumé!$B92=1,FORM!$M123,\"\")","v":""},{"$f":"IF(AND(Résumé!$B92=1,$F93=\"OK\"),FORM!$N123,\"\")","v":""},{"$f":"IF(Résumé!$B92=1,FORM!$O123,\"\")","v":""},{"$f":"IF(AND(Résumé!$B92=1,FORM!$T123=\"Yes\"),FORM!$P123,\"\")","v":""},{"$f":"IF(AND(Résumé!$B92=1,FORM!$T123=\"Yes\"),FORM!$Q123,\"\")","v":""},{"$f":"IF(AND(Résumé!$B92=1,FORM!$T123=\"Yes\"),INT(P93/2*24)*2&\" - \"&INT(P93/2*24)*2+2&\" heures\",\"\")","v":""},{"$f":"IF(AND(Résumé!$B92=1,FORM!$T123=\"Yes\"),FORM!$R123,\"\")","v":""},{"$f":"IF(AND(Résumé!$B92=1,FORM!$T123=\"Yes\"),FORM!$S123,\"\")","v":""},{"$f":"IF(AND(Résumé!$B92=1,FORM!$T123=\"\"),\"\",IF(AND(Résumé!$B92=1,FORM!$T123>\"\"),FORM!$T123,\"\"))","v":""},{"$f":"IF(D93>\"0\",FORM!$I$24&\" \"&FORM!$J$24&\" \"&FORM!$M$24&\" - \"&FORM!$O$24,\"\")","v":""}]
[null,null,{"$f":"IF(Résumé!$B93=1,Résumé!$D93,\"\")","v":""},{"$f":"IF(Résumé!$B93=1,Résumé!E93,\"\")","v":""},{"$f":"IF(Résumé!$B93=0,\"\",Résumé!$G93)","v":""},{"$f":"IF(Résumé!$B93=0,\"\",IF(FORM!$H124=\"No\",\"PAS DE TRANSPORT\",\"OK\"))","v":""},{"$f":"IF(Résumé!$B93=1,FORM!$I124,\"\")","v":""},{"$f":"IF(Résumé!$B93=1,FORM!$J124,\"\")","v":""},{"$f":"IF(Résumé!$B93=1,FORM!$K124,\"\")","v":""},{"$f":"IF(Résumé!$B93=1,INT(I94/2*24)*2&\" - \"&INT(I94/2*24)*2+2&\" heures\",\"\")","v":""},{"$f":"IF(Résumé!$B93=1,FORM!$L124,\"\")","v":""},{"$f":"IF(Résumé!$B93=1,FORM!$M124,\"\")","v":""},{"$f":"IF(AND(Résumé!$B93=1,$F94=\"OK\"),FORM!$N124,\"\")","v":""},{"$f":"IF(Résumé!$B93=1,FORM!$O124,\"\")","v":""},{"$f":"IF(AND(Résumé!$B93=1,FORM!$T124=\"Yes\"),FORM!$P124,\"\")","v":""},{"$f":"IF(AND(Résumé!$B93=1,FORM!$T124=\"Yes\"),FORM!$Q124,\"\")","v":""},{"$f":"IF(AND(Résumé!$B93=1,FORM!$T124=\"Yes\"),INT(P94/2*24)*2&\" - \"&INT(P94/2*24)*2+2&\" heures\",\"\")","v":""},{"$f":"IF(AND(Résumé!$B93=1,FORM!$T124=\"Yes\"),FORM!$R124,\"\")","v":""},{"$f":"IF(AND(Résumé!$B93=1,FORM!$T124=\"Yes\"),FORM!$S124,\"\")","v":""},{"$f":"IF(AND(Résumé!$B93=1,FORM!$T124=\"\"),\"\",IF(AND(Résumé!$B93=1,FORM!$T124>\"\"),FORM!$T124,\"\"))","v":""},{"$f":"IF(D94>\"0\",FORM!$I$24&\" \"&FORM!$J$24&\" \"&FORM!$M$24&\" - \"&FORM!$O$24,\"\")","v":""}]
[null,null,{"$f":"IF(Résumé!$B94=1,Résumé!$D94,\"\")","v":""},{"$f":"IF(Résumé!$B94=1,Résumé!E94,\"\")","v":""},{"$f":"IF(Résumé!$B94=0,\"\",Résumé!$G94)","v":""},{"$f":"IF(Résumé!$B94=0,\"\",IF(FORM!$H125=\"No\",\"PAS DE TRANSPORT\",\"OK\"))","v":""},{"$f":"IF(Résumé!$B94=1,FORM!$I125,\"\")","v":""},{"$f":"IF(Résumé!$B94=1,FORM!$J125,\"\")","v":""},{"$f":"IF(Résumé!$B94=1,FORM!$K125,\"\")","v":""},{"$f":"IF(Résumé!$B94=1,INT(I95/2*24)*2&\" - \"&INT(I95/2*24)*2+2&\" heures\",\"\")","v":""},{"$f":"IF(Résumé!$B94=1,FORM!$L125,\"\")","v":""},{"$f":"IF(Résumé!$B94=1,FORM!$M125,\"\")","v":""},{"$f":"IF(AND(Résumé!$B94=1,$F95=\"OK\"),FORM!$N125,\"\")","v":""},{"$f":"IF(Résumé!$B94=1,FORM!$O125,\"\")","v":""},{"$f":"IF(AND(Résumé!$B94=1,FORM!$T125=\"Yes\"),FORM!$P125,\"\")","v":""},{"$f":"IF(AND(Résumé!$B94=1,FORM!$T125=\"Yes\"),FORM!$Q125,\"\")","v":""},{"$f":"IF(AND(Résumé!$B94=1,FORM!$T125=\"Yes\"),INT(P95/2*24)*2&\" - \"&INT(P95/2*24)*2+2&\" heures\",\"\")","v":""},{"$f":"IF(AND(Résumé!$B94=1,FORM!$T125=\"Yes\"),FORM!$R125,\"\")","v":""},{"$f":"IF(AND(Résumé!$B94=1,FORM!$T125=\"Yes\"),FORM!$S125,\"\")","v":""},{"$f":"IF(AND(Résumé!$B94=1,FORM!$T125=\"\"),\"\",IF(AND(Résumé!$B94=1,FORM!$T125>\"\"),FORM!$T125,\"\"))","v":""},{"$f":"IF(D95>\"0\",FORM!$I$24&\" \"&FORM!$J$24&\" \"&FORM!$M$24&\" - \"&FORM!$O$24,\"\")","v":""}]
[null,null,{"$f":"IF(Résumé!$B95=1,Résumé!$D95,\"\")","v":""},{"$f":"IF(Résumé!$B95=1,Résumé!E95,\"\")","v":""},{"$f":"IF(Résumé!$B95=0,\"\",Résumé!$G95)","v":""},{"$f":"IF(Résumé!$B95=0,\"\",IF(FORM!$H126=\"No\",\"PAS DE TRANSPORT\",\"OK\"))","v":""},{"$f":"IF(Résumé!$B95=1,FORM!$I126,\"\")","v":""},{"$f":"IF(Résumé!$B95=1,FORM!$J126,\"\")","v":""},{"$f":"IF(Résumé!$B95=1,FORM!$K126,\"\")","v":""},{"$f":"IF(Résumé!$B95=1,INT(I96/2*24)*2&\" - \"&INT(I96/2*24)*2+2&\" heures\",\"\")","v":""},{"$f":"IF(Résumé!$B95=1,FORM!$L126,\"\")","v":""},{"$f":"IF(Résumé!$B95=1,FORM!$M126,\"\")","v":""},{"$f":"IF(AND(Résumé!$B95=1,$F96=\"OK\"),FORM!$N126,\"\")","v":""},{"$f":"IF(Résumé!$B95=1,FORM!$O126,\"\")","v":""},{"$f":"IF(AND(Résumé!$B95=1,FORM!$T126=\"Yes\"),FORM!$P126,\"\")","v":""},{"$f":"IF(AND(Résumé!$B95=1,FORM!$T126=\"Yes\"),FORM!$Q126,\"\")","v":""},{"$f":"IF(AND(Résumé!$B95=1,FORM!$T126=\"Yes\"),INT(P96/2*24)*2&\" - \"&INT(P96/2*24)*2+2&\" heures\",\"\")","v":""},{"$f":"IF(AND(Résumé!$B95=1,FORM!$T126=\"Yes\"),FORM!$R126,\"\")","v":""},{"$f":"IF(AND(Résumé!$B95=1,FORM!$T126=\"Yes\"),FORM!$S126,\"\")","v":""},{"$f":"IF(AND(Résumé!$B95=1,FORM!$T126=\"\"),\"\",IF(AND(Résumé!$B95=1,FORM!$T126>\"\"),FORM!$T126,\"\"))","v":""},{"$f":"IF(D96>\"0\",FORM!$I$24&\" \"&FORM!$J$24&\" \"&FORM!$M$24&\" - \"&FORM!$O$24,\"\")","v":""}]
[null,null,{"$f":"IF(Résumé!$B96=1,Résumé!$D96,\"\")","v":""},{"$f":"IF(Résumé!$B96=1,Résumé!E96,\"\")","v":""},{"$f":"IF(Résumé!$B96=0,\"\",Résumé!$G96)","v":""},{"$f":"IF(Résumé!$B96=0,\"\",IF(FORM!$H127=\"No\",\"PAS DE TRANSPORT\",\"OK\"))","v":""},{"$f":"IF(Résumé!$B96=1,FORM!$I127,\"\")","v":""},{"$f":"IF(Résumé!$B96=1,FORM!$J127,\"\")","v":""},{"$f":"IF(Résumé!$B96=1,FORM!$K127,\"\")","v":""},{"$f":"IF(Résumé!$B96=1,INT(I97/2*24)*2&\" - \"&INT(I97/2*24)*2+2&\" heures\",\"\")","v":""},{"$f":"IF(Résumé!$B96=1,FORM!$L127,\"\")","v":""},{"$f":"IF(Résumé!$B96=1,FORM!$M127,\"\")","v":""},{"$f":"IF(AND(Résumé!$B96=1,$F97=\"OK\"),FORM!$N127,\"\")","v":""},{"$f":"IF(Résumé!$B96=1,FORM!$O127,\"\")","v":""},{"$f":"IF(AND(Résumé!$B96=1,FORM!$T127=\"Yes\"),FORM!$P127,\"\")","v":""},{"$f":"IF(AND(Résumé!$B96=1,FORM!$T127=\"Yes\"),FORM!$Q127,\"\")","v":""},{"$f":"IF(AND(Résumé!$B96=1,FORM!$T127=\"Yes\"),INT(P97/2*24)*2&\" - \"&INT(P97/2*24)*2+2&\" heures\",\"\")","v":""},{"$f":"IF(AND(Résumé!$B96=1,FORM!$T127=\"Yes\"),FORM!$R127,\"\")","v":""},{"$f":"IF(AND(Résumé!$B96=1,FORM!$T127=\"Yes\"),FORM!$S127,\"\")","v":""},{"$f":"IF(AND(Résumé!$B96=1,FORM!$T127=\"\"),\"\",IF(AND(Résumé!$B96=1,FORM!$T127>\"\"),FORM!$T127,\"\"))","v":""},{"$f":"IF(D97>\"0\",FORM!$I$24&\" \"&FORM!$J$24&\" \"&FORM!$M$24&\" - \"&FORM!$O$24,\"\")","v":""}]
[null,null,{"$f":"IF(Résumé!$B97=1,Résumé!$D97,\"\")","v":""},{"$f":"IF(Résumé!$B97=1,Résumé!E97,\"\")","v":""},{"$f":"IF(Résumé!$B97=0,\"\",Résumé!$G97)","v":""},{"$f":"IF(Résumé!$B97=0,\"\",IF(FORM!$H128=\"No\",\"PAS DE TRANSPORT\",\"OK\"))","v":""},{"$f":"IF(Résumé!$B97=1,FORM!$I128,\"\")","v":""},{"$f":"IF(Résumé!$B97=1,FORM!$J128,\"\")","v":""},{"$f":"IF(Résumé!$B97=1,FORM!$K128,\"\")","v":""},{"$f":"IF(Résumé!$B97=1,INT(I98/2*24)*2&\" - \"&INT(I98/2*24)*2+2&\" heures\",\"\")","v":""},{"$f":"IF(Résumé!$B97=1,FORM!$L128,\"\")","v":""},{"$f":"IF(Résumé!$B97=1,FORM!$M128,\"\")","v":""},{"$f":"IF(AND(Résumé!$B97=1,$F98=\"OK\"),FORM!$N128,\"\")","v":""},{"$f":"IF(Résumé!$B97=1,FORM!$O128,\"\")","v":""},{"$f":"IF(AND(Résumé!$B97=1,FORM!$T128=\"Yes\"),FORM!$P128,\"\")","v":""},{"$f":"IF(AND(Résumé!$B97=1,FORM!$T128=\"Yes\"),FORM!$Q128,\"\")","v":""},{"$f":"IF(AND(Résumé!$B97=1,FORM!$T128=\"Yes\"),INT(P98/2*24)*2&\" - \"&INT(P98/2*24)*2+2&\" heures\",\"\")","v":""},{"$f":"IF(AND(Résumé!$B97=1,FORM!$T128=\"Yes\"),FORM!$R128,\"\")","v":""},{"$f":"IF(AND(Résumé!$B97=1,FORM!$T128=\"Yes\"),FORM!$S128,\"\")","v":""},{"$f":"IF(AND(Résumé!$B97=1,FORM!$T128=\"\"),\"\",IF(AND(Résumé!$B97=1,FORM!$T128>\"\"),FORM!$T128,\"\"))","v":""},{"$f":"IF(D98>\"0\",FORM!$I$24&\" \"&FORM!$J$24&\" \"&FORM!$M$24&\" - \"&FORM!$O$24,\"\")","v":""}]
[null,null,{"$f":"IF(Résumé!$B98=1,Résumé!$D98,\"\")","v":""},{"$f":"IF(Résumé!$B98=1,Résumé!E98,\"\")","v":""},{"$f":"IF(Résumé!$B98=0,\"\",Résumé!$G98)","v":""},{"$f":"IF(Résumé!$B98=0,\"\",IF(FORM!$H129=\"No\",\"PAS DE TRANSPORT\",\"OK\"))","v":""},{"$f":"IF(Résumé!$B98=1,FORM!$I129,\"\")","v":""},{"$f":"IF(Résumé!$B98=1,FORM!$J129,\"\")","v":""},{"$f":"IF(Résumé!$B98=1,FORM!$K129,\"\")","v":""},{"$f":"IF(Résumé!$B98=1,INT(I99/2*24)*2&\" - \"&INT(I99/2*24)*2+2&\" heures\",\"\")","v":""},{"$f":"IF(Résumé!$B98=1,FORM!$L129,\"\")","v":""},{"$f":"IF(Résumé!$B98=1,FORM!$M129,\"\")","v":""},{"$f":"IF(AND(Résumé!$B98=1,$F99=\"OK\"),FORM!$N129,\"\")","v":""},{"$f":"IF(Résumé!$B98=1,FORM!$O129,\"\")","v":""},{"$f":"IF(AND(Résumé!$B98=1,FORM!$T129=\"Yes\"),FORM!$P129,\"\")","v":""},{"$f":"IF(AND(Résumé!$B98=1,FORM!$T129=\"Yes\"),FORM!$Q129,\"\")","v":""},{"$f":"IF(AND(Résumé!$B98=1,FORM!$T129=\"Yes\"),INT(P99/2*24)*2&\" - \"&INT(P99/2*24)*2+2&\" heures\",\"\")","v":""},{"$f":"IF(AND(Résumé!$B98=1,FORM!$T129=\"Yes\"),FORM!$R129,\"\")","v":""},{"$f":"IF(AND(Résumé!$B98=1,FORM!$T129=\"Yes\"),FORM!$S129,\"\")","v":""},{"$f":"IF(AND(Résumé!$B98=1,FORM!$T129=\"\"),\"\",IF(AND(Résumé!$B98=1,FORM!$T129>\"\"),FORM!$T129,\"\"))","v":""},{"$f":"IF(D99>\"0\",FORM!$I$24&\" \"&FORM!$J$24&\" \"&FORM!$M$24&\" - \"&FORM!$O$24,\"\")","v":""}]
[null,null,{"$f":"IF(Résumé!$B99=1,Résumé!$D99,\"\")","v":""},{"$f":"IF(Résumé!$B99=1,Résumé!E99,\"\")","v":""},{"$f":"IF(Résumé!$B99=0,\"\",Résumé!$G99)","v":""},{"$f":"IF(Résumé!$B99=0,\"\",IF(FORM!$H130=\"No\",\"PAS DE TRANSPORT\",\"OK\"))","v":""},{"$f":"IF(Résumé!$B99=1,FORM!$I130,\"\")","v":""},{"$f":"IF(Résumé!$B99=1,FORM!$J130,\"\")","v":""},{"$f":"IF(Résumé!$B99=1,FORM!$K130,\"\")","v":""},{"$f":"IF(Résumé!$B99=1,INT(I100/2*24)*2&\" - \"&INT(I100/2*24)*2+2&\" heures\",\"\")","v":""},{"$f":"IF(Résumé!$B99=1,FORM!$L130,\"\")","v":""},{"$f":"IF(Résumé!$B99=1,FORM!$M130,\"\")","v":""},{"$f":"IF(AND(Résumé!$B99=1,$F100=\"OK\"),FORM!$N130,\"\")","v":""},{"$f":"IF(Résumé!$B99=1,FORM!$O130,\"\")","v":""},{"$f":"IF(AND(Résumé!$B99=1,FORM!$T130=\"Yes\"),FORM!$P130,\"\")","v":""},{"$f":"IF(AND(Résumé!$B99=1,FORM!$T130=\"Yes\"),FORM!$Q130,\"\")","v":""},{"$f":"IF(AND(Résumé!$B99=1,FORM!$T130=\"Yes\"),INT(P100/2*24)*2&\" - \"&INT(P100/2*24)*2+2&\" heures\",\"\")","v":""},{"$f":"IF(AND(Résumé!$B99=1,FORM!$T130=\"Yes\"),FORM!$R130,\"\")","v":""},{"$f":"IF(AND(Résumé!$B99=1,FORM!$T130=\"Yes\"),FORM!$S130,\"\")","v":""},{"$f":"IF(AND(Résumé!$B99=1,FORM!$T130=\"\"),\"\",IF(AND(Résumé!$B99=1,FORM!$T130>\"\"),FORM!$T130,\"\"))","v":""},{"$f":"IF(D100>\"0\",FORM!$I$24&\" \"&FORM!$J$24&\" \"&FORM!$M$24&\" - \"&FORM!$O$24,\"\")","v":""}]
[null,null,{"$f":"IF(Résumé!$B100=1,Résumé!$D100,\"\")","v":""},{"$f":"IF(Résumé!$B100=1,Résumé!E100,\"\")","v":""},{"$f":"IF(Résumé!$B100=0,\"\",Résumé!$G100)","v":""},{"$f":"IF(Résumé!$B100=0,\"\",IF(FORM!$H131=\"No\",\"PAS DE TRANSPORT\",\"OK\"))","v":""},{"$f":"IF(Résumé!$B100=1,FORM!$I131,\"\")","v":""},{"$f":"IF(Résumé!$B100=1,FORM!$J131,\"\")","v":""},{"$f":"IF(Résumé!$B100=1,FORM!$K131,\"\")","v":""},{"$f":"IF(Résumé!$B100=1,INT(I101/2*24)*2&\" - \"&INT(I101/2*24)*2+2&\" heures\",\"\")","v":""},{"$f":"IF(Résumé!$B100=1,FORM!$L131,\"\")","v":""},{"$f":"IF(Résumé!$B100=1,FORM!$M131,\"\")","v":""},{"$f":"IF(AND(Résumé!$B100=1,$F101=\"OK\"),FORM!$N131,\"\")","v":""},{"$f":"IF(Résumé!$B100=1,FORM!$O131,\"\")","v":""},{"$f":"IF(AND(Résumé!$B100=1,FORM!$T131=\"Yes\"),FORM!$P131,\"\")","v":""},{"$f":"IF(AND(Résumé!$B100=1,FORM!$T131=\"Yes\"),FORM!$Q131,\"\")","v":""},{"$f":"IF(AND(Résumé!$B100=1,FORM!$T131=\"Yes\"),INT(P101/2*24)*2&\" - \"&INT(P101/2*24)*2+2&\" heures\",\"\")","v":""},{"$f":"IF(AND(Résumé!$B100=1,FORM!$T131=\"Yes\"),FORM!$R131,\"\")","v":""},{"$f":"IF(AND(Résumé!$B100=1,FORM!$T131=\"Yes\"),FORM!$S131,\"\")","v":""},{"$f":"IF(AND(Résumé!$B100=1,FORM!$T131=\"\"),\"\",IF(AND(Résumé!$B100=1,FORM!$T131>\"\"),FORM!$T131,\"\"))","v":""},{"$f":"IF(D101>\"0\",FORM!$I$24&\" \"&FORM!$J$24&\" \"&FORM!$M$24&\" - \"&FORM!$O$24,\"\")","v":""}]
[null,null,{"$f":"IF(Résumé!$B101=1,Résumé!$D101,\"\")","v":""},{"$f":"IF(Résumé!$B101=1,Résumé!E101,\"\")","v":""},{"$f":"IF(Résumé!$B101=0,\"\",Résumé!$G101)","v":""},{"$f":"IF(Résumé!$B101=0,\"\",IF(FORM!$H132=\"No\",\"PAS DE TRANSPORT\",\"OK\"))","v":""},{"$f":"IF(Résumé!$B101=1,FORM!$I132,\"\")","v":""},{"$f":"IF(Résumé!$B101=1,FORM!$J132,\"\")","v":""},{"$f":"IF(Résumé!$B101=1,FORM!$K132,\"\")","v":""},{"$f":"IF(Résumé!$B101=1,INT(I102/2*24)*2&\" - \"&INT(I102/2*24)*2+2&\" heures\",\"\")","v":""},{"$f":"IF(Résumé!$B101=1,FORM!$L132,\"\")","v":""},{"$f":"IF(Résumé!$B101=1,FORM!$M132,\"\")","v":""},{"$f":"IF(AND(Résumé!$B101=1,$F102=\"OK\"),FORM!$N132,\"\")","v":""},{"$f":"IF(Résumé!$B101=1,FORM!$O132,\"\")","v":""},{"$f":"IF(AND(Résumé!$B101=1,FORM!$T132=\"Yes\"),FORM!$P132,\"\")","v":""},{"$f":"IF(AND(Résumé!$B101=1,FORM!$T132=\"Yes\"),FORM!$Q132,\"\")","v":""},{"$f":"IF(AND(Résumé!$B101=1,FORM!$T132=\"Yes\"),INT(P102/2*24)*2&\" - \"&INT(P102/2*24)*2+2&\" heures\",\"\")","v":""},{"$f":"IF(AND(Résumé!$B101=1,FORM!$T132=\"Yes\"),FORM!$R132,\"\")","v":""},{"$f":"IF(AND(Résumé!$B101=1,FORM!$T132=\"Yes\"),FORM!$S132,\"\")","v":""},{"$f":"IF(AND(Résumé!$B101=1,FORM!$T132=\"\"),\"\",IF(AND(Résumé!$B101=1,FORM!$T132>\"\"),FORM!$T132,\"\"))","v":""},{"$f":"IF(D102>\"0\",FORM!$I$24&\" \"&FORM!$J$24&\" \"&FORM!$M$24&\" - \"&FORM!$O$24,\"\")","v":""}]

{"sheet":"Lien Compta","index":6,"n_rows":101,"n_cols":17,"rows_kept":101,"cut":false,"hidden":true,"merged":[]}
[null,"Groupe/Pays","Personnes / Compléments d'infos","Nombre de tests PCR demandé","Prix à l'unité Test PCR","Total Tests PCR / pers.","Hôtel Compétition","Type de Chambre Compétition","Type de Restauration Compétition","Hôtel + Type de Chambre + Restauration\nCompétition","Check-in Compétition","Check-out Compétition","Nombre de nuits Compétition","Prix à l'unité Compétition","Total Compétition","PROBLEME NB NUITS / HÔTEL OFFICIEL","UE / Non-UE"]
[null,{"$f":"IF(Résumé!$B2=0,\"\",Résumé!$D2)","v":""},{"$f":"IF(Résumé!$B2=0,\"\",Résumé!$E2)","v":""},{"$f":"IF(Résumé!$B2=0,\"\",Résumé!$F2)","v":""},{"$f":"IF(Résumé!$B2=0,\"\",100)","v":""},{"$f":"IF(Résumé!$B2=0,\"\",D2*E2)","v":""},{"$f":"IF(Résumé!$B2=0,\"\",Résumé!$G2)","v":""},{"$f":"IF(Résumé!$B2=0,\"\",Résumé!$K2)","v":""},{"$f":"IF(Résumé!$B2=0,\"\",Résumé!$L2)","v":""},{"$f":"IF(Résumé!$B2=0,\"\",$G2&\" \"&$H2&\" \"&$I2)","v":""},{"$f":"IF(Résumé!$B2=0,\"\",Résumé!$H2)","v":""},{"$f":"IF(Résumé!$B2=0,\"\",Résumé!$I2)","v":""},{"$f":"IF(Résumé!$B2=0,\"\",$L2-$K2)","v":""},{"$f":"IF(Résumé!$B2=0,\"\",AMOUNT!$K13)","v":""},{"$f":"IF(Résumé!$B2=0,\"\",$M2*$N2)","v":""},{"$f":"IF(Résumé!$B2=0,\"\",IF(FORM!$Q$2=0,\"\",IF(FORM!$Q$2>=2,\"OK\",IF(FORM!$Q$2<2,\"Pénalité : \"&FORM!$O$2&\" €\",\"\"))))","v":""},{"$f":"IF(Résumé!$B2=0,\"\",VLOOKUP($B2,Lexique!$C$2:$D$204,2,FALSE))","v":""}]
[null,{"$f":"IF(Résumé!$B3=0,\"\",Résumé!$D3)","v":""},{"$f":"IF(Résumé!$B3=0,\"\",Résumé!$E3)","v":""},{"$f":"IF(Résumé!$B3=0,\"\",Résumé!$F3)","v":""},{"$f":"IF(Résumé!$B3=0,\"\",100)","v":""},{"$f":"IF(Résumé!$B3=0,\"\",D3*E3)","v":""},{"$f":"IF(Résumé!$B3=0,\"\",Résumé!$G3)","v":""},{"$f":"IF(Résumé!$B3=0,\"\",Résumé!$K3)","v":""},{"$f":"IF(Résumé!$B3=0,\"\",Résumé!$L3)","v":""},{"$f":"IF(Résumé!$B3=0,\"\",$G3&\" \"&$H3&\" \"&$I3)","v":""},{"$f":"IF(Résumé!$B3=0,\"\",Résumé!$H3)","v":""},{"$f":"IF(Résumé!$B3=0,\"\",Résumé!$I3)","v":""},{"$f":"IF(Résumé!$B3=0,\"\",$L3-$K3)","v":""},{"$f":"IF(Résumé!$B3=0,\"\",AMOUNT!$K14)","v":""},{"$f":"IF(Résumé!$B3=0,\"\",$M3*$N3)","v":""},{"$f":"IF(Résumé!$B3=0,\"\",IF(FORM!$Q$2=0,\"\",IF(FORM!$Q$2>=2,\"OK\",IF(FORM!$Q$2<2,\"Pénalité : \"&FORM!$O$2&\" €\",\"\"))))","v":""},{"$f":"IF(Résumé!$B3=0,\"\",VLOOKUP($B3,Lexique!$C$2:$D$204,2,FALSE))","v":""}]
[null,{"$f":"IF(Résumé!$B4=0,\"\",Résumé!$D4)","v":""},{"$f":"IF(Résumé!$B4=0,\"\",Résumé!$E4)","v":""},{"$f":"IF(Résumé!$B4=0,\"\",Résumé!$F4)","v":""},{"$f":"IF(Résumé!$B4=0,\"\",100)","v":""},{"$f":"IF(Résumé!$B4=0,\"\",D4*E4)","v":""},{"$f":"IF(Résumé!$B4=0,\"\",Résumé!$G4)","v":""},{"$f":"IF(Résumé!$B4=0,\"\",Résumé!$K4)","v":""},{"$f":"IF(Résumé!$B4=0,\"\",Résumé!$L4)","v":""},{"$f":"IF(Résumé!$B4=0,\"\",$G4&\" \"&$H4&\" \"&$I4)","v":""},{"$f":"IF(Résumé!$B4=0,\"\",Résumé!$H4)","v":""},{"$f":"IF(Résumé!$B4=0,\"\",Résumé!$I4)","v":""},{"$f":"IF(Résumé!$B4=0,\"\",$L4-$K4)","v":""},{"$f":"IF(Résumé!$B4=0,\"\",AMOUNT!$K15)","v":""},{"$f":"IF(Résumé!$B4=0,\"\",$M4*$N4)","v":""},{"$f":"IF(Résumé!$B4=0,\"\",IF(FORM!$Q$2=0,\"\",IF(FORM!$Q$2>=2,\"OK\",IF(FORM!$Q$2<2,\"Pénalité : \"&FORM!$O$2&\" €\",\"\"))))","v":""},{"$f":"IF(Résumé!$B4=0,\"\",VLOOKUP($B4,Lexique!$C$2:$D$204,2,FALSE))","v":""}]
[null,{"$f":"IF(Résumé!$B5=0,\"\",Résumé!$D5)","v":""},{"$f":"IF(Résumé!$B5=0,\"\",Résumé!$E5)","v":""},{"$f":"IF(Résumé!$B5=0,\"\",Résumé!$F5)","v":""},{"$f":"IF(Résumé!$B5=0,\"\",100)","v":""},{"$f":"IF(Résumé!$B5=0,\"\",D5*E5)","v":""},{"$f":"IF(Résumé!$B5=0,\"\",Résumé!$G5)","v":""},{"$f":"IF(Résumé!$B5=0,\"\",Résumé!$K5)","v":""},{"$f":"IF(Résumé!$B5=0,\"\",Résumé!$L5)","v":""},{"$f":"IF(Résumé!$B5=0,\"\",$G5&\" \"&$H5&\" \"&$I5)","v":""},{"$f":"IF(Résumé!$B5=0,\"\",Résumé!$H5)","v":""},{"$f":"IF(Résumé!$B5=0,\"\",Résumé!$I5)","v":""},{"$f":"IF(Résumé!$B5=0,\"\",$L5-$K5)","v":""},{"$f":"IF(Résumé!$B5=0,\"\",AMOUNT!$K16)","v":""},{"$f":"IF(Résumé!$B5=0,\"\",$M5*$N5)","v":""},{"$f":"IF(Résumé!$B5=0,\"\",IF(FORM!$Q$2=0,\"\",IF(FORM!$Q$2>=2,\"OK\",IF(FORM!$Q$2<2,\"Pénalité : \"&FORM!$O$2&\" €\",\"\"))))","v":""},{"$f":"IF(Résumé!$B5=0,\"\",VLOOKUP($B5,Lexique!$C$2:$D$204,2,FALSE))","v":""}]
[null,{"$f":"IF(Résumé!$B6=0,\"\",Résumé!$D6)","v":""},{"$f":"IF(Résumé!$B6=0,\"\",Résumé!$E6)","v":""},{"$f":"IF(Résumé!$B6=0,\"\",Résumé!$F6)","v":""},{"$f":"IF(Résumé!$B6=0,\"\",100)","v":""},{"$f":"IF(Résumé!$B6=0,\"\",D6*E6)","v":""},{"$f":"IF(Résumé!$B6=0,\"\",Résumé!$G6)","v":""},{"$f":"IF(Résumé!$B6=0,\"\",Résumé!$K6)","v":""},{"$f":"IF(Résumé!$B6=0,\"\",Résumé!$L6)","v":""},{"$f":"IF(Résumé!$B6=0,\"\",$G6&\" \"&$H6&\" \"&$I6)","v":""},{"$f":"IF(Résumé!$B6=0,\"\",Résumé!$H6)","v":""},{"$f":"IF(Résumé!$B6=0,\"\",Résumé!$I6)","v":""},{"$f":"IF(Résumé!$B6=0,\"\",$L6-$K6)","v":""},{"$f":"IF(Résumé!$B6=0,\"\",AMOUNT!$K17)","v":""},{"$f":"IF(Résumé!$B6=0,\"\",$M6*$N6)","v":""},{"$f":"IF(Résumé!$B6=0,\"\",IF(FORM!$Q$2=0,\"\",IF(FORM!$Q$2>=2,\"OK\",IF(FORM!$Q$2<2,\"Pénalité : \"&FORM!$O$2&\" €\",\"\"))))","v":""},{"$f":"IF(Résumé!$B6=0,\"\",VLOOKUP($B6,Lexique!$C$2:$D$204,2,FALSE))","v":""}]
[null,{"$f":"IF(Résumé!$B7=0,\"\",Résumé!$D7)","v":""},{"$f":"IF(Résumé!$B7=0,\"\",Résumé!$E7)","v":""},{"$f":"IF(Résumé!$B7=0,\"\",Résumé!$F7)","v":""},{"$f":"IF(Résumé!$B7=0,\"\",100)","v":""},{"$f":"IF(Résumé!$B7=0,\"\",D7*E7)","v":""},{"$f":"IF(Résumé!$B7=0,\"\",Résumé!$G7)","v":""},{"$f":"IF(Résumé!$B7=0,\"\",Résumé!$K7)","v":""},{"$f":"IF(Résumé!$B7=0,\"\",Résumé!$L7)","v":""},{"$f":"IF(Résumé!$B7=0,\"\",$G7&\" \"&$H7&\" \"&$I7)","v":""},{"$f":"IF(Résumé!$B7=0,\"\",Résumé!$H7)","v":""},{"$f":"IF(Résumé!$B7=0,\"\",Résumé!$I7)","v":""},{"$f":"IF(Résumé!$B7=0,\"\",$L7-$K7)","v":""},{"$f":"IF(Résumé!$B7=0,\"\",AMOUNT!$K18)","v":""},{"$f":"IF(Résumé!$B7=0,\"\",$M7*$N7)","v":""},{"$f":"IF(Résumé!$B7=0,\"\",IF(FORM!$Q$2=0,\"\",IF(FORM!$Q$2>=2,\"OK\",IF(FORM!$Q$2<2,\"Pénalité : \"&FORM!$O$2&\" €\",\"\"))))","v":""},{"$f":"IF(Résumé!$B7=0,\"\",VLOOKUP($B7,Lexique!$C$2:$D$204,2,FALSE))","v":""}]
[null,{"$f":"IF(Résumé!$B8=0,\"\",Résumé!$D8)","v":""},{"$f":"IF(Résumé!$B8=0,\"\",Résumé!$E8)","v":""},{"$f":"IF(Résumé!$B8=0,\"\",Résumé!$F8)","v":""},{"$f":"IF(Résumé!$B8=0,\"\",100)","v":""},{"$f":"IF(Résumé!$B8=0,\"\",D8*E8)","v":""},{"$f":"IF(Résumé!$B8=0,\"\",Résumé!$G8)","v":""},{"$f":"IF(Résumé!$B8=0,\"\",Résumé!$K8)","v":""},{"$f":"IF(Résumé!$B8=0,\"\",Résumé!$L8)","v":""},{"$f":"IF(Résumé!$B8=0,\"\",$G8&\" \"&$H8&\" \"&$I8)","v":""},{"$f":"IF(Résumé!$B8=0,\"\",Résumé!$H8)","v":""},{"$f":"IF(Résumé!$B8=0,\"\",Résumé!$I8)","v":""},{"$f":"IF(Résumé!$B8=0,\"\",$L8-$K8)","v":""},{"$f":"IF(Résumé!$B8=0,\"\",AMOUNT!$K19)","v":""},{"$f":"IF(Résumé!$B8=0,\"\",$M8*$N8)","v":""},{"$f":"IF(Résumé!$B8=0,\"\",IF(FORM!$Q$2=0,\"\",IF(FORM!$Q$2>=2,\"OK\",IF(FORM!$Q$2<2,\"Pénalité : \"&FORM!$O$2&\" €\",\"\"))))","v":""},{"$f":"IF(Résumé!$B8=0,\"\",VLOOKUP($B8,Lexique!$C$2:$D$204,2,FALSE))","v":""}]
[null,{"$f":"IF(Résumé!$B9=0,\"\",Résumé!$D9)","v":""},{"$f":"IF(Résumé!$B9=0,\"\",Résumé!$E9)","v":""},{"$f":"IF(Résumé!$B9=0,\"\",Résumé!$F9)","v":""},{"$f":"IF(Résumé!$B9=0,\"\",100)","v":""},{"$f":"IF(Résumé!$B9=0,\"\",D9*E9)","v":""},{"$f":"IF(Résumé!$B9=0,\"\",Résumé!$G9)","v":""},{"$f":"IF(Résumé!$B9=0,\"\",Résumé!$K9)","v":""},{"$f":"IF(Résumé!$B9=0,\"\",Résumé!$L9)","v":""},{"$f":"IF(Résumé!$B9=0,\"\",$G9&\" \"&$H9&\" \"&$I9)","v":""},{"$f":"IF(Résumé!$B9=0,\"\",Résumé!$H9)","v":""},{"$f":"IF(Résumé!$B9=0,\"\",Résumé!$I9)","v":""},{"$f":"IF(Résumé!$B9=0,\"\",$L9-$K9)","v":""},{"$f":"IF(Résumé!$B9=0,\"\",AMOUNT!$K20)","v":""},{"$f":"IF(Résumé!$B9=0,\"\",$M9*$N9)","v":""},{"$f":"IF(Résumé!$B9=0,\"\",IF(FORM!$Q$2=0,\"\",IF(FORM!$Q$2>=2,\"OK\",IF(FORM!$Q$2<2,\"Pénalité : \"&FORM!$O$2&\" €\",\"\"))))","v":""},{"$f":"IF(Résumé!$B9=0,\"\",VLOOKUP($B9,Lexique!$C$2:$D$204,2,FALSE))","v":""}]
[null,{"$f":"IF(Résumé!$B10=0,\"\",Résumé!$D10)","v":""},{"$f":"IF(Résumé!$B10=0,\"\",Résumé!$E10)","v":""},{"$f":"IF(Résumé!$B10=0,\"\",Résumé!$F10)","v":""},{"$f":"IF(Résumé!$B10=0,\"\",100)","v":""},{"$f":"IF(Résumé!$B10=0,\"\",D10*E10)","v":""},{"$f":"IF(Résumé!$B10=0,\"\",Résumé!$G10)","v":""},{"$f":"IF(Résumé!$B10=0,\"\",Résumé!$K10)","v":""},{"$f":"IF(Résumé!$B10=0,\"\",Résumé!$L10)","v":""},{"$f":"IF(Résumé!$B10=0,\"\",$G10&\" \"&$H10&\" \"&$I10)","v":""},{"$f":"IF(Résumé!$B10=0,\"\",Résumé!$H10)","v":""},{"$f":"IF(Résumé!$B10=0,\"\",Résumé!$I10)","v":""},{"$f":"IF(Résumé!$B10=0,\"\",$L10-$K10)","v":""},{"$f":"IF(Résumé!$B10=0,\"\",AMOUNT!$K21)","v":""},{"$f":"IF(Résumé!$B10=0,\"\",$M10*$N10)","v":""},{"$f":"IF(Résumé!$B10=0,\"\",IF(FORM!$Q$2=0,\"\",IF(FORM!$Q$2>=2,\"OK\",IF(FORM!$Q$2<2,\"Pénalité : \"&FORM!$O$2&\" €\",\"\"))))","v":""},{"$f":"IF(Résumé!$B10=0,\"\",VLOOKUP($B10,Lexique!$C$2:$D$204,2,FALSE))","v":""}]
[null,{"$f":"IF(Résumé!$B11=0,\"\",Résumé!$D11)","v":""},{"$f":"IF(Résumé!$B11=0,\"\",Résumé!$E11)","v":""},{"$f":"IF(Résumé!$B11=0,\"\",Résumé!$F11)","v":""},{"$f":"IF(Résumé!$B11=0,\"\",100)","v":""},{"$f":"IF(Résumé!$B11=0,\"\",D11*E11)","v":""},{"$f":"IF(Résumé!$B11=0,\"\",Résumé!$G11)","v":""},{"$f":"IF(Résumé!$B11=0,\"\",Résumé!$K11)","v":""},{"$f":"IF(Résumé!$B11=0,\"\",Résumé!$L11)","v":""},{"$f":"IF(Résumé!$B11=0,\"\",$G11&\" \"&$H11&\" \"&$I11)","v":""},{"$f":"IF(Résumé!$B11=0,\"\",Résumé!$H11)","v":""},{"$f":"IF(Résumé!$B11=0,\"\",Résumé!$I11)","v":""},{"$f":"IF(Résumé!$B11=0,\"\",$L11-$K11)","v":""},{"$f":"IF(Résumé!$B11=0,\"\",AMOUNT!$K22)","v":""},{"$f":"IF(Résumé!$B11=0,\"\",$M11*$N11)","v":""},{"$f":"IF(Résumé!$B11=0,\"\",IF(FORM!$Q$2=0,\"\",IF(FORM!$Q$2>=2,\"OK\",IF(FORM!$Q$2<2,\"Pénalité : \"&FORM!$O$2&\" €\",\"\"))))","v":""},{"$f":"IF(Résumé!$B11=0,\"\",VLOOKUP($B11,Lexique!$C$2:$D$204,2,FALSE))","v":""}]
[null,{"$f":"IF(Résumé!$B12=0,\"\",Résumé!$D12)","v":""},{"$f":"IF(Résumé!$B12=0,\"\",Résumé!$E12)","v":""},{"$f":"IF(Résumé!$B12=0,\"\",Résumé!$F12)","v":""},{"$f":"IF(Résumé!$B12=0,\"\",100)","v":""},{"$f":"IF(Résumé!$B12=0,\"\",D12*E12)","v":""},{"$f":"IF(Résumé!$B12=0,\"\",Résumé!$G12)","v":""},{"$f":"IF(Résumé!$B12=0,\"\",Résumé!$K12)","v":""},{"$f":"IF(Résumé!$B12=0,\"\",Résumé!$L12)","v":""},{"$f":"IF(Résumé!$B12=0,\"\",$G12&\" \"&$H12&\" \"&$I12)","v":""},{"$f":"IF(Résumé!$B12=0,\"\",Résumé!$H12)","v":""},{"$f":"IF(Résumé!$B12=0,\"\",Résumé!$I12)","v":""},{"$f":"IF(Résumé!$B12=0,\"\",$L12-$K12)","v":""},{"$f":"IF(Résumé!$B12=0,\"\",AMOUNT!$K23)","v":""},{"$f":"IF(Résumé!$B12=0,\"\",$M12*$N12)","v":""},{"$f":"IF(Résumé!$B12=0,\"\",IF(FORM!$Q$2=0,\"\",IF(FORM!$Q$2>=2,\"OK\",IF(FORM!$Q$2<2,\"Pénalité : \"&FORM!$O$2&\" €\",\"\"))))","v":""},{"$f":"IF(Résumé!$B12=0,\"\",VLOOKUP($B12,Lexique!$C$2:$D$204,2,FALSE))","v":""}]
[null,{"$f":"IF(Résumé!$B13=0,\"\",Résumé!$D13)","v":""},{"$f":"IF(Résumé!$B13=0,\"\",Résumé!$E13)","v":""},{"$f":"IF(Résumé!$B13=0,\"\",Résumé!$F13)","v":""},{"$f":"IF(Résumé!$B13=0,\"\",100)","v":""},{"$f":"IF(Résumé!$B13=0,\"\",D13*E13)","v":""},{"$f":"IF(Résumé!$B13=0,\"\",Résumé!$G13)","v":""},{"$f":"IF(Résumé!$B13=0,\"\",Résumé!$K13)","v":""},{"$f":"IF(Résumé!$B13=0,\"\",Résumé!$L13)","v":""},{"$f":"IF(Résumé!$B13=0,\"\",$G13&\" \"&$H13&\" \"&$I13)","v":""},{"$f":"IF(Résumé!$B13=0,\"\",Résumé!$H13)","v":""},{"$f":"IF(Résumé!$B13=0,\"\",Résumé!$I13)","v":""},{"$f":"IF(Résumé!$B13=0,\"\",$L13-$K13)","v":""},{"$f":"IF(Résumé!$B13=0,\"\",AMOUNT!$K24)","v":""},{"$f":"IF(Résumé!$B13=0,\"\",$M13*$N13)","v":""},{"$f":"IF(Résumé!$B13=0,\"\",IF(FORM!$Q$2=0,\"\",IF(FORM!$Q$2>=2,\"OK\",IF(FORM!$Q$2<2,\"Pénalité : \"&FORM!$O$2&\" €\",\"\"))))","v":""},{"$f":"IF(Résumé!$B13=0,\"\",VLOOKUP($B13,Lexique!$C$2:$D$204,2,FALSE))","v":""}]
[null,{"$f":"IF(Résumé!$B14=0,\"\",Résumé!$D14)","v":""},{"$f":"IF(Résumé!$B14=0,\"\",Résumé!$E14)","v":""},{"$f":"IF(Résumé!$B14=0,\"\",Résumé!$F14)","v":""},{"$f":"IF(Résumé!$B14=0,\"\",100)","v":""},{"$f":"IF(Résumé!$B14=0,\"\",D14*E14)","v":""},{"$f":"IF(Résumé!$B14=0,\"\",Résumé!$G14)","v":""},{"$f":"IF(Résumé!$B14=0,\"\",Résumé!$K14)","v":""},{"$f":"IF(Résumé!$B14=0,\"\",Résumé!$L14)","v":""},{"$f":"IF(Résumé!$B14=0,\"\",$G14&\" \"&$H14&\" \"&$I14)","v":""},{"$f":"IF(Résumé!$B14=0,\"\",Résumé!$H14)","v":""},{"$f":"IF(Résumé!$B14=0,\"\",Résumé!$I14)","v":""},{"$f":"IF(Résumé!$B14=0,\"\",$L14-$K14)","v":""},{"$f":"IF(Résumé!$B14=0,\"\",AMOUNT!$K25)","v":""},{"$f":"IF(Résumé!$B14=0,\"\",$M14*$N14)","v":""},{"$f":"IF(Résumé!$B14=0,\"\",IF(FORM!$Q$2=0,\"\",IF(FORM!$Q$2>=2,\"OK\",IF(FORM!$Q$2<2,\"Pénalité : \"&FORM!$O$2&\" €\",\"\"))))","v":""},{"$f":"IF(Résumé!$B14=0,\"\",VLOOKUP($B14,Lexique!$C$2:$D$204,2,FALSE))","v":""}]
[null,{"$f":"IF(Résumé!$B15=0,\"\",Résumé!$D15)","v":""},{"$f":"IF(Résumé!$B15=0,\"\",Résumé!$E15)","v":""},{"$f":"IF(Résumé!$B15=0,\"\",Résumé!$F15)","v":""},{"$f":"IF(Résumé!$B15=0,\"\",100)","v":""},{"$f":"IF(Résumé!$B15=0,\"\",D15*E15)","v":""},{"$f":"IF(Résumé!$B15=0,\"\",Résumé!$G15)","v":""},{"$f":"IF(Résumé!$B15=0,\"\",Résumé!$K15)","v":""},{"$f":"IF(Résumé!$B15=0,\"\",Résumé!$L15)","v":""},{"$f":"IF(Résumé!$B15=0,\"\",$G15&\" \"&$H15&\" \"&$I15)","v":""},{"$f":"IF(Résumé!$B15=0,\"\",Résumé!$H15)","v":""},{"$f":"IF(Résumé!$B15=0,\"\",Résumé!$I15)","v":""},{"$f":"IF(Résumé!$B15=0,\"\",$L15-$K15)","v":""},{"$f":"IF(Résumé!$B15=0,\"\",AMOUNT!$K26)","v":""},{"$f":"IF(Résumé!$B15=0,\"\",$M15*$N15)","v":""},{"$f":"IF(Résumé!$B15=0,\"\",IF(FORM!$Q$2=0,\"\",IF(FORM!$Q$2>=2,\"OK\",IF(FORM!$Q$2<2,\"Pénalité : \"&FORM!$O$2&\" €\",\"\"))))","v":""},{"$f":"IF(Résumé!$B15=0,\"\",VLOOKUP($B15,Lexique!$C$2:$D$204,2,FALSE))","v":""}]
[null,{"$f":"IF(Résumé!$B16=0,\"\",Résumé!$D16)","v":""},{"$f":"IF(Résumé!$B16=0,\"\",Résumé!$E16)","v":""},{"$f":"IF(Résumé!$B16=0,\"\",Résumé!$F16)","v":""},{"$f":"IF(Résumé!$B16=0,\"\",100)","v":""},{"$f":"IF(Résumé!$B16=0,\"\",D16*E16)","v":""},{"$f":"IF(Résumé!$B16=0,\"\",Résumé!$G16)","v":""},{"$f":"IF(Résumé!$B16=0,\"\",Résumé!$K16)","v":""},{"$f":"IF(Résumé!$B16=0,\"\",Résumé!$L16)","v":""},{"$f":"IF(Résumé!$B16=0,\"\",$G16&\" \"&$H16&\" \"&$I16)","v":""},{"$f":"IF(Résumé!$B16=0,\"\",Résumé!$H16)","v":""},{"$f":"IF(Résumé!$B16=0,\"\",Résumé!$I16)","v":""},{"$f":"IF(Résumé!$B16=0,\"\",$L16-$K16)","v":""},{"$f":"IF(Résumé!$B16=0,\"\",AMOUNT!$K27)","v":""},{"$f":"IF(Résumé!$B16=0,\"\",$M16*$N16)","v":""},{"$f":"IF(Résumé!$B16=0,\"\",IF(FORM!$Q$2=0,\"\",IF(FORM!$Q$2>=2,\"OK\",IF(FORM!$Q$2<2,\"Pénalité : \"&FORM!$O$2&\" €\",\"\"))))","v":""},{"$f":"IF(Résumé!$B16=0,\"\",VLOOKUP($B16,Lexique!$C$2:$D$204,2,FALSE))","v":""}]
[null,{"$f":"IF(Résumé!$B17=0,\"\",Résumé!$D17)","v":""},{"$f":"IF(Résumé!$B17=0,\"\",Résumé!$E17)","v":""},{"$f":"IF(Résumé!$B17=0,\"\",Résumé!$F17)","v":""},{"$f":"IF(Résumé!$B17=0,\"\",100)","v":""},{"$f":"IF(Résumé!$B17=0,\"\",D17*E17)","v":""},{"$f":"IF(Résumé!$B17=0,\"\",Résumé!$G17)","v":""},{"$f":"IF(Résumé!$B17=0,\"\",Résumé!$K17)","v":""},{"$f":"IF(Résumé!$B17=0,\"\",Résumé!$L17)","v":""},{"$f":"IF(Résumé!$B17=0,\"\",$G17&\" \"&$H17&\" \"&$I17)","v":""},{"$f":"IF(Résumé!$B17=0,\"\",Résumé!$H17)","v":""},{"$f":"IF(Résumé!$B17=0,\"\",Résumé!$I17)","v":""},{"$f":"IF(Résumé!$B17=0,\"\",$L17-$K17)","v":""},{"$f":"IF(Résumé!$B17=0,\"\",AMOUNT!$K28)","v":""},{"$f":"IF(Résumé!$B17=0,\"\",$M17*$N17)","v":""},{"$f":"IF(Résumé!$B17=0,\"\",IF(FORM!$Q$2=0,\"\",IF(FORM!$Q$2>=2,\"OK\",IF(FORM!$Q$2<2,\"Pénalité : \"&FORM!$O$2&\" €\",\"\"))))","v":""},{"$f":"IF(Résumé!$B17=0,\"\",VLOOKUP($B17,Lexique!$C$2:$D$204,2,FALSE))","v":""}]
[null,{"$f":"IF(Résumé!$B18=0,\"\",Résumé!$D18)","v":""},{"$f":"IF(Résumé!$B18=0,\"\",Résumé!$E18)","v":""},{"$f":"IF(Résumé!$B18=0,\"\",Résumé!$F18)","v":""},{"$f":"IF(Résumé!$B18=0,\"\",100)","v":""},{"$f":"IF(Résumé!$B18=0,\"\",D18*E18)","v":""},{"$f":"IF(Résumé!$B18=0,\"\",Résumé!$G18)","v":""},{"$f":"IF(Résumé!$B18=0,\"\",Résumé!$K18)","v":""},{"$f":"IF(Résumé!$B18=0,\"\",Résumé!$L18)","v":""},{"$f":"IF(Résumé!$B18=0,\"\",$G18&\" \"&$H18&\" \"&$I18)","v":""},{"$f":"IF(Résumé!$B18=0,\"\",Résumé!$H18)","v":""},{"$f":"IF(Résumé!$B18=0,\"\",Résumé!$I18)","v":""},{"$f":"IF(Résumé!$B18=0,\"\",$L18-$K18)","v":""},{"$f":"IF(Résumé!$B18=0,\"\",AMOUNT!$K29)","v":""},{"$f":"IF(Résumé!$B18=0,\"\",$M18*$N18)","v":""},{"$f":"IF(Résumé!$B18=0,\"\",IF(FORM!$Q$2=0,\"\",IF(FORM!$Q$2>=2,\"OK\",IF(FORM!$Q$2<2,\"Pénalité : \"&FORM!$O$2&\" €\",\"\"))))","v":""},{"$f":"IF(Résumé!$B18=0,\"\",VLOOKUP($B18,Lexique!$C$2:$D$204,2,FALSE))","v":""}]
[null,{"$f":"IF(Résumé!$B19=0,\"\",Résumé!$D19)","v":""},{"$f":"IF(Résumé!$B19=0,\"\",Résumé!$E19)","v":""},{"$f":"IF(Résumé!$B19=0,\"\",Résumé!$F19)","v":""},{"$f":"IF(Résumé!$B19=0,\"\",100)","v":""},{"$f":"IF(Résumé!$B19=0,\"\",D19*E19)","v":""},{"$f":"IF(Résumé!$B19=0,\"\",Résumé!$G19)","v":""},{"$f":"IF(Résumé!$B19=0,\"\",Résumé!$K19)","v":""},{"$f":"IF(Résumé!$B19=0,\"\",Résumé!$L19)","v":""},{"$f":"IF(Résumé!$B19=0,\"\",$G19&\" \"&$H19&\" \"&$I19)","v":""},{"$f":"IF(Résumé!$B19=0,\"\",Résumé!$H19)","v":""},{"$f":"IF(Résumé!$B19=0,\"\",Résumé!$I19)","v":""},{"$f":"IF(Résumé!$B19=0,\"\",$L19-$K19)","v":""},{"$f":"IF(Résumé!$B19=0,\"\",AMOUNT!$K30)","v":""},{"$f":"IF(Résumé!$B19=0,\"\",$M19*$N19)","v":""},{"$f":"IF(Résumé!$B19=0,\"\",IF(FORM!$Q$2=0,\"\",IF(FORM!$Q$2>=2,\"OK\",IF(FORM!$Q$2<2,\"Pénalité : \"&FORM!$O$2&\" €\",\"\"))))","v":""},{"$f":"IF(Résumé!$B19=0,\"\",VLOOKUP($B19,Lexique!$C$2:$D$204,2,FALSE))","v":""}]
[null,{"$f":"IF(Résumé!$B20=0,\"\",Résumé!$D20)","v":""},{"$f":"IF(Résumé!$B20=0,\"\",Résumé!$E20)","v":""},{"$f":"IF(Résumé!$B20=0,\"\",Résumé!$F20)","v":""},{"$f":"IF(Résumé!$B20=0,\"\",100)","v":""},{"$f":"IF(Résumé!$B20=0,\"\",D20*E20)","v":""},{"$f":"IF(Résumé!$B20=0,\"\",Résumé!$G20)","v":""},{"$f":"IF(Résumé!$B20=0,\"\",Résumé!$K20)","v":""},{"$f":"IF(Résumé!$B20=0,\"\",Résumé!$L20)","v":""},{"$f":"IF(Résumé!$B20=0,\"\",$G20&\" \"&$H20&\" \"&$I20)","v":""},{"$f":"IF(Résumé!$B20=0,\"\",Résumé!$H20)","v":""},{"$f":"IF(Résumé!$B20=0,\"\",Résumé!$I20)","v":""},{"$f":"IF(Résumé!$B20=0,\"\",$L20-$K20)","v":""},{"$f":"IF(Résumé!$B20=0,\"\",AMOUNT!$K31)","v":""},{"$f":"IF(Résumé!$B20=0,\"\",$M20*$N20)","v":""},{"$f":"IF(Résumé!$B20=0,\"\",IF(FORM!$Q$2=0,\"\",IF(FORM!$Q$2>=2,\"OK\",IF(FORM!$Q$2<2,\"Pénalité : \"&FORM!$O$2&\" €\",\"\"))))","v":""},{"$f":"IF(Résumé!$B20=0,\"\",VLOOKUP($B20,Lexique!$C$2:$D$204,2,FALSE))","v":""}]
[null,{"$f":"IF(Résumé!$B21=0,\"\",Résumé!$D21)","v":""},{"$f":"IF(Résumé!$B21=0,\"\",Résumé!$E21)","v":""},{"$f":"IF(Résumé!$B21=0,\"\",Résumé!$F21)","v":""},{"$f":"IF(Résumé!$B21=0,\"\",100)","v":""},{"$f":"IF(Résumé!$B21=0,\"\",D21*E21)","v":""},{"$f":"IF(Résumé!$B21=0,\"\",Résumé!$G21)","v":""},{"$f":"IF(Résumé!$B21=0,\"\",Résumé!$K21)","v":""},{"$f":"IF(Résumé!$B21=0,\"\",Résumé!$L21)","v":""},{"$f":"IF(Résumé!$B21=0,\"\",$G21&\" \"&$H21&\" \"&$I21)","v":""},{"$f":"IF(Résumé!$B21=0,\"\",Résumé!$H21)","v":""},{"$f":"IF(Résumé!$B21=0,\"\",Résumé!$I21)","v":""},{"$f":"IF(Résumé!$B21=0,\"\",$L21-$K21)","v":""},{"$f":"IF(Résumé!$B21=0,\"\",AMOUNT!$K32)","v":""},{"$f":"IF(Résumé!$B21=0,\"\",$M21*$N21)","v":""},{"$f":"IF(Résumé!$B21=0,\"\",IF(FORM!$Q$2=0,\"\",IF(FORM!$Q$2>=2,\"OK\",IF(FORM!$Q$2<2,\"Pénalité : \"&FORM!$O$2&\" €\",\"\"))))","v":""},{"$f":"IF(Résumé!$B21=0,\"\",VLOOKUP($B21,Lexique!$C$2:$D$204,2,FALSE))","v":""}]
[null,{"$f":"IF(Résumé!$B22=0,\"\",Résumé!$D22)","v":""},{"$f":"IF(Résumé!$B22=0,\"\",Résumé!$E22)","v":""},{"$f":"IF(Résumé!$B22=0,\"\",Résumé!$F22)","v":""},{"$f":"IF(Résumé!$B22=0,\"\",100)","v":""},{"$f":"IF(Résumé!$B22=0,\"\",D22*E22)","v":""},{"$f":"IF(Résumé!$B22=0,\"\",Résumé!$G22)","v":""},{"$f":"IF(Résumé!$B22=0,\"\",Résumé!$K22)","v":""},{"$f":"IF(Résumé!$B22=0,\"\",Résumé!$L22)","v":""},{"$f":"IF(Résumé!$B22=0,\"\",$G22&\" \"&$H22&\" \"&$I22)","v":""},{"$f":"IF(Résumé!$B22=0,\"\",Résumé!$H22)","v":""},{"$f":"IF(Résumé!$B22=0,\"\",Résumé!$I22)","v":""},{"$f":"IF(Résumé!$B22=0,\"\",$L22-$K22)","v":""},{"$f":"IF(Résumé!$B22=0,\"\",AMOUNT!$K33)","v":""},{"$f":"IF(Résumé!$B22=0,\"\",$M22*$N22)","v":""},{"$f":"IF(Résumé!$B22=0,\"\",IF(FORM!$Q$2=0,\"\",IF(FORM!$Q$2>=2,\"OK\",IF(FORM!$Q$2<2,\"Pénalité : \"&FORM!$O$2&\" €\",\"\"))))","v":""},{"$f":"IF(Résumé!$B22=0,\"\",VLOOKUP($B22,Lexique!$C$2:$D$204,2,FALSE))","v":""}]
[null,{"$f":"IF(Résumé!$B23=0,\"\",Résumé!$D23)","v":""},{"$f":"IF(Résumé!$B23=0,\"\",Résumé!$E23)","v":""},{"$f":"IF(Résumé!$B23=0,\"\",Résumé!$F23)","v":""},{"$f":"IF(Résumé!$B23=0,\"\",100)","v":""},{"$f":"IF(Résumé!$B23=0,\"\",D23*E23)","v":""},{"$f":"IF(Résumé!$B23=0,\"\",Résumé!$G23)","v":""},{"$f":"IF(Résumé!$B23=0,\"\",Résumé!$K23)","v":""},{"$f":"IF(Résumé!$B23=0,\"\",Résumé!$L23)","v":""},{"$f":"IF(Résumé!$B23=0,\"\",$G23&\" \"&$H23&\" \"&$I23)","v":""},{"$f":"IF(Résumé!$B23=0,\"\",Résumé!$H23)","v":""},{"$f":"IF(Résumé!$B23=0,\"\",Résumé!$I23)","v":""},{"$f":"IF(Résumé!$B23=0,\"\",$L23-$K23)","v":""},{"$f":"IF(Résumé!$B23=0,\"\",AMOUNT!$K34)","v":""},{"$f":"IF(Résumé!$B23=0,\"\",$M23*$N23)","v":""},{"$f":"IF(Résumé!$B23=0,\"\",IF(FORM!$Q$2=0,\"\",IF(FORM!$Q$2>=2,\"OK\",IF(FORM!$Q$2<2,\"Pénalité : \"&FORM!$O$2&\" €\",\"\"))))","v":""},{"$f":"IF(Résumé!$B23=0,\"\",VLOOKUP($B23,Lexique!$C$2:$D$204,2,FALSE))","v":""}]
[null,{"$f":"IF(Résumé!$B24=0,\"\",Résumé!$D24)","v":""},{"$f":"IF(Résumé!$B24=0,\"\",Résumé!$E24)","v":""},{"$f":"IF(Résumé!$B24=0,\"\",Résumé!$F24)","v":""},{"$f":"IF(Résumé!$B24=0,\"\",100)","v":""},{"$f":"IF(Résumé!$B24=0,\"\",D24*E24)","v":""},{"$f":"IF(Résumé!$B24=0,\"\",Résumé!$G24)","v":""},{"$f":"IF(Résumé!$B24=0,\"\",Résumé!$K24)","v":""},{"$f":"IF(Résumé!$B24=0,\"\",Résumé!$L24)","v":""},{"$f":"IF(Résumé!$B24=0,\"\",$G24&\" \"&$H24&\" \"&$I24)","v":""},{"$f":"IF(Résumé!$B24=0,\"\",Résumé!$H24)","v":""},{"$f":"IF(Résumé!$B24=0,\"\",Résumé!$I24)","v":""},{"$f":"IF(Résumé!$B24=0,\"\",$L24-$K24)","v":""},{"$f":"IF(Résumé!$B24=0,\"\",AMOUNT!$K35)","v":""},{"$f":"IF(Résumé!$B24=0,\"\",$M24*$N24)","v":""},{"$f":"IF(Résumé!$B24=0,\"\",IF(FORM!$Q$2=0,\"\",IF(FORM!$Q$2>=2,\"OK\",IF(FORM!$Q$2<2,\"Pénalité : \"&FORM!$O$2&\" €\",\"\"))))","v":""},{"$f":"IF(Résumé!$B24=0,\"\",VLOOKUP($B24,Lexique!$C$2:$D$204,2,FALSE))","v":""}]
[null,{"$f":"IF(Résumé!$B25=0,\"\",Résumé!$D25)","v":""},{"$f":"IF(Résumé!$B25=0,\"\",Résumé!$E25)","v":""},{"$f":"IF(Résumé!$B25=0,\"\",Résumé!$F25)","v":""},{"$f":"IF(Résumé!$B25=0,\"\",100)","v":""},{"$f":"IF(Résumé!$B25=0,\"\",D25*E25)","v":""},{"$f":"IF(Résumé!$B25=0,\"\",Résumé!$G25)","v":""},{"$f":"IF(Résumé!$B25=0,\"\",Résumé!$K25)","v":""},{"$f":"IF(Résumé!$B25=0,\"\",Résumé!$L25)","v":""},{"$f":"IF(Résumé!$B25=0,\"\",$G25&\" \"&$H25&\" \"&$I25)","v":""},{"$f":"IF(Résumé!$B25=0,\"\",Résumé!$H25)","v":""},{"$f":"IF(Résumé!$B25=0,\"\",Résumé!$I25)","v":""},{"$f":"IF(Résumé!$B25=0,\"\",$L25-$K25)","v":""},{"$f":"IF(Résumé!$B25=0,\"\",AMOUNT!$K36)","v":""},{"$f":"IF(Résumé!$B25=0,\"\",$M25*$N25)","v":""},{"$f":"IF(Résumé!$B25=0,\"\",IF(FORM!$Q$2=0,\"\",IF(FORM!$Q$2>=2,\"OK\",IF(FORM!$Q$2<2,\"Pénalité : \"&FORM!$O$2&\" €\",\"\"))))","v":""},{"$f":"IF(Résumé!$B25=0,\"\",VLOOKUP($B25,Lexique!$C$2:$D$204,2,FALSE))","v":""}]
[null,{"$f":"IF(Résumé!$B26=0,\"\",Résumé!$D26)","v":""},{"$f":"IF(Résumé!$B26=0,\"\",Résumé!$E26)","v":""},{"$f":"IF(Résumé!$B26=0,\"\",Résumé!$F26)","v":""},{"$f":"IF(Résumé!$B26=0,\"\",100)","v":""},{"$f":"IF(Résumé!$B26=0,\"\",D26*E26)","v":""},{"$f":"IF(Résumé!$B26=0,\"\",Résumé!$G26)","v":""},{"$f":"IF(Résumé!$B26=0,\"\",Résumé!$K26)","v":""},{"$f":"IF(Résumé!$B26=0,\"\",Résumé!$L26)","v":""},{"$f":"IF(Résumé!$B26=0,\"\",$G26&\" \"&$H26&\" \"&$I26)","v":""},{"$f":"IF(Résumé!$B26=0,\"\",Résumé!$H26)","v":""},{"$f":"IF(Résumé!$B26=0,\"\",Résumé!$I26)","v":""},{"$f":"IF(Résumé!$B26=0,\"\",$L26-$K26)","v":""},{"$f":"IF(Résumé!$B26=0,\"\",AMOUNT!$K37)","v":""},{"$f":"IF(Résumé!$B26=0,\"\",$M26*$N26)","v":""},{"$f":"IF(Résumé!$B26=0,\"\",IF(FORM!$Q$2=0,\"\",IF(FORM!$Q$2>=2,\"OK\",IF(FORM!$Q$2<2,\"Pénalité : \"&FORM!$O$2&\" €\",\"\"))))","v":""},{"$f":"IF(Résumé!$B26=0,\"\",VLOOKUP($B26,Lexique!$C$2:$D$204,2,FALSE))","v":""}]
[null,{"$f":"IF(Résumé!$B27=0,\"\",Résumé!$D27)","v":""},{"$f":"IF(Résumé!$B27=0,\"\",Résumé!$E27)","v":""},{"$f":"IF(Résumé!$B27=0,\"\",Résumé!$F27)","v":""},{"$f":"IF(Résumé!$B27=0,\"\",100)","v":""},{"$f":"IF(Résumé!$B27=0,\"\",D27*E27)","v":""},{"$f":"IF(Résumé!$B27=0,\"\",Résumé!$G27)","v":""},{"$f":"IF(Résumé!$B27=0,\"\",Résumé!$K27)","v":""},{"$f":"IF(Résumé!$B27=0,\"\",Résumé!$L27)","v":""},{"$f":"IF(Résumé!$B27=0,\"\",$G27&\" \"&$H27&\" \"&$I27)","v":""},{"$f":"IF(Résumé!$B27=0,\"\",Résumé!$H27)","v":""},{"$f":"IF(Résumé!$B27=0,\"\",Résumé!$I27)","v":""},{"$f":"IF(Résumé!$B27=0,\"\",$L27-$K27)","v":""},{"$f":"IF(Résumé!$B27=0,\"\",AMOUNT!$K38)","v":""},{"$f":"IF(Résumé!$B27=0,\"\",$M27*$N27)","v":""},{"$f":"IF(Résumé!$B27=0,\"\",IF(FORM!$Q$2=0,\"\",IF(FORM!$Q$2>=2,\"OK\",IF(FORM!$Q$2<2,\"Pénalité : \"&FORM!$O$2&\" €\",\"\"))))","v":""},{"$f":"IF(Résumé!$B27=0,\"\",VLOOKUP($B27,Lexique!$C$2:$D$204,2,FALSE))","v":""}]
[null,{"$f":"IF(Résumé!$B28=0,\"\",Résumé!$D28)","v":""},{"$f":"IF(Résumé!$B28=0,\"\",Résumé!$E28)","v":""},{"$f":"IF(Résumé!$B28=0,\"\",Résumé!$F28)","v":""},{"$f":"IF(Résumé!$B28=0,\"\",100)","v":""},{"$f":"IF(Résumé!$B28=0,\"\",D28*E28)","v":""},{"$f":"IF(Résumé!$B28=0,\"\",Résumé!$G28)","v":""},{"$f":"IF(Résumé!$B28=0,\"\",Résumé!$K28)","v":""},{"$f":"IF(Résumé!$B28=0,\"\",Résumé!$L28)","v":""},{"$f":"IF(Résumé!$B28=0,\"\",$G28&\" \"&$H28&\" \"&$I28)","v":""},{"$f":"IF(Résumé!$B28=0,\"\",Résumé!$H28)","v":""},{"$f":"IF(Résumé!$B28=0,\"\",Résumé!$I28)","v":""},{"$f":"IF(Résumé!$B28=0,\"\",$L28-$K28)","v":""},{"$f":"IF(Résumé!$B28=0,\"\",AMOUNT!$K39)","v":""},{"$f":"IF(Résumé!$B28=0,\"\",$M28*$N28)","v":""},{"$f":"IF(Résumé!$B28=0,\"\",IF(FORM!$Q$2=0,\"\",IF(FORM!$Q$2>=2,\"OK\",IF(FORM!$Q$2<2,\"Pénalité : \"&FORM!$O$2&\" €\",\"\"))))","v":""},{"$f":"IF(Résumé!$B28=0,\"\",VLOOKUP($B28,Lexique!$C$2:$D$204,2,FALSE))","v":""}]
[null,{"$f":"IF(Résumé!$B29=0,\"\",Résumé!$D29)","v":""},{"$f":"IF(Résumé!$B29=0,\"\",Résumé!$E29)","v":""},{"$f":"IF(Résumé!$B29=0,\"\",Résumé!$F29)","v":""},{"$f":"IF(Résumé!$B29=0,\"\",100)","v":""},{"$f":"IF(Résumé!$B29=0,\"\",D29*E29)","v":""},{"$f":"IF(Résumé!$B29=0,\"\",Résumé!$G29)","v":""},{"$f":"IF(Résumé!$B29=0,\"\",Résumé!$K29)","v":""},{"$f":"IF(Résumé!$B29=0,\"\",Résumé!$L29)","v":""},{"$f":"IF(Résumé!$B29=0,\"\",$G29&\" \"&$H29&\" \"&$I29)","v":""},{"$f":"IF(Résumé!$B29=0,\"\",Résumé!$H29)","v":""},{"$f":"IF(Résumé!$B29=0,\"\",Résumé!$I29)","v":""},{"$f":"IF(Résumé!$B29=0,\"\",$L29-$K29)","v":""},{"$f":"IF(Résumé!$B29=0,\"\",AMOUNT!$K40)","v":""},{"$f":"IF(Résumé!$B29=0,\"\",$M29*$N29)","v":""},{"$f":"IF(Résumé!$B29=0,\"\",IF(FORM!$Q$2=0,\"\",IF(FORM!$Q$2>=2,\"OK\",IF(FORM!$Q$2<2,\"Pénalité : \"&FORM!$O$2&\" €\",\"\"))))","v":""},{"$f":"IF(Résumé!$B29=0,\"\",VLOOKUP($B29,Lexique!$C$2:$D$204,2,FALSE))","v":""}]
[null,{"$f":"IF(Résumé!$B30=0,\"\",Résumé!$D30)","v":""},{"$f":"IF(Résumé!$B30=0,\"\",Résumé!$E30)","v":""},{"$f":"IF(Résumé!$B30=0,\"\",Résumé!$F30)","v":""},{"$f":"IF(Résumé!$B30=0,\"\",100)","v":""},{"$f":"IF(Résumé!$B30=0,\"\",D30*E30)","v":""},{"$f":"IF(Résumé!$B30=0,\"\",Résumé!$G30)","v":""},{"$f":"IF(Résumé!$B30=0,\"\",Résumé!$K30)","v":""},{"$f":"IF(Résumé!$B30=0,\"\",Résumé!$L30)","v":""},{"$f":"IF(Résumé!$B30=0,\"\",$G30&\" \"&$H30&\" \"&$I30)","v":""},{"$f":"IF(Résumé!$B30=0,\"\",Résumé!$H30)","v":""},{"$f":"IF(Résumé!$B30=0,\"\",Résumé!$I30)","v":""},{"$f":"IF(Résumé!$B30=0,\"\",$L30-$K30)","v":""},{"$f":"IF(Résumé!$B30=0,\"\",AMOUNT!$K41)","v":""},{"$f":"IF(Résumé!$B30=0,\"\",$M30*$N30)","v":""},{"$f":"IF(Résumé!$B30=0,\"\",IF(FORM!$Q$2=0,\"\",IF(FORM!$Q$2>=2,\"OK\",IF(FORM!$Q$2<2,\"Pénalité : \"&FORM!$O$2&\" €\",\"\"))))","v":""},{"$f":"IF(Résumé!$B30=0,\"\",VLOOKUP($B30,Lexique!$C$2:$D$204,2,FALSE))","v":""}]
[null,{"$f":"IF(Résumé!$B31=0,\"\",Résumé!$D31)","v":""},{"$f":"IF(Résumé!$B31=0,\"\",Résumé!$E31)","v":""},{"$f":"IF(Résumé!$B31=0,\"\",Résumé!$F31)","v":""},{"$f":"IF(Résumé!$B31=0,\"\",100)","v":""},{"$f":"IF(Résumé!$B31=0,\"\",D31*E31)","v":""},{"$f":"IF(Résumé!$B31=0,\"\",Résumé!$G31)","v":""},{"$f":"IF(Résumé!$B31=0,\"\",Résumé!$K31)","v":""},{"$f":"IF(Résumé!$B31=0,\"\",Résumé!$L31)","v":""},{"$f":"IF(Résumé!$B31=0,\"\",$G31&\" \"&$H31&\" \"&$I31)","v":""},{"$f":"IF(Résumé!$B31=0,\"\",Résumé!$H31)","v":""},{"$f":"IF(Résumé!$B31=0,\"\",Résumé!$I31)","v":""},{"$f":"IF(Résumé!$B31=0,\"\",$L31-$K31)","v":""},{"$f":"IF(Résumé!$B31=0,\"\",AMOUNT!$K42)","v":""},{"$f":"IF(Résumé!$B31=0,\"\",$M31*$N31)","v":""},{"$f":"IF(Résumé!$B31=0,\"\",IF(FORM!$Q$2=0,\"\",IF(FORM!$Q$2>=2,\"OK\",IF(FORM!$Q$2<2,\"Pénalité : \"&FORM!$O$2&\" €\",\"\"))))","v":""},{"$f":"IF(Résumé!$B31=0,\"\",VLOOKUP($B31,Lexique!$C$2:$D$204,2,FALSE))","v":""}]
[null,{"$f":"IF(Résumé!$B32=0,\"\",Résumé!$D32)","v":""},{"$f":"IF(Résumé!$B32=0,\"\",Résumé!$E32)","v":""},{"$f":"IF(Résumé!$B32=0,\"\",Résumé!$F32)","v":""},{"$f":"IF(Résumé!$B32=0,\"\",100)","v":""},{"$f":"IF(Résumé!$B32=0,\"\",D32*E32)","v":""},{"$f":"IF(Résumé!$B32=0,\"\",Résumé!$G32)","v":""},{"$f":"IF(Résumé!$B32=0,\"\",Résumé!$K32)","v":""},{"$f":"IF(Résumé!$B32=0,\"\",Résumé!$L32)","v":""},{"$f":"IF(Résumé!$B32=0,\"\",$G32&\" \"&$H32&\" \"&$I32)","v":""},{"$f":"IF(Résumé!$B32=0,\"\",Résumé!$H32)","v":""},{"$f":"IF(Résumé!$B32=0,\"\",Résumé!$I32)","v":""},{"$f":"IF(Résumé!$B32=0,\"\",$L32-$K32)","v":""},{"$f":"IF(Résumé!$B32=0,\"\",AMOUNT!$K43)","v":""},{"$f":"IF(Résumé!$B32=0,\"\",$M32*$N32)","v":""},{"$f":"IF(Résumé!$B32=0,\"\",IF(FORM!$Q$2=0,\"\",IF(FORM!$Q$2>=2,\"OK\",IF(FORM!$Q$2<2,\"Pénalité : \"&FORM!$O$2&\" €\",\"\"))))","v":""},{"$f":"IF(Résumé!$B32=0,\"\",VLOOKUP($B32,Lexique!$C$2:$D$204,2,FALSE))","v":""}]
[null,{"$f":"IF(Résumé!$B33=0,\"\",Résumé!$D33)","v":""},{"$f":"IF(Résumé!$B33=0,\"\",Résumé!$E33)","v":""},{"$f":"IF(Résumé!$B33=0,\"\",Résumé!$F33)","v":""},{"$f":"IF(Résumé!$B33=0,\"\",100)","v":""},{"$f":"IF(Résumé!$B33=0,\"\",D33*E33)","v":""},{"$f":"IF(Résumé!$B33=0,\"\",Résumé!$G33)","v":""},{"$f":"IF(Résumé!$B33=0,\"\",Résumé!$K33)","v":""},{"$f":"IF(Résumé!$B33=0,\"\",Résumé!$L33)","v":""},{"$f":"IF(Résumé!$B33=0,\"\",$G33&\" \"&$H33&\" \"&$I33)","v":""},{"$f":"IF(Résumé!$B33=0,\"\",Résumé!$H33)","v":""},{"$f":"IF(Résumé!$B33=0,\"\",Résumé!$I33)","v":""},{"$f":"IF(Résumé!$B33=0,\"\",$L33-$K33)","v":""},{"$f":"IF(Résumé!$B33=0,\"\",AMOUNT!$K44)","v":""},{"$f":"IF(Résumé!$B33=0,\"\",$M33*$N33)","v":""},{"$f":"IF(Résumé!$B33=0,\"\",IF(FORM!$Q$2=0,\"\",IF(FORM!$Q$2>=2,\"OK\",IF(FORM!$Q$2<2,\"Pénalité : \"&FORM!$O$2&\" €\",\"\"))))","v":""},{"$f":"IF(Résumé!$B33=0,\"\",VLOOKUP($B33,Lexique!$C$2:$D$204,2,FALSE))","v":""}]
[null,{"$f":"IF(Résumé!$B34=0,\"\",Résumé!$D34)","v":""},{"$f":"IF(Résumé!$B34=0,\"\",Résumé!$E34)","v":""},{"$f":"IF(Résumé!$B34=0,\"\",Résumé!$F34)","v":""},{"$f":"IF(Résumé!$B34=0,\"\",100)","v":""},{"$f":"IF(Résumé!$B34=0,\"\",D34*E34)","v":""},{"$f":"IF(Résumé!$B34=0,\"\",Résumé!$G34)","v":""},{"$f":"IF(Résumé!$B34=0,\"\",Résumé!$K34)","v":""},{"$f":"IF(Résumé!$B34=0,\"\",Résumé!$L34)","v":""},{"$f":"IF(Résumé!$B34=0,\"\",$G34&\" \"&$H34&\" \"&$I34)","v":""},{"$f":"IF(Résumé!$B34=0,\"\",Résumé!$H34)","v":""},{"$f":"IF(Résumé!$B34=0,\"\",Résumé!$I34)","v":""},{"$f":"IF(Résumé!$B34=0,\"\",$L34-$K34)","v":""},{"$f":"IF(Résumé!$B34=0,\"\",AMOUNT!$K45)","v":""},{"$f":"IF(Résumé!$B34=0,\"\",$M34*$N34)","v":""},{"$f":"IF(Résumé!$B34=0,\"\",IF(FORM!$Q$2=0,\"\",IF(FORM!$Q$2>=2,\"OK\",IF(FORM!$Q$2<2,\"Pénalité : \"&FORM!$O$2&\" €\",\"\"))))","v":""},{"$f":"IF(Résumé!$B34=0,\"\",VLOOKUP($B34,Lexique!$C$2:$D$204,2,FALSE))","v":""}]
[null,{"$f":"IF(Résumé!$B35=0,\"\",Résumé!$D35)","v":""},{"$f":"IF(Résumé!$B35=0,\"\",Résumé!$E35)","v":""},{"$f":"IF(Résumé!$B35=0,\"\",Résumé!$F35)","v":""},{"$f":"IF(Résumé!$B35=0,\"\",100)","v":""},{"$f":"IF(Résumé!$B35=0,\"\",D35*E35)","v":""},{"$f":"IF(Résumé!$B35=0,\"\",Résumé!$G35)","v":""},{"$f":"IF(Résumé!$B35=0,\"\",Résumé!$K35)","v":""},{"$f":"IF(Résumé!$B35=0,\"\",Résumé!$L35)","v":""},{"$f":"IF(Résumé!$B35=0,\"\",$G35&\" \"&$H35&\" \"&$I35)","v":""},{"$f":"IF(Résumé!$B35=0,\"\",Résumé!$H35)","v":""},{"$f":"IF(Résumé!$B35=0,\"\",Résumé!$I35)","v":""},{"$f":"IF(Résumé!$B35=0,\"\",$L35-$K35)","v":""},{"$f":"IF(Résumé!$B35=0,\"\",AMOUNT!$K46)","v":""},{"$f":"IF(Résumé!$B35=0,\"\",$M35*$N35)","v":""},{"$f":"IF(Résumé!$B35=0,\"\",IF(FORM!$Q$2=0,\"\",IF(FORM!$Q$2>=2,\"OK\",IF(FORM!$Q$2<2,\"Pénalité : \"&FORM!$O$2&\" €\",\"\"))))","v":""},{"$f":"IF(Résumé!$B35=0,\"\",VLOOKUP($B35,Lexique!$C$2:$D$204,2,FALSE))","v":""}]
[null,{"$f":"IF(Résumé!$B36=0,\"\",Résumé!$D36)","v":""},{"$f":"IF(Résumé!$B36=0,\"\",Résumé!$E36)","v":""},{"$f":"IF(Résumé!$B36=0,\"\",Résumé!$F36)","v":""},{"$f":"IF(Résumé!$B36=0,\"\",100)","v":""},{"$f":"IF(Résumé!$B36=0,\"\",D36*E36)","v":""},{"$f":"IF(Résumé!$B36=0,\"\",Résumé!$G36)","v":""},{"$f":"IF(Résumé!$B36=0,\"\",Résumé!$K36)","v":""},{"$f":"IF(Résumé!$B36=0,\"\",Résumé!$L36)","v":""},{"$f":"IF(Résumé!$B36=0,\"\",$G36&\" \"&$H36&\" \"&$I36)","v":""},{"$f":"IF(Résumé!$B36=0,\"\",Résumé!$H36)","v":""},{"$f":"IF(Résumé!$B36=0,\"\",Résumé!$I36)","v":""},{"$f":"IF(Résumé!$B36=0,\"\",$L36-$K36)","v":""},{"$f":"IF(Résumé!$B36=0,\"\",AMOUNT!$K47)","v":""},{"$f":"IF(Résumé!$B36=0,\"\",$M36*$N36)","v":""},{"$f":"IF(Résumé!$B36=0,\"\",IF(FORM!$Q$2=0,\"\",IF(FORM!$Q$2>=2,\"OK\",IF(FORM!$Q$2<2,\"Pénalité : \"&FORM!$O$2&\" €\",\"\"))))","v":""},{"$f":"IF(Résumé!$B36=0,\"\",VLOOKUP($B36,Lexique!$C$2:$D$204,2,FALSE))","v":""}]
[null,{"$f":"IF(Résumé!$B37=0,\"\",Résumé!$D37)","v":""},{"$f":"IF(Résumé!$B37=0,\"\",Résumé!$E37)","v":""},{"$f":"IF(Résumé!$B37=0,\"\",Résumé!$F37)","v":""},{"$f":"IF(Résumé!$B37=0,\"\",100)","v":""},{"$f":"IF(Résumé!$B37=0,\"\",D37*E37)","v":""},{"$f":"IF(Résumé!$B37=0,\"\",Résumé!$G37)","v":""},{"$f":"IF(Résumé!$B37=0,\"\",Résumé!$K37)","v":""},{"$f":"IF(Résumé!$B37=0,\"\",Résumé!$L37)","v":""},{"$f":"IF(Résumé!$B37=0,\"\",$G37&\" \"&$H37&\" \"&$I37)","v":""},{"$f":"IF(Résumé!$B37=0,\"\",Résumé!$H37)","v":""},{"$f":"IF(Résumé!$B37=0,\"\",Résumé!$I37)","v":""},{"$f":"IF(Résumé!$B37=0,\"\",$L37-$K37)","v":""},{"$f":"IF(Résumé!$B37=0,\"\",AMOUNT!$K48)","v":""},{"$f":"IF(Résumé!$B37=0,\"\",$M37*$N37)","v":""},{"$f":"IF(Résumé!$B37=0,\"\",IF(FORM!$Q$2=0,\"\",IF(FORM!$Q$2>=2,\"OK\",IF(FORM!$Q$2<2,\"Pénalité : \"&FORM!$O$2&\" €\",\"\"))))","v":""},{"$f":"IF(Résumé!$B37=0,\"\",VLOOKUP($B37,Lexique!$C$2:$D$204,2,FALSE))","v":""}]
[null,{"$f":"IF(Résumé!$B38=0,\"\",Résumé!$D38)","v":""},{"$f":"IF(Résumé!$B38=0,\"\",Résumé!$E38)","v":""},{"$f":"IF(Résumé!$B38=0,\"\",Résumé!$F38)","v":""},{"$f":"IF(Résumé!$B38=0,\"\",100)","v":""},{"$f":"IF(Résumé!$B38=0,\"\",D38*E38)","v":""},{"$f":"IF(Résumé!$B38=0,\"\",Résumé!$G38)","v":""},{"$f":"IF(Résumé!$B38=0,\"\",Résumé!$K38)","v":""},{"$f":"IF(Résumé!$B38=0,\"\",Résumé!$L38)","v":""},{"$f":"IF(Résumé!$B38=0,\"\",$G38&\" \"&$H38&\" \"&$I38)","v":""},{"$f":"IF(Résumé!$B38=0,\"\",Résumé!$H38)","v":""},{"$f":"IF(Résumé!$B38=0,\"\",Résumé!$I38)","v":""},{"$f":"IF(Résumé!$B38=0,\"\",$L38-$K38)","v":""},{"$f":"IF(Résumé!$B38=0,\"\",AMOUNT!$K49)","v":""},{"$f":"IF(Résumé!$B38=0,\"\",$M38*$N38)","v":""},{"$f":"IF(Résumé!$B38=0,\"\",IF(FORM!$Q$2=0,\"\",IF(FORM!$Q$2>=2,\"OK\",IF(FORM!$Q$2<2,\"Pénalité : \"&FORM!$O$2&\" €\",\"\"))))","v":""},{"$f":"IF(Résumé!$B38=0,\"\",VLOOKUP($B38,Lexique!$C$2:$D$204,2,FALSE))","v":""}]
[null,{"$f":"IF(Résumé!$B39=0,\"\",Résumé!$D39)","v":""},{"$f":"IF(Résumé!$B39=0,\"\",Résumé!$E39)","v":""},{"$f":"IF(Résumé!$B39=0,\"\",Résumé!$F39)","v":""},{"$f":"IF(Résumé!$B39=0,\"\",100)","v":""},{"$f":"IF(Résumé!$B39=0,\"\",D39*E39)","v":""},{"$f":"IF(Résumé!$B39=0,\"\",Résumé!$G39)","v":""},{"$f":"IF(Résumé!$B39=0,\"\",Résumé!$K39)","v":""},{"$f":"IF(Résumé!$B39=0,\"\",Résumé!$L39)","v":""},{"$f":"IF(Résumé!$B39=0,\"\",$G39&\" \"&$H39&\" \"&$I39)","v":""},{"$f":"IF(Résumé!$B39=0,\"\",Résumé!$H39)","v":""},{"$f":"IF(Résumé!$B39=0,\"\",Résumé!$I39)","v":""},{"$f":"IF(Résumé!$B39=0,\"\",$L39-$K39)","v":""},{"$f":"IF(Résumé!$B39=0,\"\",AMOUNT!$K50)","v":""},{"$f":"IF(Résumé!$B39=0,\"\",$M39*$N39)","v":""},{"$f":"IF(Résumé!$B39=0,\"\",IF(FORM!$Q$2=0,\"\",IF(FORM!$Q$2>=2,\"OK\",IF(FORM!$Q$2<2,\"Pénalité : \"&FORM!$O$2&\" €\",\"\"))))","v":""},{"$f":"IF(Résumé!$B39=0,\"\",VLOOKUP($B39,Lexique!$C$2:$D$204,2,FALSE))","v":""}]
[null,{"$f":"IF(Résumé!$B40=0,\"\",Résumé!$D40)","v":""},{"$f":"IF(Résumé!$B40=0,\"\",Résumé!$E40)","v":""},{"$f":"IF(Résumé!$B40=0,\"\",Résumé!$F40)","v":""},{"$f":"IF(Résumé!$B40=0,\"\",100)","v":""},{"$f":"IF(Résumé!$B40=0,\"\",D40*E40)","v":""},{"$f":"IF(Résumé!$B40=0,\"\",Résumé!$G40)","v":""},{"$f":"IF(Résumé!$B40=0,\"\",Résumé!$K40)","v":""},{"$f":"IF(Résumé!$B40=0,\"\",Résumé!$L40)","v":""},{"$f":"IF(Résumé!$B40=0,\"\",$G40&\" \"&$H40&\" \"&$I40)","v":""},{"$f":"IF(Résumé!$B40=0,\"\",Résumé!$H40)","v":""},{"$f":"IF(Résumé!$B40=0,\"\",Résumé!$I40)","v":""},{"$f":"IF(Résumé!$B40=0,\"\",$L40-$K40)","v":""},{"$f":"IF(Résumé!$B40=0,\"\",AMOUNT!$K51)","v":""},{"$f":"IF(Résumé!$B40=0,\"\",$M40*$N40)","v":""},{"$f":"IF(Résumé!$B40=0,\"\",IF(FORM!$Q$2=0,\"\",IF(FORM!$Q$2>=2,\"OK\",IF(FORM!$Q$2<2,\"Pénalité : \"&FORM!$O$2&\" €\",\"\"))))","v":""},{"$f":"IF(Résumé!$B40=0,\"\",VLOOKUP($B40,Lexique!$C$2:$D$204,2,FALSE))","v":""}]
[null,{"$f":"IF(Résumé!$B41=0,\"\",Résumé!$D41)","v":""},{"$f":"IF(Résumé!$B41=0,\"\",Résumé!$E41)","v":""},{"$f":"IF(Résumé!$B41=0,\"\",Résumé!$F41)","v":""},{"$f":"IF(Résumé!$B41=0,\"\",100)","v":""},{"$f":"IF(Résumé!$B41=0,\"\",D41*E41)","v":""},{"$f":"IF(Résumé!$B41=0,\"\",Résumé!$G41)","v":""},{"$f":"IF(Résumé!$B41=0,\"\",Résumé!$K41)","v":""},{"$f":"IF(Résumé!$B41=0,\"\",Résumé!$L41)","v":""},{"$f":"IF(Résumé!$B41=0,\"\",$G41&\" \"&$H41&\" \"&$I41)","v":""},{"$f":"IF(Résumé!$B41=0,\"\",Résumé!$H41)","v":""},{"$f":"IF(Résumé!$B41=0,\"\",Résumé!$I41)","v":""},{"$f":"IF(Résumé!$B41=0,\"\",$L41-$K41)","v":""},{"$f":"IF(Résumé!$B41=0,\"\",AMOUNT!$K52)","v":""},{"$f":"IF(Résumé!$B41=0,\"\",$M41*$N41)","v":""},{"$f":"IF(Résumé!$B41=0,\"\",IF(FORM!$Q$2=0,\"\",IF(FORM!$Q$2>=2,\"OK\",IF(FORM!$Q$2<2,\"Pénalité : \"&FORM!$O$2&\" €\",\"\"))))","v":""},{"$f":"IF(Résumé!$B41=0,\"\",VLOOKUP($B41,Lexique!$C$2:$D$204,2,FALSE))","v":""}]
[null,{"$f":"IF(Résumé!$B42=0,\"\",Résumé!$D42)","v":""},{"$f":"IF(Résumé!$B42=0,\"\",Résumé!$E42)","v":""},{"$f":"IF(Résumé!$B42=0,\"\",Résumé!$F42)","v":""},{"$f":"IF(Résumé!$B42=0,\"\",100)","v":""},{"$f":"IF(Résumé!$B42=0,\"\",D42*E42)","v":""},{"$f":"IF(Résumé!$B42=0,\"\",Résumé!$G42)","v":""},{"$f":"IF(Résumé!$B42=0,\"\",Résumé!$K42)","v":""},{"$f":"IF(Résumé!$B42=0,\"\",Résumé!$L42)","v":""},{"$f":"IF(Résumé!$B42=0,\"\",$G42&\" \"&$H42&\" \"&$I42)","v":""},{"$f":"IF(Résumé!$B42=0,\"\",Résumé!$H42)","v":""},{"$f":"IF(Résumé!$B42=0,\"\",Résumé!$I42)","v":""},{"$f":"IF(Résumé!$B42=0,\"\",$L42-$K42)","v":""},{"$f":"IF(Résumé!$B42=0,\"\",AMOUNT!$K53)","v":""},{"$f":"IF(Résumé!$B42=0,\"\",$M42*$N42)","v":""},{"$f":"IF(Résumé!$B42=0,\"\",IF(FORM!$Q$2=0,\"\",IF(FORM!$Q$2>=2,\"OK\",IF(FORM!$Q$2<2,\"Pénalité : \"&FORM!$O$2&\" €\",\"\"))))","v":""},{"$f":"IF(Résumé!$B42=0,\"\",VLOOKUP($B42,Lexique!$C$2:$D$204,2,FALSE))","v":""}]
[null,{"$f":"IF(Résumé!$B43=0,\"\",Résumé!$D43)","v":""},{"$f":"IF(Résumé!$B43=0,\"\",Résumé!$E43)","v":""},{"$f":"IF(Résumé!$B43=0,\"\",Résumé!$F43)","v":""},{"$f":"IF(Résumé!$B43=0,\"\",100)","v":""},{"$f":"IF(Résumé!$B43=0,\"\",D43*E43)","v":""},{"$f":"IF(Résumé!$B43=0,\"\",Résumé!$G43)","v":""},{"$f":"IF(Résumé!$B43=0,\"\",Résumé!$K43)","v":""},{"$f":"IF(Résumé!$B43=0,\"\",Résumé!$L43)","v":""},{"$f":"IF(Résumé!$B43=0,\"\",$G43&\" \"&$H43&\" \"&$I43)","v":""},{"$f":"IF(Résumé!$B43=0,\"\",Résumé!$H43)","v":""},{"$f":"IF(Résumé!$B43=0,\"\",Résumé!$I43)","v":""},{"$f":"IF(Résumé!$B43=0,\"\",$L43-$K43)","v":""},{"$f":"IF(Résumé!$B43=0,\"\",AMOUNT!$K54)","v":""},{"$f":"IF(Résumé!$B43=0,\"\",$M43*$N43)","v":""},{"$f":"IF(Résumé!$B43=0,\"\",IF(FORM!$Q$2=0,\"\",IF(FORM!$Q$2>=2,\"OK\",IF(FORM!$Q$2<2,\"Pénalité : \"&FORM!$O$2&\" €\",\"\"))))","v":""},{"$f":"IF(Résumé!$B43=0,\"\",VLOOKUP($B43,Lexique!$C$2:$D$204,2,FALSE))","v":""}]
[null,{"$f":"IF(Résumé!$B44=0,\"\",Résumé!$D44)","v":""},{"$f":"IF(Résumé!$B44=0,\"\",Résumé!$E44)","v":""},{"$f":"IF(Résumé!$B44=0,\"\",Résumé!$F44)","v":""},{"$f":"IF(Résumé!$B44=0,\"\",100)","v":""},{"$f":"IF(Résumé!$B44=0,\"\",D44*E44)","v":""},{"$f":"IF(Résumé!$B44=0,\"\",Résumé!$G44)","v":""},{"$f":"IF(Résumé!$B44=0,\"\",Résumé!$K44)","v":""},{"$f":"IF(Résumé!$B44=0,\"\",Résumé!$L44)","v":""},{"$f":"IF(Résumé!$B44=0,\"\",$G44&\" \"&$H44&\" \"&$I44)","v":""},{"$f":"IF(Résumé!$B44=0,\"\",Résumé!$H44)","v":""},{"$f":"IF(Résumé!$B44=0,\"\",Résumé!$I44)","v":""},{"$f":"IF(Résumé!$B44=0,\"\",$L44-$K44)","v":""},{"$f":"IF(Résumé!$B44=0,\"\",AMOUNT!$K55)","v":""},{"$f":"IF(Résumé!$B44=0,\"\",$M44*$N44)","v":""},{"$f":"IF(Résumé!$B44=0,\"\",IF(FORM!$Q$2=0,\"\",IF(FORM!$Q$2>=2,\"OK\",IF(FORM!$Q$2<2,\"Pénalité : \"&FORM!$O$2&\" €\",\"\"))))","v":""},{"$f":"IF(Résumé!$B44=0,\"\",VLOOKUP($B44,Lexique!$C$2:$D$204,2,FALSE))","v":""}]
[null,{"$f":"IF(Résumé!$B45=0,\"\",Résumé!$D45)","v":""},{"$f":"IF(Résumé!$B45=0,\"\",Résumé!$E45)","v":""},{"$f":"IF(Résumé!$B45=0,\"\",Résumé!$F45)","v":""},{"$f":"IF(Résumé!$B45=0,\"\",100)","v":""},{"$f":"IF(Résumé!$B45=0,\"\",D45*E45)","v":""},{"$f":"IF(Résumé!$B45=0,\"\",Résumé!$G45)","v":""},{"$f":"IF(Résumé!$B45=0,\"\",Résumé!$K45)","v":""},{"$f":"IF(Résumé!$B45=0,\"\",Résumé!$L45)","v":""},{"$f":"IF(Résumé!$B45=0,\"\",$G45&\" \"&$H45&\" \"&$I45)","v":""},{"$f":"IF(Résumé!$B45=0,\"\",Résumé!$H45)","v":""},{"$f":"IF(Résumé!$B45=0,\"\",Résumé!$I45)","v":""},{"$f":"IF(Résumé!$B45=0,\"\",$L45-$K45)","v":""},{"$f":"IF(Résumé!$B45=0,\"\",AMOUNT!$K56)","v":""},{"$f":"IF(Résumé!$B45=0,\"\",$M45*$N45)","v":""},{"$f":"IF(Résumé!$B45=0,\"\",IF(FORM!$Q$2=0,\"\",IF(FORM!$Q$2>=2,\"OK\",IF(FORM!$Q$2<2,\"Pénalité : \"&FORM!$O$2&\" €\",\"\"))))","v":""},{"$f":"IF(Résumé!$B45=0,\"\",VLOOKUP($B45,Lexique!$C$2:$D$204,2,FALSE))","v":""}]
[null,{"$f":"IF(Résumé!$B46=0,\"\",Résumé!$D46)","v":""},{"$f":"IF(Résumé!$B46=0,\"\",Résumé!$E46)","v":""},{"$f":"IF(Résumé!$B46=0,\"\",Résumé!$F46)","v":""},{"$f":"IF(Résumé!$B46=0,\"\",100)","v":""},{"$f":"IF(Résumé!$B46=0,\"\",D46*E46)","v":""},{"$f":"IF(Résumé!$B46=0,\"\",Résumé!$G46)","v":""},{"$f":"IF(Résumé!$B46=0,\"\",Résumé!$K46)","v":""},{"$f":"IF(Résumé!$B46=0,\"\",Résumé!$L46)","v":""},{"$f":"IF(Résumé!$B46=0,\"\",$G46&\" \"&$H46&\" \"&$I46)","v":""},{"$f":"IF(Résumé!$B46=0,\"\",Résumé!$H46)","v":""},{"$f":"IF(Résumé!$B46=0,\"\",Résumé!$I46)","v":""},{"$f":"IF(Résumé!$B46=0,\"\",$L46-$K46)","v":""},{"$f":"IF(Résumé!$B46=0,\"\",AMOUNT!$K57)","v":""},{"$f":"IF(Résumé!$B46=0,\"\",$M46*$N46)","v":""},{"$f":"IF(Résumé!$B46=0,\"\",IF(FORM!$Q$2=0,\"\",IF(FORM!$Q$2>=2,\"OK\",IF(FORM!$Q$2<2,\"Pénalité : \"&FORM!$O$2&\" €\",\"\"))))","v":""},{"$f":"IF(Résumé!$B46=0,\"\",VLOOKUP($B46,Lexique!$C$2:$D$204,2,FALSE))","v":""}]
[null,{"$f":"IF(Résumé!$B47=0,\"\",Résumé!$D47)","v":""},{"$f":"IF(Résumé!$B47=0,\"\",Résumé!$E47)","v":""},{"$f":"IF(Résumé!$B47=0,\"\",Résumé!$F47)","v":""},{"$f":"IF(Résumé!$B47=0,\"\",100)","v":""},{"$f":"IF(Résumé!$B47=0,\"\",D47*E47)","v":""},{"$f":"IF(Résumé!$B47=0,\"\",Résumé!$G47)","v":""},{"$f":"IF(Résumé!$B47=0,\"\",Résumé!$K47)","v":""},{"$f":"IF(Résumé!$B47=0,\"\",Résumé!$L47)","v":""},{"$f":"IF(Résumé!$B47=0,\"\",$G47&\" \"&$H47&\" \"&$I47)","v":""},{"$f":"IF(Résumé!$B47=0,\"\",Résumé!$H47)","v":""},{"$f":"IF(Résumé!$B47=0,\"\",Résumé!$I47)","v":""},{"$f":"IF(Résumé!$B47=0,\"\",$L47-$K47)","v":""},{"$f":"IF(Résumé!$B47=0,\"\",AMOUNT!$K58)","v":""},{"$f":"IF(Résumé!$B47=0,\"\",$M47*$N47)","v":""},{"$f":"IF(Résumé!$B47=0,\"\",IF(FORM!$Q$2=0,\"\",IF(FORM!$Q$2>=2,\"OK\",IF(FORM!$Q$2<2,\"Pénalité : \"&FORM!$O$2&\" €\",\"\"))))","v":""},{"$f":"IF(Résumé!$B47=0,\"\",VLOOKUP($B47,Lexique!$C$2:$D$204,2,FALSE))","v":""}]
[null,{"$f":"IF(Résumé!$B48=0,\"\",Résumé!$D48)","v":""},{"$f":"IF(Résumé!$B48=0,\"\",Résumé!$E48)","v":""},{"$f":"IF(Résumé!$B48=0,\"\",Résumé!$F48)","v":""},{"$f":"IF(Résumé!$B48=0,\"\",100)","v":""},{"$f":"IF(Résumé!$B48=0,\"\",D48*E48)","v":""},{"$f":"IF(Résumé!$B48=0,\"\",Résumé!$G48)","v":""},{"$f":"IF(Résumé!$B48=0,\"\",Résumé!$K48)","v":""},{"$f":"IF(Résumé!$B48=0,\"\",Résumé!$L48)","v":""},{"$f":"IF(Résumé!$B48=0,\"\",$G48&\" \"&$H48&\" \"&$I48)","v":""},{"$f":"IF(Résumé!$B48=0,\"\",Résumé!$H48)","v":""},{"$f":"IF(Résumé!$B48=0,\"\",Résumé!$I48)","v":""},{"$f":"IF(Résumé!$B48=0,\"\",$L48-$K48)","v":""},{"$f":"IF(Résumé!$B48=0,\"\",AMOUNT!$K59)","v":""},{"$f":"IF(Résumé!$B48=0,\"\",$M48*$N48)","v":""},{"$f":"IF(Résumé!$B48=0,\"\",IF(FORM!$Q$2=0,\"\",IF(FORM!$Q$2>=2,\"OK\",IF(FORM!$Q$2<2,\"Pénalité : \"&FORM!$O$2&\" €\",\"\"))))","v":""},{"$f":"IF(Résumé!$B48=0,\"\",VLOOKUP($B48,Lexique!$C$2:$D$204,2,FALSE))","v":""}]
[null,{"$f":"IF(Résumé!$B49=0,\"\",Résumé!$D49)","v":""},{"$f":"IF(Résumé!$B49=0,\"\",Résumé!$E49)","v":""},{"$f":"IF(Résumé!$B49=0,\"\",Résumé!$F49)","v":""},{"$f":"IF(Résumé!$B49=0,\"\",100)","v":""},{"$f":"IF(Résumé!$B49=0,\"\",D49*E49)","v":""},{"$f":"IF(Résumé!$B49=0,\"\",Résumé!$G49)","v":""},{"$f":"IF(Résumé!$B49=0,\"\",Résumé!$K49)","v":""},{"$f":"IF(Résumé!$B49=0,\"\",Résumé!$L49)","v":""},{"$f":"IF(Résumé!$B49=0,\"\",$G49&\" \"&$H49&\" \"&$I49)","v":""},{"$f":"IF(Résumé!$B49=0,\"\",Résumé!$H49)","v":""},{"$f":"IF(Résumé!$B49=0,\"\",Résumé!$I49)","v":""},{"$f":"IF(Résumé!$B49=0,\"\",$L49-$K49)","v":""},{"$f":"IF(Résumé!$B49=0,\"\",AMOUNT!$K60)","v":""},{"$f":"IF(Résumé!$B49=0,\"\",$M49*$N49)","v":""},{"$f":"IF(Résumé!$B49=0,\"\",IF(FORM!$Q$2=0,\"\",IF(FORM!$Q$2>=2,\"OK\",IF(FORM!$Q$2<2,\"Pénalité : \"&FORM!$O$2&\" €\",\"\"))))","v":""},{"$f":"IF(Résumé!$B49=0,\"\",VLOOKUP($B49,Lexique!$C$2:$D$204,2,FALSE))","v":""}]
[null,{"$f":"IF(Résumé!$B50=0,\"\",Résumé!$D50)","v":""},{"$f":"IF(Résumé!$B50=0,\"\",Résumé!$E50)","v":""},{"$f":"IF(Résumé!$B50=0,\"\",Résumé!$F50)","v":""},{"$f":"IF(Résumé!$B50=0,\"\",100)","v":""},{"$f":"IF(Résumé!$B50=0,\"\",D50*E50)","v":""},{"$f":"IF(Résumé!$B50=0,\"\",Résumé!$G50)","v":""},{"$f":"IF(Résumé!$B50=0,\"\",Résumé!$K50)","v":""},{"$f":"IF(Résumé!$B50=0,\"\",Résumé!$L50)","v":""},{"$f":"IF(Résumé!$B50=0,\"\",$G50&\" \"&$H50&\" \"&$I50)","v":""},{"$f":"IF(Résumé!$B50=0,\"\",Résumé!$H50)","v":""},{"$f":"IF(Résumé!$B50=0,\"\",Résumé!$I50)","v":""},{"$f":"IF(Résumé!$B50=0,\"\",$L50-$K50)","v":""},{"$f":"IF(Résumé!$B50=0,\"\",AMOUNT!$K61)","v":""},{"$f":"IF(Résumé!$B50=0,\"\",$M50*$N50)","v":""},{"$f":"IF(Résumé!$B50=0,\"\",IF(FORM!$Q$2=0,\"\",IF(FORM!$Q$2>=2,\"OK\",IF(FORM!$Q$2<2,\"Pénalité : \"&FORM!$O$2&\" €\",\"\"))))","v":""},{"$f":"IF(Résumé!$B50=0,\"\",VLOOKUP($B50,Lexique!$C$2:$D$204,2,FALSE))","v":""}]
[null,{"$f":"IF(Résumé!$B51=0,\"\",Résumé!$D51)","v":""},{"$f":"IF(Résumé!$B51=0,\"\",Résumé!$E51)","v":""},{"$f":"IF(Résumé!$B51=0,\"\",Résumé!$F51)","v":""},{"$f":"IF(Résumé!$B51=0,\"\",100)","v":""},{"$f":"IF(Résumé!$B51=0,\"\",D51*E51)","v":""},{"$f":"IF(Résumé!$B51=0,\"\",Résumé!$G51)","v":""},{"$f":"IF(Résumé!$B51=0,\"\",Résumé!$K51)","v":""},{"$f":"IF(Résumé!$B51=0,\"\",Résumé!$L51)","v":""},{"$f":"IF(Résumé!$B51=0,\"\",$G51&\" \"&$H51&\" \"&$I51)","v":""},{"$f":"IF(Résumé!$B51=0,\"\",Résumé!$H51)","v":""},{"$f":"IF(Résumé!$B51=0,\"\",Résumé!$I51)","v":""},{"$f":"IF(Résumé!$B51=0,\"\",$L51-$K51)","v":""},{"$f":"IF(Résumé!$B51=0,\"\",AMOUNT!$K62)","v":""},{"$f":"IF(Résumé!$B51=0,\"\",$M51*$N51)","v":""},{"$f":"IF(Résumé!$B51=0,\"\",IF(FORM!$Q$2=0,\"\",IF(FORM!$Q$2>=2,\"OK\",IF(FORM!$Q$2<2,\"Pénalité : \"&FORM!$O$2&\" €\",\"\"))))","v":""},{"$f":"IF(Résumé!$B51=0,\"\",VLOOKUP($B51,Lexique!$C$2:$D$204,2,FALSE))","v":""}]
[null,{"$f":"IF(Résumé!$B52=0,\"\",Résumé!$D52)","v":""},{"$f":"IF(Résumé!$B52=0,\"\",Résumé!$E52)","v":""},{"$f":"IF(Résumé!$B52=0,\"\",Résumé!$F52)","v":""},{"$f":"IF(Résumé!$B52=0,\"\",100)","v":""},{"$f":"IF(Résumé!$B52=0,\"\",D52*E52)","v":""},{"$f":"IF(Résumé!$B52=0,\"\",Résumé!$G52)","v":""},{"$f":"IF(Résumé!$B52=0,\"\",Résumé!$K52)","v":""},{"$f":"IF(Résumé!$B52=0,\"\",Résumé!$L52)","v":""},{"$f":"IF(Résumé!$B52=0,\"\",$G52&\" \"&$H52&\" \"&$I52)","v":""},{"$f":"IF(Résumé!$B52=0,\"\",Résumé!$H52)","v":""},{"$f":"IF(Résumé!$B52=0,\"\",Résumé!$I52)","v":""},{"$f":"IF(Résumé!$B52=0,\"\",$L52-$K52)","v":""},{"$f":"IF(Résumé!$B52=0,\"\",AMOUNT!$K63)","v":""},{"$f":"IF(Résumé!$B52=0,\"\",$M52*$N52)","v":""},{"$f":"IF(Résumé!$B52=0,\"\",IF(FORM!$Q$2=0,\"\",IF(FORM!$Q$2>=2,\"OK\",IF(FORM!$Q$2<2,\"Pénalité : \"&FORM!$O$2&\" €\",\"\"))))","v":""},{"$f":"IF(Résumé!$B52=0,\"\",VLOOKUP($B52,Lexique!$C$2:$D$204,2,FALSE))","v":""}]
[null,{"$f":"IF(Résumé!$B53=0,\"\",Résumé!$D53)","v":""},{"$f":"IF(Résumé!$B53=0,\"\",Résumé!$E53)","v":""},{"$f":"IF(Résumé!$B53=0,\"\",Résumé!$F53)","v":""},{"$f":"IF(Résumé!$B53=0,\"\",100)","v":""},{"$f":"IF(Résumé!$B53=0,\"\",D53*E53)","v":""},{"$f":"IF(Résumé!$B53=0,\"\",Résumé!$G53)","v":""},{"$f":"IF(Résumé!$B53=0,\"\",Résumé!$K53)","v":""},{"$f":"IF(Résumé!$B53=0,\"\",Résumé!$L53)","v":""},{"$f":"IF(Résumé!$B53=0,\"\",$G53&\" \"&$H53&\" \"&$I53)","v":""},{"$f":"IF(Résumé!$B53=0,\"\",Résumé!$H53)","v":""},{"$f":"IF(Résumé!$B53=0,\"\",Résumé!$I53)","v":""},{"$f":"IF(Résumé!$B53=0,\"\",$L53-$K53)","v":""},{"$f":"IF(Résumé!$B53=0,\"\",AMOUNT!$K64)","v":""},{"$f":"IF(Résumé!$B53=0,\"\",$M53*$N53)","v":""},{"$f":"IF(Résumé!$B53=0,\"\",IF(FORM!$Q$2=0,\"\",IF(FORM!$Q$2>=2,\"OK\",IF(FORM!$Q$2<2,\"Pénalité : \"&FORM!$O$2&\" €\",\"\"))))","v":""},{"$f":"IF(Résumé!$B53=0,\"\",VLOOKUP($B53,Lexique!$C$2:$D$204,2,FALSE))","v":""}]
[null,{"$f":"IF(Résumé!$B54=0,\"\",Résumé!$D54)","v":""},{"$f":"IF(Résumé!$B54=0,\"\",Résumé!$E54)","v":""},{"$f":"IF(Résumé!$B54=0,\"\",Résumé!$F54)","v":""},{"$f":"IF(Résumé!$B54=0,\"\",100)","v":""},{"$f":"IF(Résumé!$B54=0,\"\",D54*E54)","v":""},{"$f":"IF(Résumé!$B54=0,\"\",Résumé!$G54)","v":""},{"$f":"IF(Résumé!$B54=0,\"\",Résumé!$K54)","v":""},{"$f":"IF(Résumé!$B54=0,\"\",Résumé!$L54)","v":""},{"$f":"IF(Résumé!$B54=0,\"\",$G54&\" \"&$H54&\" \"&$I54)","v":""},{"$f":"IF(Résumé!$B54=0,\"\",Résumé!$H54)","v":""},{"$f":"IF(Résumé!$B54=0,\"\",Résumé!$I54)","v":""},{"$f":"IF(Résumé!$B54=0,\"\",$L54-$K54)","v":""},{"$f":"IF(Résumé!$B54=0,\"\",AMOUNT!$K65)","v":""},{"$f":"IF(Résumé!$B54=0,\"\",$M54*$N54)","v":""},{"$f":"IF(Résumé!$B54=0,\"\",IF(FORM!$Q$2=0,\"\",IF(FORM!$Q$2>=2,\"OK\",IF(FORM!$Q$2<2,\"Pénalité : \"&FORM!$O$2&\" €\",\"\"))))","v":""},{"$f":"IF(Résumé!$B54=0,\"\",VLOOKUP($B54,Lexique!$C$2:$D$204,2,FALSE))","v":""}]
[null,{"$f":"IF(Résumé!$B55=0,\"\",Résumé!$D55)","v":""},{"$f":"IF(Résumé!$B55=0,\"\",Résumé!$E55)","v":""},{"$f":"IF(Résumé!$B55=0,\"\",Résumé!$F55)","v":""},{"$f":"IF(Résumé!$B55=0,\"\",100)","v":""},{"$f":"IF(Résumé!$B55=0,\"\",D55*E55)","v":""},{"$f":"IF(Résumé!$B55=0,\"\",Résumé!$G55)","v":""},{"$f":"IF(Résumé!$B55=0,\"\",Résumé!$K55)","v":""},{"$f":"IF(Résumé!$B55=0,\"\",Résumé!$L55)","v":""},{"$f":"IF(Résumé!$B55=0,\"\",$G55&\" \"&$H55&\" \"&$I55)","v":""},{"$f":"IF(Résumé!$B55=0,\"\",Résumé!$H55)","v":""},{"$f":"IF(Résumé!$B55=0,\"\",Résumé!$I55)","v":""},{"$f":"IF(Résumé!$B55=0,\"\",$L55-$K55)","v":""},{"$f":"IF(Résumé!$B55=0,\"\",AMOUNT!$K66)","v":""},{"$f":"IF(Résumé!$B55=0,\"\",$M55*$N55)","v":""},{"$f":"IF(Résumé!$B55=0,\"\",IF(FORM!$Q$2=0,\"\",IF(FORM!$Q$2>=2,\"OK\",IF(FORM!$Q$2<2,\"Pénalité : \"&FORM!$O$2&\" €\",\"\"))))","v":""},{"$f":"IF(Résumé!$B55=0,\"\",VLOOKUP($B55,Lexique!$C$2:$D$204,2,FALSE))","v":""}]
[null,{"$f":"IF(Résumé!$B56=0,\"\",Résumé!$D56)","v":""},{"$f":"IF(Résumé!$B56=0,\"\",Résumé!$E56)","v":""},{"$f":"IF(Résumé!$B56=0,\"\",Résumé!$F56)","v":""},{"$f":"IF(Résumé!$B56=0,\"\",100)","v":""},{"$f":"IF(Résumé!$B56=0,\"\",D56*E56)","v":""},{"$f":"IF(Résumé!$B56=0,\"\",Résumé!$G56)","v":""},{"$f":"IF(Résumé!$B56=0,\"\",Résumé!$K56)","v":""},{"$f":"IF(Résumé!$B56=0,\"\",Résumé!$L56)","v":""},{"$f":"IF(Résumé!$B56=0,\"\",$G56&\" \"&$H56&\" \"&$I56)","v":""},{"$f":"IF(Résumé!$B56=0,\"\",Résumé!$H56)","v":""},{"$f":"IF(Résumé!$B56=0,\"\",Résumé!$I56)","v":""},{"$f":"IF(Résumé!$B56=0,\"\",$L56-$K56)","v":""},{"$f":"IF(Résumé!$B56=0,\"\",AMOUNT!$K67)","v":""},{"$f":"IF(Résumé!$B56=0,\"\",$M56*$N56)","v":""},{"$f":"IF(Résumé!$B56=0,\"\",IF(FORM!$Q$2=0,\"\",IF(FORM!$Q$2>=2,\"OK\",IF(FORM!$Q$2<2,\"Pénalité : \"&FORM!$O$2&\" €\",\"\"))))","v":""},{"$f":"IF(Résumé!$B56=0,\"\",VLOOKUP($B56,Lexique!$C$2:$D$204,2,FALSE))","v":""}]
[null,{"$f":"IF(Résumé!$B57=0,\"\",Résumé!$D57)","v":""},{"$f":"IF(Résumé!$B57=0,\"\",Résumé!$E57)","v":""},{"$f":"IF(Résumé!$B57=0,\"\",Résumé!$F57)","v":""},{"$f":"IF(Résumé!$B57=0,\"\",100)","v":""},{"$f":"IF(Résumé!$B57=0,\"\",D57*E57)","v":""},{"$f":"IF(Résumé!$B57=0,\"\",Résumé!$G57)","v":""},{"$f":"IF(Résumé!$B57=0,\"\",Résumé!$K57)","v":""},{"$f":"IF(Résumé!$B57=0,\"\",Résumé!$L57)","v":""},{"$f":"IF(Résumé!$B57=0,\"\",$G57&\" \"&$H57&\" \"&$I57)","v":""},{"$f":"IF(Résumé!$B57=0,\"\",Résumé!$H57)","v":""},{"$f":"IF(Résumé!$B57=0,\"\",Résumé!$I57)","v":""},{"$f":"IF(Résumé!$B57=0,\"\",$L57-$K57)","v":""},{"$f":"IF(Résumé!$B57=0,\"\",AMOUNT!$K68)","v":""},{"$f":"IF(Résumé!$B57=0,\"\",$M57*$N57)","v":""},{"$f":"IF(Résumé!$B57=0,\"\",IF(FORM!$Q$2=0,\"\",IF(FORM!$Q$2>=2,\"OK\",IF(FORM!$Q$2<2,\"Pénalité : \"&FORM!$O$2&\" €\",\"\"))))","v":""},{"$f":"IF(Résumé!$B57=0,\"\",VLOOKUP($B57,Lexique!$C$2:$D$204,2,FALSE))","v":""}]
[null,{"$f":"IF(Résumé!$B58=0,\"\",Résumé!$D58)","v":""},{"$f":"IF(Résumé!$B58=0,\"\",Résumé!$E58)","v":""},{"$f":"IF(Résumé!$B58=0,\"\",Résumé!$F58)","v":""},{"$f":"IF(Résumé!$B58=0,\"\",100)","v":""},{"$f":"IF(Résumé!$B58=0,\"\",D58*E58)","v":""},{"$f":"IF(Résumé!$B58=0,\"\",Résumé!$G58)","v":""},{"$f":"IF(Résumé!$B58=0,\"\",Résumé!$K58)","v":""},{"$f":"IF(Résumé!$B58=0,\"\",Résumé!$L58)","v":""},{"$f":"IF(Résumé!$B58=0,\"\",$G58&\" \"&$H58&\" \"&$I58)","v":""},{"$f":"IF(Résumé!$B58=0,\"\",Résumé!$H58)","v":""},{"$f":"IF(Résumé!$B58=0,\"\",Résumé!$I58)","v":""},{"$f":"IF(Résumé!$B58=0,\"\",$L58-$K58)","v":""},{"$f":"IF(Résumé!$B58=0,\"\",AMOUNT!$K69)","v":""},{"$f":"IF(Résumé!$B58=0,\"\",$M58*$N58)","v":""},{"$f":"IF(Résumé!$B58=0,\"\",IF(FORM!$Q$2=0,\"\",IF(FORM!$Q$2>=2,\"OK\",IF(FORM!$Q$2<2,\"Pénalité : \"&FORM!$O$2&\" €\",\"\"))))","v":""},{"$f":"IF(Résumé!$B58=0,\"\",VLOOKUP($B58,Lexique!$C$2:$D$204,2,FALSE))","v":""}]
[null,{"$f":"IF(Résumé!$B59=0,\"\",Résumé!$D59)","v":""},{"$f":"IF(Résumé!$B59=0,\"\",Résumé!$E59)","v":""},{"$f":"IF(Résumé!$B59=0,\"\",Résumé!$F59)","v":""},{"$f":"IF(Résumé!$B59=0,\"\",100)","v":""},{"$f":"IF(Résumé!$B59=0,\"\",D59*E59)","v":""},{"$f":"IF(Résumé!$B59=0,\"\",Résumé!$G59)","v":""},{"$f":"IF(Résumé!$B59=0,\"\",Résumé!$K59)","v":""},{"$f":"IF(Résumé!$B59=0,\"\",Résumé!$L59)","v":""},{"$f":"IF(Résumé!$B59=0,\"\",$G59&\" \"&$H59&\" \"&$I59)","v":""},{"$f":"IF(Résumé!$B59=0,\"\",Résumé!$H59)","v":""},{"$f":"IF(Résumé!$B59=0,\"\",Résumé!$I59)","v":""},{"$f":"IF(Résumé!$B59=0,\"\",$L59-$K59)","v":""},{"$f":"IF(Résumé!$B59=0,\"\",AMOUNT!$K70)","v":""},{"$f":"IF(Résumé!$B59=0,\"\",$M59*$N59)","v":""},{"$f":"IF(Résumé!$B59=0,\"\",IF(FORM!$Q$2=0,\"\",IF(FORM!$Q$2>=2,\"OK\",IF(FORM!$Q$2<2,\"Pénalité : \"&FORM!$O$2&\" €\",\"\"))))","v":""},{"$f":"IF(Résumé!$B59=0,\"\",VLOOKUP($B59,Lexique!$C$2:$D$204,2,FALSE))","v":""}]
[null,{"$f":"IF(Résumé!$B60=0,\"\",Résumé!$D60)","v":""},{"$f":"IF(Résumé!$B60=0,\"\",Résumé!$E60)","v":""},{"$f":"IF(Résumé!$B60=0,\"\",Résumé!$F60)","v":""},{"$f":"IF(Résumé!$B60=0,\"\",100)","v":""},{"$f":"IF(Résumé!$B60=0,\"\",D60*E60)","v":""},{"$f":"IF(Résumé!$B60=0,\"\",Résumé!$G60)","v":""},{"$f":"IF(Résumé!$B60=0,\"\",Résumé!$K60)","v":""},{"$f":"IF(Résumé!$B60=0,\"\",Résumé!$L60)","v":""},{"$f":"IF(Résumé!$B60=0,\"\",$G60&\" \"&$H60&\" \"&$I60)","v":""},{"$f":"IF(Résumé!$B60=0,\"\",Résumé!$H60)","v":""},{"$f":"IF(Résumé!$B60=0,\"\",Résumé!$I60)","v":""},{"$f":"IF(Résumé!$B60=0,\"\",$L60-$K60)","v":""},{"$f":"IF(Résumé!$B60=0,\"\",AMOUNT!$K71)","v":""},{"$f":"IF(Résumé!$B60=0,\"\",$M60*$N60)","v":""},{"$f":"IF(Résumé!$B60=0,\"\",IF(FORM!$Q$2=0,\"\",IF(FORM!$Q$2>=2,\"OK\",IF(FORM!$Q$2<2,\"Pénalité : \"&FORM!$O$2&\" €\",\"\"))))","v":""},{"$f":"IF(Résumé!$B60=0,\"\",VLOOKUP($B60,Lexique!$C$2:$D$204,2,FALSE))","v":""}]
[null,{"$f":"IF(Résumé!$B61=0,\"\",Résumé!$D61)","v":""},{"$f":"IF(Résumé!$B61=0,\"\",Résumé!$E61)","v":""},{"$f":"IF(Résumé!$B61=0,\"\",Résumé!$F61)","v":""},{"$f":"IF(Résumé!$B61=0,\"\",100)","v":""},{"$f":"IF(Résumé!$B61=0,\"\",D61*E61)","v":""},{"$f":"IF(Résumé!$B61=0,\"\",Résumé!$G61)","v":""},{"$f":"IF(Résumé!$B61=0,\"\",Résumé!$K61)","v":""},{"$f":"IF(Résumé!$B61=0,\"\",Résumé!$L61)","v":""},{"$f":"IF(Résumé!$B61=0,\"\",$G61&\" \"&$H61&\" \"&$I61)","v":""},{"$f":"IF(Résumé!$B61=0,\"\",Résumé!$H61)","v":""},{"$f":"IF(Résumé!$B61=0,\"\",Résumé!$I61)","v":""},{"$f":"IF(Résumé!$B61=0,\"\",$L61-$K61)","v":""},{"$f":"IF(Résumé!$B61=0,\"\",AMOUNT!$K72)","v":""},{"$f":"IF(Résumé!$B61=0,\"\",$M61*$N61)","v":""},{"$f":"IF(Résumé!$B61=0,\"\",IF(FORM!$Q$2=0,\"\",IF(FORM!$Q$2>=2,\"OK\",IF(FORM!$Q$2<2,\"Pénalité : \"&FORM!$O$2&\" €\",\"\"))))","v":""},{"$f":"IF(Résumé!$B61=0,\"\",VLOOKUP($B61,Lexique!$C$2:$D$204,2,FALSE))","v":""}]
[null,{"$f":"IF(Résumé!$B62=0,\"\",Résumé!$D62)","v":""},{"$f":"IF(Résumé!$B62=0,\"\",Résumé!$E62)","v":""},{"$f":"IF(Résumé!$B62=0,\"\",Résumé!$F62)","v":""},{"$f":"IF(Résumé!$B62=0,\"\",100)","v":""},{"$f":"IF(Résumé!$B62=0,\"\",D62*E62)","v":""},{"$f":"IF(Résumé!$B62=0,\"\",Résumé!$G62)","v":""},{"$f":"IF(Résumé!$B62=0,\"\",Résumé!$K62)","v":""},{"$f":"IF(Résumé!$B62=0,\"\",Résumé!$L62)","v":""},{"$f":"IF(Résumé!$B62=0,\"\",$G62&\" \"&$H62&\" \"&$I62)","v":""},{"$f":"IF(Résumé!$B62=0,\"\",Résumé!$H62)","v":""},{"$f":"IF(Résumé!$B62=0,\"\",Résumé!$I62)","v":""},{"$f":"IF(Résumé!$B62=0,\"\",$L62-$K62)","v":""},{"$f":"IF(Résumé!$B62=0,\"\",AMOUNT!$K73)","v":""},{"$f":"IF(Résumé!$B62=0,\"\",$M62*$N62)","v":""},{"$f":"IF(Résumé!$B62=0,\"\",IF(FORM!$Q$2=0,\"\",IF(FORM!$Q$2>=2,\"OK\",IF(FORM!$Q$2<2,\"Pénalité : \"&FORM!$O$2&\" €\",\"\"))))","v":""},{"$f":"IF(Résumé!$B62=0,\"\",VLOOKUP($B62,Lexique!$C$2:$D$204,2,FALSE))","v":""}]
[null,{"$f":"IF(Résumé!$B63=0,\"\",Résumé!$D63)","v":""},{"$f":"IF(Résumé!$B63=0,\"\",Résumé!$E63)","v":""},{"$f":"IF(Résumé!$B63=0,\"\",Résumé!$F63)","v":""},{"$f":"IF(Résumé!$B63=0,\"\",100)","v":""},{"$f":"IF(Résumé!$B63=0,\"\",D63*E63)","v":""},{"$f":"IF(Résumé!$B63=0,\"\",Résumé!$G63)","v":""},{"$f":"IF(Résumé!$B63=0,\"\",Résumé!$K63)","v":""},{"$f":"IF(Résumé!$B63=0,\"\",Résumé!$L63)","v":""},{"$f":"IF(Résumé!$B63=0,\"\",$G63&\" \"&$H63&\" \"&$I63)","v":""},{"$f":"IF(Résumé!$B63=0,\"\",Résumé!$H63)","v":""},{"$f":"IF(Résumé!$B63=0,\"\",Résumé!$I63)","v":""},{"$f":"IF(Résumé!$B63=0,\"\",$L63-$K63)","v":""},{"$f":"IF(Résumé!$B63=0,\"\",AMOUNT!$K74)","v":""},{"$f":"IF(Résumé!$B63=0,\"\",$M63*$N63)","v":""},{"$f":"IF(Résumé!$B63=0,\"\",IF(FORM!$Q$2=0,\"\",IF(FORM!$Q$2>=2,\"OK\",IF(FORM!$Q$2<2,\"Pénalité : \"&FORM!$O$2&\" €\",\"\"))))","v":""},{"$f":"IF(Résumé!$B63=0,\"\",VLOOKUP($B63,Lexique!$C$2:$D$204,2,FALSE))","v":""}]
[null,{"$f":"IF(Résumé!$B64=0,\"\",Résumé!$D64)","v":""},{"$f":"IF(Résumé!$B64=0,\"\",Résumé!$E64)","v":""},{"$f":"IF(Résumé!$B64=0,\"\",Résumé!$F64)","v":""},{"$f":"IF(Résumé!$B64=0,\"\",100)","v":""},{"$f":"IF(Résumé!$B64=0,\"\",D64*E64)","v":""},{"$f":"IF(Résumé!$B64=0,\"\",Résumé!$G64)","v":""},{"$f":"IF(Résumé!$B64=0,\"\",Résumé!$K64)","v":""},{"$f":"IF(Résumé!$B64=0,\"\",Résumé!$L64)","v":""},{"$f":"IF(Résumé!$B64=0,\"\",$G64&\" \"&$H64&\" \"&$I64)","v":""},{"$f":"IF(Résumé!$B64=0,\"\",Résumé!$H64)","v":""},{"$f":"IF(Résumé!$B64=0,\"\",Résumé!$I64)","v":""},{"$f":"IF(Résumé!$B64=0,\"\",$L64-$K64)","v":""},{"$f":"IF(Résumé!$B64=0,\"\",AMOUNT!$K75)","v":""},{"$f":"IF(Résumé!$B64=0,\"\",$M64*$N64)","v":""},{"$f":"IF(Résumé!$B64=0,\"\",IF(FORM!$Q$2=0,\"\",IF(FORM!$Q$2>=2,\"OK\",IF(FORM!$Q$2<2,\"Pénalité : \"&FORM!$O$2&\" €\",\"\"))))","v":""},{"$f":"IF(Résumé!$B64=0,\"\",VLOOKUP($B64,Lexique!$C$2:$D$204,2,FALSE))","v":""}]
[null,{"$f":"IF(Résumé!$B65=0,\"\",Résumé!$D65)","v":""},{"$f":"IF(Résumé!$B65=0,\"\",Résumé!$E65)","v":""},{"$f":"IF(Résumé!$B65=0,\"\",Résumé!$F65)","v":""},{"$f":"IF(Résumé!$B65=0,\"\",100)","v":""},{"$f":"IF(Résumé!$B65=0,\"\",D65*E65)","v":""},{"$f":"IF(Résumé!$B65=0,\"\",Résumé!$G65)","v":""},{"$f":"IF(Résumé!$B65=0,\"\",Résumé!$K65)","v":""},{"$f":"IF(Résumé!$B65=0,\"\",Résumé!$L65)","v":""},{"$f":"IF(Résumé!$B65=0,\"\",$G65&\" \"&$H65&\" \"&$I65)","v":""},{"$f":"IF(Résumé!$B65=0,\"\",Résumé!$H65)","v":""},{"$f":"IF(Résumé!$B65=0,\"\",Résumé!$I65)","v":""},{"$f":"IF(Résumé!$B65=0,\"\",$L65-$K65)","v":""},{"$f":"IF(Résumé!$B65=0,\"\",AMOUNT!$K76)","v":""},{"$f":"IF(Résumé!$B65=0,\"\",$M65*$N65)","v":""},{"$f":"IF(Résumé!$B65=0,\"\",IF(FORM!$Q$2=0,\"\",IF(FORM!$Q$2>=2,\"OK\",IF(FORM!$Q$2<2,\"Pénalité : \"&FORM!$O$2&\" €\",\"\"))))","v":""},{"$f":"IF(Résumé!$B65=0,\"\",VLOOKUP($B65,Lexique!$C$2:$D$204,2,FALSE))","v":""}]
[null,{"$f":"IF(Résumé!$B66=0,\"\",Résumé!$D66)","v":""},{"$f":"IF(Résumé!$B66=0,\"\",Résumé!$E66)","v":""},{"$f":"IF(Résumé!$B66=0,\"\",Résumé!$F66)","v":""},{"$f":"IF(Résumé!$B66=0,\"\",100)","v":""},{"$f":"IF(Résumé!$B66=0,\"\",D66*E66)","v":""},{"$f":"IF(Résumé!$B66=0,\"\",Résumé!$G66)","v":""},{"$f":"IF(Résumé!$B66=0,\"\",Résumé!$K66)","v":""},{"$f":"IF(Résumé!$B66=0,\"\",Résumé!$L66)","v":""},{"$f":"IF(Résumé!$B66=0,\"\",$G66&\" \"&$H66&\" \"&$I66)","v":""},{"$f":"IF(Résumé!$B66=0,\"\",Résumé!$H66)","v":""},{"$f":"IF(Résumé!$B66=0,\"\",Résumé!$I66)","v":""},{"$f":"IF(Résumé!$B66=0,\"\",$L66-$K66)","v":""},{"$f":"IF(Résumé!$B66=0,\"\",AMOUNT!$K77)","v":""},{"$f":"IF(Résumé!$B66=0,\"\",$M66*$N66)","v":""},{"$f":"IF(Résumé!$B66=0,\"\",IF(FORM!$Q$2=0,\"\",IF(FORM!$Q$2>=2,\"OK\",IF(FORM!$Q$2<2,\"Pénalité : \"&FORM!$O$2&\" €\",\"\"))))","v":""},{"$f":"IF(Résumé!$B66=0,\"\",VLOOKUP($B66,Lexique!$C$2:$D$204,2,FALSE))","v":""}]
[null,{"$f":"IF(Résumé!$B67=0,\"\",Résumé!$D67)","v":""},{"$f":"IF(Résumé!$B67=0,\"\",Résumé!$E67)","v":""},{"$f":"IF(Résumé!$B67=0,\"\",Résumé!$F67)","v":""},{"$f":"IF(Résumé!$B67=0,\"\",100)","v":""},{"$f":"IF(Résumé!$B67=0,\"\",D67*E67)","v":""},{"$f":"IF(Résumé!$B67=0,\"\",Résumé!$G67)","v":""},{"$f":"IF(Résumé!$B67=0,\"\",Résumé!$K67)","v":""},{"$f":"IF(Résumé!$B67=0,\"\",Résumé!$L67)","v":""},{"$f":"IF(Résumé!$B67=0,\"\",$G67&\" \"&$H67&\" \"&$I67)","v":""},{"$f":"IF(Résumé!$B67=0,\"\",Résumé!$H67)","v":""},{"$f":"IF(Résumé!$B67=0,\"\",Résumé!$I67)","v":""},{"$f":"IF(Résumé!$B67=0,\"\",$L67-$K67)","v":""},{"$f":"IF(Résumé!$B67=0,\"\",AMOUNT!$K78)","v":""},{"$f":"IF(Résumé!$B67=0,\"\",$M67*$N67)","v":""},{"$f":"IF(Résumé!$B67=0,\"\",IF(FORM!$Q$2=0,\"\",IF(FORM!$Q$2>=2,\"OK\",IF(FORM!$Q$2<2,\"Pénalité : \"&FORM!$O$2&\" €\",\"\"))))","v":""},{"$f":"IF(Résumé!$B67=0,\"\",VLOOKUP($B67,Lexique!$C$2:$D$204,2,FALSE))","v":""}]
[null,{"$f":"IF(Résumé!$B68=0,\"\",Résumé!$D68)","v":""},{"$f":"IF(Résumé!$B68=0,\"\",Résumé!$E68)","v":""},{"$f":"IF(Résumé!$B68=0,\"\",Résumé!$F68)","v":""},{"$f":"IF(Résumé!$B68=0,\"\",100)","v":""},{"$f":"IF(Résumé!$B68=0,\"\",D68*E68)","v":""},{"$f":"IF(Résumé!$B68=0,\"\",Résumé!$G68)","v":""},{"$f":"IF(Résumé!$B68=0,\"\",Résumé!$K68)","v":""},{"$f":"IF(Résumé!$B68=0,\"\",Résumé!$L68)","v":""},{"$f":"IF(Résumé!$B68=0,\"\",$G68&\" \"&$H68&\" \"&$I68)","v":""},{"$f":"IF(Résumé!$B68=0,\"\",Résumé!$H68)","v":""},{"$f":"IF(Résumé!$B68=0,\"\",Résumé!$I68)","v":""},{"$f":"IF(Résumé!$B68=0,\"\",$L68-$K68)","v":""},{"$f":"IF(Résumé!$B68=0,\"\",AMOUNT!$K79)","v":""},{"$f":"IF(Résumé!$B68=0,\"\",$M68*$N68)","v":""},{"$f":"IF(Résumé!$B68=0,\"\",IF(FORM!$Q$2=0,\"\",IF(FORM!$Q$2>=2,\"OK\",IF(FORM!$Q$2<2,\"Pénalité : \"&FORM!$O$2&\" €\",\"\"))))","v":""},{"$f":"IF(Résumé!$B68=0,\"\",VLOOKUP($B68,Lexique!$C$2:$D$204,2,FALSE))","v":""}]
[null,{"$f":"IF(Résumé!$B69=0,\"\",Résumé!$D69)","v":""},{"$f":"IF(Résumé!$B69=0,\"\",Résumé!$E69)","v":""},{"$f":"IF(Résumé!$B69=0,\"\",Résumé!$F69)","v":""},{"$f":"IF(Résumé!$B69=0,\"\",100)","v":""},{"$f":"IF(Résumé!$B69=0,\"\",D69*E69)","v":""},{"$f":"IF(Résumé!$B69=0,\"\",Résumé!$G69)","v":""},{"$f":"IF(Résumé!$B69=0,\"\",Résumé!$K69)","v":""},{"$f":"IF(Résumé!$B69=0,\"\",Résumé!$L69)","v":""},{"$f":"IF(Résumé!$B69=0,\"\",$G69&\" \"&$H69&\" \"&$I69)","v":""},{"$f":"IF(Résumé!$B69=0,\"\",Résumé!$H69)","v":""},{"$f":"IF(Résumé!$B69=0,\"\",Résumé!$I69)","v":""},{"$f":"IF(Résumé!$B69=0,\"\",$L69-$K69)","v":""},{"$f":"IF(Résumé!$B69=0,\"\",AMOUNT!$K80)","v":""},{"$f":"IF(Résumé!$B69=0,\"\",$M69*$N69)","v":""},{"$f":"IF(Résumé!$B69=0,\"\",IF(FORM!$Q$2=0,\"\",IF(FORM!$Q$2>=2,\"OK\",IF(FORM!$Q$2<2,\"Pénalité : \"&FORM!$O$2&\" €\",\"\"))))","v":""},{"$f":"IF(Résumé!$B69=0,\"\",VLOOKUP($B69,Lexique!$C$2:$D$204,2,FALSE))","v":""}]
[null,{"$f":"IF(Résumé!$B70=0,\"\",Résumé!$D70)","v":""},{"$f":"IF(Résumé!$B70=0,\"\",Résumé!$E70)","v":""},{"$f":"IF(Résumé!$B70=0,\"\",Résumé!$F70)","v":""},{"$f":"IF(Résumé!$B70=0,\"\",100)","v":""},{"$f":"IF(Résumé!$B70=0,\"\",D70*E70)","v":""},{"$f":"IF(Résumé!$B70=0,\"\",Résumé!$G70)","v":""},{"$f":"IF(Résumé!$B70=0,\"\",Résumé!$K70)","v":""},{"$f":"IF(Résumé!$B70=0,\"\",Résumé!$L70)","v":""},{"$f":"IF(Résumé!$B70=0,\"\",$G70&\" \"&$H70&\" \"&$I70)","v":""},{"$f":"IF(Résumé!$B70=0,\"\",Résumé!$H70)","v":""},{"$f":"IF(Résumé!$B70=0,\"\",Résumé!$I70)","v":""},{"$f":"IF(Résumé!$B70=0,\"\",$L70-$K70)","v":""},{"$f":"IF(Résumé!$B70=0,\"\",AMOUNT!$K81)","v":""},{"$f":"IF(Résumé!$B70=0,\"\",$M70*$N70)","v":""},{"$f":"IF(Résumé!$B70=0,\"\",IF(FORM!$Q$2=0,\"\",IF(FORM!$Q$2>=2,\"OK\",IF(FORM!$Q$2<2,\"Pénalité : \"&FORM!$O$2&\" €\",\"\"))))","v":""},{"$f":"IF(Résumé!$B70=0,\"\",VLOOKUP($B70,Lexique!$C$2:$D$204,2,FALSE))","v":""}]
[null,{"$f":"IF(Résumé!$B71=0,\"\",Résumé!$D71)","v":""},{"$f":"IF(Résumé!$B71=0,\"\",Résumé!$E71)","v":""},{"$f":"IF(Résumé!$B71=0,\"\",Résumé!$F71)","v":""},{"$f":"IF(Résumé!$B71=0,\"\",100)","v":""},{"$f":"IF(Résumé!$B71=0,\"\",D71*E71)","v":""},{"$f":"IF(Résumé!$B71=0,\"\",Résumé!$G71)","v":""},{"$f":"IF(Résumé!$B71=0,\"\",Résumé!$K71)","v":""},{"$f":"IF(Résumé!$B71=0,\"\",Résumé!$L71)","v":""},{"$f":"IF(Résumé!$B71=0,\"\",$G71&\" \"&$H71&\" \"&$I71)","v":""},{"$f":"IF(Résumé!$B71=0,\"\",Résumé!$H71)","v":""},{"$f":"IF(Résumé!$B71=0,\"\",Résumé!$I71)","v":""},{"$f":"IF(Résumé!$B71=0,\"\",$L71-$K71)","v":""},{"$f":"IF(Résumé!$B71=0,\"\",AMOUNT!$K82)","v":""},{"$f":"IF(Résumé!$B71=0,\"\",$M71*$N71)","v":""},{"$f":"IF(Résumé!$B71=0,\"\",IF(FORM!$Q$2=0,\"\",IF(FORM!$Q$2>=2,\"OK\",IF(FORM!$Q$2<2,\"Pénalité : \"&FORM!$O$2&\" €\",\"\"))))","v":""},{"$f":"IF(Résumé!$B71=0,\"\",VLOOKUP($B71,Lexique!$C$2:$D$204,2,FALSE))","v":""}]
[null,{"$f":"IF(Résumé!$B72=0,\"\",Résumé!$D72)","v":""},{"$f":"IF(Résumé!$B72=0,\"\",Résumé!$E72)","v":""},{"$f":"IF(Résumé!$B72=0,\"\",Résumé!$F72)","v":""},{"$f":"IF(Résumé!$B72=0,\"\",100)","v":""},{"$f":"IF(Résumé!$B72=0,\"\",D72*E72)","v":""},{"$f":"IF(Résumé!$B72=0,\"\",Résumé!$G72)","v":""},{"$f":"IF(Résumé!$B72=0,\"\",Résumé!$K72)","v":""},{"$f":"IF(Résumé!$B72=0,\"\",Résumé!$L72)","v":""},{"$f":"IF(Résumé!$B72=0,\"\",$G72&\" \"&$H72&\" \"&$I72)","v":""},{"$f":"IF(Résumé!$B72=0,\"\",Résumé!$H72)","v":""},{"$f":"IF(Résumé!$B72=0,\"\",Résumé!$I72)","v":""},{"$f":"IF(Résumé!$B72=0,\"\",$L72-$K72)","v":""},{"$f":"IF(Résumé!$B72=0,\"\",AMOUNT!$K83)","v":""},{"$f":"IF(Résumé!$B72=0,\"\",$M72*$N72)","v":""},{"$f":"IF(Résumé!$B72=0,\"\",IF(FORM!$Q$2=0,\"\",IF(FORM!$Q$2>=2,\"OK\",IF(FORM!$Q$2<2,\"Pénalité : \"&FORM!$O$2&\" €\",\"\"))))","v":""},{"$f":"IF(Résumé!$B72=0,\"\",VLOOKUP($B72,Lexique!$C$2:$D$204,2,FALSE))","v":""}]
[null,{"$f":"IF(Résumé!$B73=0,\"\",Résumé!$D73)","v":""},{"$f":"IF(Résumé!$B73=0,\"\",Résumé!$E73)","v":""},{"$f":"IF(Résumé!$B73=0,\"\",Résumé!$F73)","v":""},{"$f":"IF(Résumé!$B73=0,\"\",100)","v":""},{"$f":"IF(Résumé!$B73=0,\"\",D73*E73)","v":""},{"$f":"IF(Résumé!$B73=0,\"\",Résumé!$G73)","v":""},{"$f":"IF(Résumé!$B73=0,\"\",Résumé!$K73)","v":""},{"$f":"IF(Résumé!$B73=0,\"\",Résumé!$L73)","v":""},{"$f":"IF(Résumé!$B73=0,\"\",$G73&\" \"&$H73&\" \"&$I73)","v":""},{"$f":"IF(Résumé!$B73=0,\"\",Résumé!$H73)","v":""},{"$f":"IF(Résumé!$B73=0,\"\",Résumé!$I73)","v":""},{"$f":"IF(Résumé!$B73=0,\"\",$L73-$K73)","v":""},{"$f":"IF(Résumé!$B73=0,\"\",AMOUNT!$K84)","v":""},{"$f":"IF(Résumé!$B73=0,\"\",$M73*$N73)","v":""},{"$f":"IF(Résumé!$B73=0,\"\",IF(FORM!$Q$2=0,\"\",IF(FORM!$Q$2>=2,\"OK\",IF(FORM!$Q$2<2,\"Pénalité : \"&FORM!$O$2&\" €\",\"\"))))","v":""},{"$f":"IF(Résumé!$B73=0,\"\",VLOOKUP($B73,Lexique!$C$2:$D$204,2,FALSE))","v":""}]
[null,{"$f":"IF(Résumé!$B74=0,\"\",Résumé!$D74)","v":""},{"$f":"IF(Résumé!$B74=0,\"\",Résumé!$E74)","v":""},{"$f":"IF(Résumé!$B74=0,\"\",Résumé!$F74)","v":""},{"$f":"IF(Résumé!$B74=0,\"\",100)","v":""},{"$f":"IF(Résumé!$B74=0,\"\",D74*E74)","v":""},{"$f":"IF(Résumé!$B74=0,\"\",Résumé!$G74)","v":""},{"$f":"IF(Résumé!$B74=0,\"\",Résumé!$K74)","v":""},{"$f":"IF(Résumé!$B74=0,\"\",Résumé!$L74)","v":""},{"$f":"IF(Résumé!$B74=0,\"\",$G74&\" \"&$H74&\" \"&$I74)","v":""},{"$f":"IF(Résumé!$B74=0,\"\",Résumé!$H74)","v":""},{"$f":"IF(Résumé!$B74=0,\"\",Résumé!$I74)","v":""},{"$f":"IF(Résumé!$B74=0,\"\",$L74-$K74)","v":""},{"$f":"IF(Résumé!$B74=0,\"\",AMOUNT!$K85)","v":""},{"$f":"IF(Résumé!$B74=0,\"\",$M74*$N74)","v":""},{"$f":"IF(Résumé!$B74=0,\"\",IF(FORM!$Q$2=0,\"\",IF(FORM!$Q$2>=2,\"OK\",IF(FORM!$Q$2<2,\"Pénalité : \"&FORM!$O$2&\" €\",\"\"))))","v":""},{"$f":"IF(Résumé!$B74=0,\"\",VLOOKUP($B74,Lexique!$C$2:$D$204,2,FALSE))","v":""}]
[null,{"$f":"IF(Résumé!$B75=0,\"\",Résumé!$D75)","v":""},{"$f":"IF(Résumé!$B75=0,\"\",Résumé!$E75)","v":""},{"$f":"IF(Résumé!$B75=0,\"\",Résumé!$F75)","v":""},{"$f":"IF(Résumé!$B75=0,\"\",100)","v":""},{"$f":"IF(Résumé!$B75=0,\"\",D75*E75)","v":""},{"$f":"IF(Résumé!$B75=0,\"\",Résumé!$G75)","v":""},{"$f":"IF(Résumé!$B75=0,\"\",Résumé!$K75)","v":""},{"$f":"IF(Résumé!$B75=0,\"\",Résumé!$L75)","v":""},{"$f":"IF(Résumé!$B75=0,\"\",$G75&\" \"&$H75&\" \"&$I75)","v":""},{"$f":"IF(Résumé!$B75=0,\"\",Résumé!$H75)","v":""},{"$f":"IF(Résumé!$B75=0,\"\",Résumé!$I75)","v":""},{"$f":"IF(Résumé!$B75=0,\"\",$L75-$K75)","v":""},{"$f":"IF(Résumé!$B75=0,\"\",AMOUNT!$K86)","v":""},{"$f":"IF(Résumé!$B75=0,\"\",$M75*$N75)","v":""},{"$f":"IF(Résumé!$B75=0,\"\",IF(FORM!$Q$2=0,\"\",IF(FORM!$Q$2>=2,\"OK\",IF(FORM!$Q$2<2,\"Pénalité : \"&FORM!$O$2&\" €\",\"\"))))","v":""},{"$f":"IF(Résumé!$B75=0,\"\",VLOOKUP($B75,Lexique!$C$2:$D$204,2,FALSE))","v":""}]
[null,{"$f":"IF(Résumé!$B76=0,\"\",Résumé!$D76)","v":""},{"$f":"IF(Résumé!$B76=0,\"\",Résumé!$E76)","v":""},{"$f":"IF(Résumé!$B76=0,\"\",Résumé!$F76)","v":""},{"$f":"IF(Résumé!$B76=0,\"\",100)","v":""},{"$f":"IF(Résumé!$B76=0,\"\",D76*E76)","v":""},{"$f":"IF(Résumé!$B76=0,\"\",Résumé!$G76)","v":""},{"$f":"IF(Résumé!$B76=0,\"\",Résumé!$K76)","v":""},{"$f":"IF(Résumé!$B76=0,\"\",Résumé!$L76)","v":""},{"$f":"IF(Résumé!$B76=0,\"\",$G76&\" \"&$H76&\" \"&$I76)","v":""},{"$f":"IF(Résumé!$B76=0,\"\",Résumé!$H76)","v":""},{"$f":"IF(Résumé!$B76=0,\"\",Résumé!$I76)","v":""},{"$f":"IF(Résumé!$B76=0,\"\",$L76-$K76)","v":""},{"$f":"IF(Résumé!$B76=0,\"\",AMOUNT!$K87)","v":""},{"$f":"IF(Résumé!$B76=0,\"\",$M76*$N76)","v":""},{"$f":"IF(Résumé!$B76=0,\"\",IF(FORM!$Q$2=0,\"\",IF(FORM!$Q$2>=2,\"OK\",IF(FORM!$Q$2<2,\"Pénalité : \"&FORM!$O$2&\" €\",\"\"))))","v":""},{"$f":"IF(Résumé!$B76=0,\"\",VLOOKUP($B76,Lexique!$C$2:$D$204,2,FALSE))","v":""}]
[null,{"$f":"IF(Résumé!$B77=0,\"\",Résumé!$D77)","v":""},{"$f":"IF(Résumé!$B77=0,\"\",Résumé!$E77)","v":""},{"$f":"IF(Résumé!$B77=0,\"\",Résumé!$F77)","v":""},{"$f":"IF(Résumé!$B77=0,\"\",100)","v":""},{"$f":"IF(Résumé!$B77=0,\"\",D77*E77)","v":""},{"$f":"IF(Résumé!$B77=0,\"\",Résumé!$G77)","v":""},{"$f":"IF(Résumé!$B77=0,\"\",Résumé!$K77)","v":""},{"$f":"IF(Résumé!$B77=0,\"\",Résumé!$L77)","v":""},{"$f":"IF(Résumé!$B77=0,\"\",$G77&\" \"&$H77&\" \"&$I77)","v":""},{"$f":"IF(Résumé!$B77=0,\"\",Résumé!$H77)","v":""},{"$f":"IF(Résumé!$B77=0,\"\",Résumé!$I77)","v":""},{"$f":"IF(Résumé!$B77=0,\"\",$L77-$K77)","v":""},{"$f":"IF(Résumé!$B77=0,\"\",AMOUNT!$K88)","v":""},{"$f":"IF(Résumé!$B77=0,\"\",$M77*$N77)","v":""},{"$f":"IF(Résumé!$B77=0,\"\",IF(FORM!$Q$2=0,\"\",IF(FORM!$Q$2>=2,\"OK\",IF(FORM!$Q$2<2,\"Pénalité : \"&FORM!$O$2&\" €\",\"\"))))","v":""},{"$f":"IF(Résumé!$B77=0,\"\",VLOOKUP($B77,Lexique!$C$2:$D$204,2,FALSE))","v":""}]
[null,{"$f":"IF(Résumé!$B78=0,\"\",Résumé!$D78)","v":""},{"$f":"IF(Résumé!$B78=0,\"\",Résumé!$E78)","v":""},{"$f":"IF(Résumé!$B78=0,\"\",Résumé!$F78)","v":""},{"$f":"IF(Résumé!$B78=0,\"\",100)","v":""},{"$f":"IF(Résumé!$B78=0,\"\",D78*E78)","v":""},{"$f":"IF(Résumé!$B78=0,\"\",Résumé!$G78)","v":""},{"$f":"IF(Résumé!$B78=0,\"\",Résumé!$K78)","v":""},{"$f":"IF(Résumé!$B78=0,\"\",Résumé!$L78)","v":""},{"$f":"IF(Résumé!$B78=0,\"\",$G78&\" \"&$H78&\" \"&$I78)","v":""},{"$f":"IF(Résumé!$B78=0,\"\",Résumé!$H78)","v":""},{"$f":"IF(Résumé!$B78=0,\"\",Résumé!$I78)","v":""},{"$f":"IF(Résumé!$B78=0,\"\",$L78-$K78)","v":""},{"$f":"IF(Résumé!$B78=0,\"\",AMOUNT!$K89)","v":""},{"$f":"IF(Résumé!$B78=0,\"\",$M78*$N78)","v":""},{"$f":"IF(Résumé!$B78=0,\"\",IF(FORM!$Q$2=0,\"\",IF(FORM!$Q$2>=2,\"OK\",IF(FORM!$Q$2<2,\"Pénalité : \"&FORM!$O$2&\" €\",\"\"))))","v":""},{"$f":"IF(Résumé!$B78=0,\"\",VLOOKUP($B78,Lexique!$C$2:$D$204,2,FALSE))","v":""}]
[null,{"$f":"IF(Résumé!$B79=0,\"\",Résumé!$D79)","v":""},{"$f":"IF(Résumé!$B79=0,\"\",Résumé!$E79)","v":""},{"$f":"IF(Résumé!$B79=0,\"\",Résumé!$F79)","v":""},{"$f":"IF(Résumé!$B79=0,\"\",100)","v":""},{"$f":"IF(Résumé!$B79=0,\"\",D79*E79)","v":""},{"$f":"IF(Résumé!$B79=0,\"\",Résumé!$G79)","v":""},{"$f":"IF(Résumé!$B79=0,\"\",Résumé!$K79)","v":""},{"$f":"IF(Résumé!$B79=0,\"\",Résumé!$L79)","v":""},{"$f":"IF(Résumé!$B79=0,\"\",$G79&\" \"&$H79&\" \"&$I79)","v":""},{"$f":"IF(Résumé!$B79=0,\"\",Résumé!$H79)","v":""},{"$f":"IF(Résumé!$B79=0,\"\",Résumé!$I79)","v":""},{"$f":"IF(Résumé!$B79=0,\"\",$L79-$K79)","v":""},{"$f":"IF(Résumé!$B79=0,\"\",AMOUNT!$K90)","v":""},{"$f":"IF(Résumé!$B79=0,\"\",$M79*$N79)","v":""},{"$f":"IF(Résumé!$B79=0,\"\",IF(FORM!$Q$2=0,\"\",IF(FORM!$Q$2>=2,\"OK\",IF(FORM!$Q$2<2,\"Pénalité : \"&FORM!$O$2&\" €\",\"\"))))","v":""},{"$f":"IF(Résumé!$B79=0,\"\",VLOOKUP($B79,Lexique!$C$2:$D$204,2,FALSE))","v":""}]
[null,{"$f":"IF(Résumé!$B80=0,\"\",Résumé!$D80)","v":""},{"$f":"IF(Résumé!$B80=0,\"\",Résumé!$E80)","v":""},{"$f":"IF(Résumé!$B80=0,\"\",Résumé!$F80)","v":""},{"$f":"IF(Résumé!$B80=0,\"\",100)","v":""},{"$f":"IF(Résumé!$B80=0,\"\",D80*E80)","v":""},{"$f":"IF(Résumé!$B80=0,\"\",Résumé!$G80)","v":""},{"$f":"IF(Résumé!$B80=0,\"\",Résumé!$K80)","v":""},{"$f":"IF(Résumé!$B80=0,\"\",Résumé!$L80)","v":""},{"$f":"IF(Résumé!$B80=0,\"\",$G80&\" \"&$H80&\" \"&$I80)","v":""},{"$f":"IF(Résumé!$B80=0,\"\",Résumé!$H80)","v":""},{"$f":"IF(Résumé!$B80=0,\"\",Résumé!$I80)","v":""},{"$f":"IF(Résumé!$B80=0,\"\",$L80-$K80)","v":""},{"$f":"IF(Résumé!$B80=0,\"\",AMOUNT!$K91)","v":""},{"$f":"IF(Résumé!$B80=0,\"\",$M80*$N80)","v":""},{"$f":"IF(Résumé!$B80=0,\"\",IF(FORM!$Q$2=0,\"\",IF(FORM!$Q$2>=2,\"OK\",IF(FORM!$Q$2<2,\"Pénalité : \"&FORM!$O$2&\" €\",\"\"))))","v":""},{"$f":"IF(Résumé!$B80=0,\"\",VLOOKUP($B80,Lexique!$C$2:$D$204,2,FALSE))","v":""}]
[null,{"$f":"IF(Résumé!$B81=0,\"\",Résumé!$D81)","v":""},{"$f":"IF(Résumé!$B81=0,\"\",Résumé!$E81)","v":""},{"$f":"IF(Résumé!$B81=0,\"\",Résumé!$F81)","v":""},{"$f":"IF(Résumé!$B81=0,\"\",100)","v":""},{"$f":"IF(Résumé!$B81=0,\"\",D81*E81)","v":""},{"$f":"IF(Résumé!$B81=0,\"\",Résumé!$G81)","v":""},{"$f":"IF(Résumé!$B81=0,\"\",Résumé!$K81)","v":""},{"$f":"IF(Résumé!$B81=0,\"\",Résumé!$L81)","v":""},{"$f":"IF(Résumé!$B81=0,\"\",$G81&\" \"&$H81&\" \"&$I81)","v":""},{"$f":"IF(Résumé!$B81=0,\"\",Résumé!$H81)","v":""},{"$f":"IF(Résumé!$B81=0,\"\",Résumé!$I81)","v":""},{"$f":"IF(Résumé!$B81=0,\"\",$L81-$K81)","v":""},{"$f":"IF(Résumé!$B81=0,\"\",AMOUNT!$K92)","v":""},{"$f":"IF(Résumé!$B81=0,\"\",$M81*$N81)","v":""},{"$f":"IF(Résumé!$B81=0,\"\",IF(FORM!$Q$2=0,\"\",IF(FORM!$Q$2>=2,\"OK\",IF(FORM!$Q$2<2,\"Pénalité : \"&FORM!$O$2&\" €\",\"\"))))","v":""},{"$f":"IF(Résumé!$B81=0,\"\",VLOOKUP($B81,Lexique!$C$2:$D$204,2,FALSE))","v":""}]
[null,{"$f":"IF(Résumé!$B82=0,\"\",Résumé!$D82)","v":""},{"$f":"IF(Résumé!$B82=0,\"\",Résumé!$E82)","v":""},{"$f":"IF(Résumé!$B82=0,\"\",Résumé!$F82)","v":""},{"$f":"IF(Résumé!$B82=0,\"\",100)","v":""},{"$f":"IF(Résumé!$B82=0,\"\",D82*E82)","v":""},{"$f":"IF(Résumé!$B82=0,\"\",Résumé!$G82)","v":""},{"$f":"IF(Résumé!$B82=0,\"\",Résumé!$K82)","v":""},{"$f":"IF(Résumé!$B82=0,\"\",Résumé!$L82)","v":""},{"$f":"IF(Résumé!$B82=0,\"\",$G82&\" \"&$H82&\" \"&$I82)","v":""},{"$f":"IF(Résumé!$B82=0,\"\",Résumé!$H82)","v":""},{"$f":"IF(Résumé!$B82=0,\"\",Résumé!$I82)","v":""},{"$f":"IF(Résumé!$B82=0,\"\",$L82-$K82)","v":""},{"$f":"IF(Résumé!$B82=0,\"\",AMOUNT!$K93)","v":""},{"$f":"IF(Résumé!$B82=0,\"\",$M82*$N82)","v":""},{"$f":"IF(Résumé!$B82=0,\"\",IF(FORM!$Q$2=0,\"\",IF(FORM!$Q$2>=2,\"OK\",IF(FORM!$Q$2<2,\"Pénalité : \"&FORM!$O$2&\" €\",\"\"))))","v":""},{"$f":"IF(Résumé!$B82=0,\"\",VLOOKUP($B82,Lexique!$C$2:$D$204,2,FALSE))","v":""}]
[null,{"$f":"IF(Résumé!$B83=0,\"\",Résumé!$D83)","v":""},{"$f":"IF(Résumé!$B83=0,\"\",Résumé!$E83)","v":""},{"$f":"IF(Résumé!$B83=0,\"\",Résumé!$F83)","v":""},{"$f":"IF(Résumé!$B83=0,\"\",100)","v":""},{"$f":"IF(Résumé!$B83=0,\"\",D83*E83)","v":""},{"$f":"IF(Résumé!$B83=0,\"\",Résumé!$G83)","v":""},{"$f":"IF(Résumé!$B83=0,\"\",Résumé!$K83)","v":""},{"$f":"IF(Résumé!$B83=0,\"\",Résumé!$L83)","v":""},{"$f":"IF(Résumé!$B83=0,\"\",$G83&\" \"&$H83&\" \"&$I83)","v":""},{"$f":"IF(Résumé!$B83=0,\"\",Résumé!$H83)","v":""},{"$f":"IF(Résumé!$B83=0,\"\",Résumé!$I83)","v":""},{"$f":"IF(Résumé!$B83=0,\"\",$L83-$K83)","v":""},{"$f":"IF(Résumé!$B83=0,\"\",AMOUNT!$K94)","v":""},{"$f":"IF(Résumé!$B83=0,\"\",$M83*$N83)","v":""},{"$f":"IF(Résumé!$B83=0,\"\",IF(FORM!$Q$2=0,\"\",IF(FORM!$Q$2>=2,\"OK\",IF(FORM!$Q$2<2,\"Pénalité : \"&FORM!$O$2&\" €\",\"\"))))","v":""},{"$f":"IF(Résumé!$B83=0,\"\",VLOOKUP($B83,Lexique!$C$2:$D$204,2,FALSE))","v":""}]
[null,{"$f":"IF(Résumé!$B84=0,\"\",Résumé!$D84)","v":""},{"$f":"IF(Résumé!$B84=0,\"\",Résumé!$E84)","v":""},{"$f":"IF(Résumé!$B84=0,\"\",Résumé!$F84)","v":""},{"$f":"IF(Résumé!$B84=0,\"\",100)","v":""},{"$f":"IF(Résumé!$B84=0,\"\",D84*E84)","v":""},{"$f":"IF(Résumé!$B84=0,\"\",Résumé!$G84)","v":""},{"$f":"IF(Résumé!$B84=0,\"\",Résumé!$K84)","v":""},{"$f":"IF(Résumé!$B84=0,\"\",Résumé!$L84)","v":""},{"$f":"IF(Résumé!$B84=0,\"\",$G84&\" \"&$H84&\" \"&$I84)","v":""},{"$f":"IF(Résumé!$B84=0,\"\",Résumé!$H84)","v":""},{"$f":"IF(Résumé!$B84=0,\"\",Résumé!$I84)","v":""},{"$f":"IF(Résumé!$B84=0,\"\",$L84-$K84)","v":""},{"$f":"IF(Résumé!$B84=0,\"\",AMOUNT!$K95)","v":""},{"$f":"IF(Résumé!$B84=0,\"\",$M84*$N84)","v":""},{"$f":"IF(Résumé!$B84=0,\"\",IF(FORM!$Q$2=0,\"\",IF(FORM!$Q$2>=2,\"OK\",IF(FORM!$Q$2<2,\"Pénalité : \"&FORM!$O$2&\" €\",\"\"))))","v":""},{"$f":"IF(Résumé!$B84=0,\"\",VLOOKUP($B84,Lexique!$C$2:$D$204,2,FALSE))","v":""}]
[null,{"$f":"IF(Résumé!$B85=0,\"\",Résumé!$D85)","v":""},{"$f":"IF(Résumé!$B85=0,\"\",Résumé!$E85)","v":""},{"$f":"IF(Résumé!$B85=0,\"\",Résumé!$F85)","v":""},{"$f":"IF(Résumé!$B85=0,\"\",100)","v":""},{"$f":"IF(Résumé!$B85=0,\"\",D85*E85)","v":""},{"$f":"IF(Résumé!$B85=0,\"\",Résumé!$G85)","v":""},{"$f":"IF(Résumé!$B85=0,\"\",Résumé!$K85)","v":""},{"$f":"IF(Résumé!$B85=0,\"\",Résumé!$L85)","v":""},{"$f":"IF(Résumé!$B85=0,\"\",$G85&\" \"&$H85&\" \"&$I85)","v":""},{"$f":"IF(Résumé!$B85=0,\"\",Résumé!$H85)","v":""},{"$f":"IF(Résumé!$B85=0,\"\",Résumé!$I85)","v":""},{"$f":"IF(Résumé!$B85=0,\"\",$L85-$K85)","v":""},{"$f":"IF(Résumé!$B85=0,\"\",AMOUNT!$K96)","v":""},{"$f":"IF(Résumé!$B85=0,\"\",$M85*$N85)","v":""},{"$f":"IF(Résumé!$B85=0,\"\",IF(FORM!$Q$2=0,\"\",IF(FORM!$Q$2>=2,\"OK\",IF(FORM!$Q$2<2,\"Pénalité : \"&FORM!$O$2&\" €\",\"\"))))","v":""},{"$f":"IF(Résumé!$B85=0,\"\",VLOOKUP($B85,Lexique!$C$2:$D$204,2,FALSE))","v":""}]
[null,{"$f":"IF(Résumé!$B86=0,\"\",Résumé!$D86)","v":""},{"$f":"IF(Résumé!$B86=0,\"\",Résumé!$E86)","v":""},{"$f":"IF(Résumé!$B86=0,\"\",Résumé!$F86)","v":""},{"$f":"IF(Résumé!$B86=0,\"\",100)","v":""},{"$f":"IF(Résumé!$B86=0,\"\",D86*E86)","v":""},{"$f":"IF(Résumé!$B86=0,\"\",Résumé!$G86)","v":""},{"$f":"IF(Résumé!$B86=0,\"\",Résumé!$K86)","v":""},{"$f":"IF(Résumé!$B86=0,\"\",Résumé!$L86)","v":""},{"$f":"IF(Résumé!$B86=0,\"\",$G86&\" \"&$H86&\" \"&$I86)","v":""},{"$f":"IF(Résumé!$B86=0,\"\",Résumé!$H86)","v":""},{"$f":"IF(Résumé!$B86=0,\"\",Résumé!$I86)","v":""},{"$f":"IF(Résumé!$B86=0,\"\",$L86-$K86)","v":""},{"$f":"IF(Résumé!$B86=0,\"\",AMOUNT!$K97)","v":""},{"$f":"IF(Résumé!$B86=0,\"\",$M86*$N86)","v":""},{"$f":"IF(Résumé!$B86=0,\"\",IF(FORM!$Q$2=0,\"\",IF(FORM!$Q$2>=2,\"OK\",IF(FORM!$Q$2<2,\"Pénalité : \"&FORM!$O$2&\" €\",\"\"))))","v":""},{"$f":"IF(Résumé!$B86=0,\"\",VLOOKUP($B86,Lexique!$C$2:$D$204,2,FALSE))","v":""}]
[null,{"$f":"IF(Résumé!$B87=0,\"\",Résumé!$D87)","v":""},{"$f":"IF(Résumé!$B87=0,\"\",Résumé!$E87)","v":""},{"$f":"IF(Résumé!$B87=0,\"\",Résumé!$F87)","v":""},{"$f":"IF(Résumé!$B87=0,\"\",100)","v":""},{"$f":"IF(Résumé!$B87=0,\"\",D87*E87)","v":""},{"$f":"IF(Résumé!$B87=0,\"\",Résumé!$G87)","v":""},{"$f":"IF(Résumé!$B87=0,\"\",Résumé!$K87)","v":""},{"$f":"IF(Résumé!$B87=0,\"\",Résumé!$L87)","v":""},{"$f":"IF(Résumé!$B87=0,\"\",$G87&\" \"&$H87&\" \"&$I87)","v":""},{"$f":"IF(Résumé!$B87=0,\"\",Résumé!$H87)","v":""},{"$f":"IF(Résumé!$B87=0,\"\",Résumé!$I87)","v":""},{"$f":"IF(Résumé!$B87=0,\"\",$L87-$K87)","v":""},{"$f":"IF(Résumé!$B87=0,\"\",AMOUNT!$K98)","v":""},{"$f":"IF(Résumé!$B87=0,\"\",$M87*$N87)","v":""},{"$f":"IF(Résumé!$B87=0,\"\",IF(FORM!$Q$2=0,\"\",IF(FORM!$Q$2>=2,\"OK\",IF(FORM!$Q$2<2,\"Pénalité : \"&FORM!$O$2&\" €\",\"\"))))","v":""},{"$f":"IF(Résumé!$B87=0,\"\",VLOOKUP($B87,Lexique!$C$2:$D$204,2,FALSE))","v":""}]
[null,{"$f":"IF(Résumé!$B88=0,\"\",Résumé!$D88)","v":""},{"$f":"IF(Résumé!$B88=0,\"\",Résumé!$E88)","v":""},{"$f":"IF(Résumé!$B88=0,\"\",Résumé!$F88)","v":""},{"$f":"IF(Résumé!$B88=0,\"\",100)","v":""},{"$f":"IF(Résumé!$B88=0,\"\",D88*E88)","v":""},{"$f":"IF(Résumé!$B88=0,\"\",Résumé!$G88)","v":""},{"$f":"IF(Résumé!$B88=0,\"\",Résumé!$K88)","v":""},{"$f":"IF(Résumé!$B88=0,\"\",Résumé!$L88)","v":""},{"$f":"IF(Résumé!$B88=0,\"\",$G88&\" \"&$H88&\" \"&$I88)","v":""},{"$f":"IF(Résumé!$B88=0,\"\",Résumé!$H88)","v":""},{"$f":"IF(Résumé!$B88=0,\"\",Résumé!$I88)","v":""},{"$f":"IF(Résumé!$B88=0,\"\",$L88-$K88)","v":""},{"$f":"IF(Résumé!$B88=0,\"\",AMOUNT!$K99)","v":""},{"$f":"IF(Résumé!$B88=0,\"\",$M88*$N88)","v":""},{"$f":"IF(Résumé!$B88=0,\"\",IF(FORM!$Q$2=0,\"\",IF(FORM!$Q$2>=2,\"OK\",IF(FORM!$Q$2<2,\"Pénalité : \"&FORM!$O$2&\" €\",\"\"))))","v":""},{"$f":"IF(Résumé!$B88=0,\"\",VLOOKUP($B88,Lexique!$C$2:$D$204,2,FALSE))","v":""}]
[null,{"$f":"IF(Résumé!$B89=0,\"\",Résumé!$D89)","v":""},{"$f":"IF(Résumé!$B89=0,\"\",Résumé!$E89)","v":""},{"$f":"IF(Résumé!$B89=0,\"\",Résumé!$F89)","v":""},{"$f":"IF(Résumé!$B89=0,\"\",100)","v":""},{"$f":"IF(Résumé!$B89=0,\"\",D89*E89)","v":""},{"$f":"IF(Résumé!$B89=0,\"\",Résumé!$G89)","v":""},{"$f":"IF(Résumé!$B89=0,\"\",Résumé!$K89)","v":""},{"$f":"IF(Résumé!$B89=0,\"\",Résumé!$L89)","v":""},{"$f":"IF(Résumé!$B89=0,\"\",$G89&\" \"&$H89&\" \"&$I89)","v":""},{"$f":"IF(Résumé!$B89=0,\"\",Résumé!$H89)","v":""},{"$f":"IF(Résumé!$B89=0,\"\",Résumé!$I89)","v":""},{"$f":"IF(Résumé!$B89=0,\"\",$L89-$K89)","v":""},{"$f":"IF(Résumé!$B89=0,\"\",AMOUNT!$K100)","v":""},{"$f":"IF(Résumé!$B89=0,\"\",$M89*$N89)","v":""},{"$f":"IF(Résumé!$B89=0,\"\",IF(FORM!$Q$2=0,\"\",IF(FORM!$Q$2>=2,\"OK\",IF(FORM!$Q$2<2,\"Pénalité : \"&FORM!$O$2&\" €\",\"\"))))","v":""},{"$f":"IF(Résumé!$B89=0,\"\",VLOOKUP($B89,Lexique!$C$2:$D$204,2,FALSE))","v":""}]
[null,{"$f":"IF(Résumé!$B90=0,\"\",Résumé!$D90)","v":""},{"$f":"IF(Résumé!$B90=0,\"\",Résumé!$E90)","v":""},{"$f":"IF(Résumé!$B90=0,\"\",Résumé!$F90)","v":""},{"$f":"IF(Résumé!$B90=0,\"\",100)","v":""},{"$f":"IF(Résumé!$B90=0,\"\",D90*E90)","v":""},{"$f":"IF(Résumé!$B90=0,\"\",Résumé!$G90)","v":""},{"$f":"IF(Résumé!$B90=0,\"\",Résumé!$K90)","v":""},{"$f":"IF(Résumé!$B90=0,\"\",Résumé!$L90)","v":""},{"$f":"IF(Résumé!$B90=0,\"\",$G90&\" \"&$H90&\" \"&$I90)","v":""},{"$f":"IF(Résumé!$B90=0,\"\",Résumé!$H90)","v":""},{"$f":"IF(Résumé!$B90=0,\"\",Résumé!$I90)","v":""},{"$f":"IF(Résumé!$B90=0,\"\",$L90-$K90)","v":""},{"$f":"IF(Résumé!$B90=0,\"\",AMOUNT!$K101)","v":""},{"$f":"IF(Résumé!$B90=0,\"\",$M90*$N90)","v":""},{"$f":"IF(Résumé!$B90=0,\"\",IF(FORM!$Q$2=0,\"\",IF(FORM!$Q$2>=2,\"OK\",IF(FORM!$Q$2<2,\"Pénalité : \"&FORM!$O$2&\" €\",\"\"))))","v":""},{"$f":"IF(Résumé!$B90=0,\"\",VLOOKUP($B90,Lexique!$C$2:$D$204,2,FALSE))","v":""}]
[null,{"$f":"IF(Résumé!$B91=0,\"\",Résumé!$D91)","v":""},{"$f":"IF(Résumé!$B91=0,\"\",Résumé!$E91)","v":""},{"$f":"IF(Résumé!$B91=0,\"\",Résumé!$F91)","v":""},{"$f":"IF(Résumé!$B91=0,\"\",100)","v":""},{"$f":"IF(Résumé!$B91=0,\"\",D91*E91)","v":""},{"$f":"IF(Résumé!$B91=0,\"\",Résumé!$G91)","v":""},{"$f":"IF(Résumé!$B91=0,\"\",Résumé!$K91)","v":""},{"$f":"IF(Résumé!$B91=0,\"\",Résumé!$L91)","v":""},{"$f":"IF(Résumé!$B91=0,\"\",$G91&\" \"&$H91&\" \"&$I91)","v":""},{"$f":"IF(Résumé!$B91=0,\"\",Résumé!$H91)","v":""},{"$f":"IF(Résumé!$B91=0,\"\",Résumé!$I91)","v":""},{"$f":"IF(Résumé!$B91=0,\"\",$L91-$K91)","v":""},{"$f":"IF(Résumé!$B91=0,\"\",AMOUNT!$K102)","v":""},{"$f":"IF(Résumé!$B91=0,\"\",$M91*$N91)","v":""},{"$f":"IF(Résumé!$B91=0,\"\",IF(FORM!$Q$2=0,\"\",IF(FORM!$Q$2>=2,\"OK\",IF(FORM!$Q$2<2,\"Pénalité : \"&FORM!$O$2&\" €\",\"\"))))","v":""},{"$f":"IF(Résumé!$B91=0,\"\",VLOOKUP($B91,Lexique!$C$2:$D$204,2,FALSE))","v":""}]
[null,{"$f":"IF(Résumé!$B92=0,\"\",Résumé!$D92)","v":""},{"$f":"IF(Résumé!$B92=0,\"\",Résumé!$E92)","v":""},{"$f":"IF(Résumé!$B92=0,\"\",Résumé!$F92)","v":""},{"$f":"IF(Résumé!$B92=0,\"\",100)","v":""},{"$f":"IF(Résumé!$B92=0,\"\",D92*E92)","v":""},{"$f":"IF(Résumé!$B92=0,\"\",Résumé!$G92)","v":""},{"$f":"IF(Résumé!$B92=0,\"\",Résumé!$K92)","v":""},{"$f":"IF(Résumé!$B92=0,\"\",Résumé!$L92)","v":""},{"$f":"IF(Résumé!$B92=0,\"\",$G92&\" \"&$H92&\" \"&$I92)","v":""},{"$f":"IF(Résumé!$B92=0,\"\",Résumé!$H92)","v":""},{"$f":"IF(Résumé!$B92=0,\"\",Résumé!$I92)","v":""},{"$f":"IF(Résumé!$B92=0,\"\",$L92-$K92)","v":""},{"$f":"IF(Résumé!$B92=0,\"\",AMOUNT!$K103)","v":""},{"$f":"IF(Résumé!$B92=0,\"\",$M92*$N92)","v":""},{"$f":"IF(Résumé!$B92=0,\"\",IF(FORM!$Q$2=0,\"\",IF(FORM!$Q$2>=2,\"OK\",IF(FORM!$Q$2<2,\"Pénalité : \"&FORM!$O$2&\" €\",\"\"))))","v":""},{"$f":"IF(Résumé!$B92=0,\"\",VLOOKUP($B92,Lexique!$C$2:$D$204,2,FALSE))","v":""}]
[null,{"$f":"IF(Résumé!$B93=0,\"\",Résumé!$D93)","v":""},{"$f":"IF(Résumé!$B93=0,\"\",Résumé!$E93)","v":""},{"$f":"IF(Résumé!$B93=0,\"\",Résumé!$F93)","v":""},{"$f":"IF(Résumé!$B93=0,\"\",100)","v":""},{"$f":"IF(Résumé!$B93=0,\"\",D93*E93)","v":""},{"$f":"IF(Résumé!$B93=0,\"\",Résumé!$G93)","v":""},{"$f":"IF(Résumé!$B93=0,\"\",Résumé!$K93)","v":""},{"$f":"IF(Résumé!$B93=0,\"\",Résumé!$L93)","v":""},{"$f":"IF(Résumé!$B93=0,\"\",$G93&\" \"&$H93&\" \"&$I93)","v":""},{"$f":"IF(Résumé!$B93=0,\"\",Résumé!$H93)","v":""},{"$f":"IF(Résumé!$B93=0,\"\",Résumé!$I93)","v":""},{"$f":"IF(Résumé!$B93=0,\"\",$L93-$K93)","v":""},{"$f":"IF(Résumé!$B93=0,\"\",AMOUNT!$K104)","v":""},{"$f":"IF(Résumé!$B93=0,\"\",$M93*$N93)","v":""},{"$f":"IF(Résumé!$B93=0,\"\",IF(FORM!$Q$2=0,\"\",IF(FORM!$Q$2>=2,\"OK\",IF(FORM!$Q$2<2,\"Pénalité : \"&FORM!$O$2&\" €\",\"\"))))","v":""},{"$f":"IF(Résumé!$B93=0,\"\",VLOOKUP($B93,Lexique!$C$2:$D$204,2,FALSE))","v":""}]
[null,{"$f":"IF(Résumé!$B94=0,\"\",Résumé!$D94)","v":""},{"$f":"IF(Résumé!$B94=0,\"\",Résumé!$E94)","v":""},{"$f":"IF(Résumé!$B94=0,\"\",Résumé!$F94)","v":""},{"$f":"IF(Résumé!$B94=0,\"\",100)","v":""},{"$f":"IF(Résumé!$B94=0,\"\",D94*E94)","v":""},{"$f":"IF(Résumé!$B94=0,\"\",Résumé!$G94)","v":""},{"$f":"IF(Résumé!$B94=0,\"\",Résumé!$K94)","v":""},{"$f":"IF(Résumé!$B94=0,\"\",Résumé!$L94)","v":""},{"$f":"IF(Résumé!$B94=0,\"\",$G94&\" \"&$H94&\" \"&$I94)","v":""},{"$f":"IF(Résumé!$B94=0,\"\",Résumé!$H94)","v":""},{"$f":"IF(Résumé!$B94=0,\"\",Résumé!$I94)","v":""},{"$f":"IF(Résumé!$B94=0,\"\",$L94-$K94)","v":""},{"$f":"IF(Résumé!$B94=0,\"\",AMOUNT!$K105)","v":""},{"$f":"IF(Résumé!$B94=0,\"\",$M94*$N94)","v":""},{"$f":"IF(Résumé!$B94=0,\"\",IF(FORM!$Q$2=0,\"\",IF(FORM!$Q$2>=2,\"OK\",IF(FORM!$Q$2<2,\"Pénalité : \"&FORM!$O$2&\" €\",\"\"))))","v":""},{"$f":"IF(Résumé!$B94=0,\"\",VLOOKUP($B94,Lexique!$C$2:$D$204,2,FALSE))","v":""}]
[null,{"$f":"IF(Résumé!$B95=0,\"\",Résumé!$D95)","v":""},{"$f":"IF(Résumé!$B95=0,\"\",Résumé!$E95)","v":""},{"$f":"IF(Résumé!$B95=0,\"\",Résumé!$F95)","v":""},{"$f":"IF(Résumé!$B95=0,\"\",100)","v":""},{"$f":"IF(Résumé!$B95=0,\"\",D95*E95)","v":""},{"$f":"IF(Résumé!$B95=0,\"\",Résumé!$G95)","v":""},{"$f":"IF(Résumé!$B95=0,\"\",Résumé!$K95)","v":""},{"$f":"IF(Résumé!$B95=0,\"\",Résumé!$L95)","v":""},{"$f":"IF(Résumé!$B95=0,\"\",$G95&\" \"&$H95&\" \"&$I95)","v":""},{"$f":"IF(Résumé!$B95=0,\"\",Résumé!$H95)","v":""},{"$f":"IF(Résumé!$B95=0,\"\",Résumé!$I95)","v":""},{"$f":"IF(Résumé!$B95=0,\"\",$L95-$K95)","v":""},{"$f":"IF(Résumé!$B95=0,\"\",AMOUNT!$K106)","v":""},{"$f":"IF(Résumé!$B95=0,\"\",$M95*$N95)","v":""},{"$f":"IF(Résumé!$B95=0,\"\",IF(FORM!$Q$2=0,\"\",IF(FORM!$Q$2>=2,\"OK\",IF(FORM!$Q$2<2,\"Pénalité : \"&FORM!$O$2&\" €\",\"\"))))","v":""},{"$f":"IF(Résumé!$B95=0,\"\",VLOOKUP($B95,Lexique!$C$2:$D$204,2,FALSE))","v":""}]
[null,{"$f":"IF(Résumé!$B96=0,\"\",Résumé!$D96)","v":""},{"$f":"IF(Résumé!$B96=0,\"\",Résumé!$E96)","v":""},{"$f":"IF(Résumé!$B96=0,\"\",Résumé!$F96)","v":""},{"$f":"IF(Résumé!$B96=0,\"\",100)","v":""},{"$f":"IF(Résumé!$B96=0,\"\",D96*E96)","v":""},{"$f":"IF(Résumé!$B96=0,\"\",Résumé!$G96)","v":""},{"$f":"IF(Résumé!$B96=0,\"\",Résumé!$K96)","v":""},{"$f":"IF(Résumé!$B96=0,\"\",Résumé!$L96)","v":""},{"$f":"IF(Résumé!$B96=0,\"\",$G96&\" \"&$H96&\" \"&$I96)","v":""},{"$f":"IF(Résumé!$B96=0,\"\",Résumé!$H96)","v":""},{"$f":"IF(Résumé!$B96=0,\"\",Résumé!$I96)","v":""},{"$f":"IF(Résumé!$B96=0,\"\",$L96-$K96)","v":""},{"$f":"IF(Résumé!$B96=0,\"\",AMOUNT!$K107)","v":""},{"$f":"IF(Résumé!$B96=0,\"\",$M96*$N96)","v":""},{"$f":"IF(Résumé!$B96=0,\"\",IF(FORM!$Q$2=0,\"\",IF(FORM!$Q$2>=2,\"OK\",IF(FORM!$Q$2<2,\"Pénalité : \"&FORM!$O$2&\" €\",\"\"))))","v":""},{"$f":"IF(Résumé!$B96=0,\"\",VLOOKUP($B96,Lexique!$C$2:$D$204,2,FALSE))","v":""}]
[null,{"$f":"IF(Résumé!$B97=0,\"\",Résumé!$D97)","v":""},{"$f":"IF(Résumé!$B97=0,\"\",Résumé!$E97)","v":""},{"$f":"IF(Résumé!$B97=0,\"\",Résumé!$F97)","v":""},{"$f":"IF(Résumé!$B97=0,\"\",100)","v":""},{"$f":"IF(Résumé!$B97=0,\"\",D97*E97)","v":""},{"$f":"IF(Résumé!$B97=0,\"\",Résumé!$G97)","v":""},{"$f":"IF(Résumé!$B97=0,\"\",Résumé!$K97)","v":""},{"$f":"IF(Résumé!$B97=0,\"\",Résumé!$L97)","v":""},{"$f":"IF(Résumé!$B97=0,\"\",$G97&\" \"&$H97&\" \"&$I97)","v":""},{"$f":"IF(Résumé!$B97=0,\"\",Résumé!$H97)","v":""},{"$f":"IF(Résumé!$B97=0,\"\",Résumé!$I97)","v":""},{"$f":"IF(Résumé!$B97=0,\"\",$L97-$K97)","v":""},{"$f":"IF(Résumé!$B97=0,\"\",AMOUNT!$K108)","v":""},{"$f":"IF(Résumé!$B97=0,\"\",$M97*$N97)","v":""},{"$f":"IF(Résumé!$B97=0,\"\",IF(FORM!$Q$2=0,\"\",IF(FORM!$Q$2>=2,\"OK\",IF(FORM!$Q$2<2,\"Pénalité : \"&FORM!$O$2&\" €\",\"\"))))","v":""},{"$f":"IF(Résumé!$B97=0,\"\",VLOOKUP($B97,Lexique!$C$2:$D$204,2,FALSE))","v":""}]
[null,{"$f":"IF(Résumé!$B98=0,\"\",Résumé!$D98)","v":""},{"$f":"IF(Résumé!$B98=0,\"\",Résumé!$E98)","v":""},{"$f":"IF(Résumé!$B98=0,\"\",Résumé!$F98)","v":""},{"$f":"IF(Résumé!$B98=0,\"\",100)","v":""},{"$f":"IF(Résumé!$B98=0,\"\",D98*E98)","v":""},{"$f":"IF(Résumé!$B98=0,\"\",Résumé!$G98)","v":""},{"$f":"IF(Résumé!$B98=0,\"\",Résumé!$K98)","v":""},{"$f":"IF(Résumé!$B98=0,\"\",Résumé!$L98)","v":""},{"$f":"IF(Résumé!$B98=0,\"\",$G98&\" \"&$H98&\" \"&$I98)","v":""},{"$f":"IF(Résumé!$B98=0,\"\",Résumé!$H98)","v":""},{"$f":"IF(Résumé!$B98=0,\"\",Résumé!$I98)","v":""},{"$f":"IF(Résumé!$B98=0,\"\",$L98-$K98)","v":""},{"$f":"IF(Résumé!$B98=0,\"\",AMOUNT!$K109)","v":""},{"$f":"IF(Résumé!$B98=0,\"\",$M98*$N98)","v":""},{"$f":"IF(Résumé!$B98=0,\"\",IF(FORM!$Q$2=0,\"\",IF(FORM!$Q$2>=2,\"OK\",IF(FORM!$Q$2<2,\"Pénalité : \"&FORM!$O$2&\" €\",\"\"))))","v":""},{"$f":"IF(Résumé!$B98=0,\"\",VLOOKUP($B98,Lexique!$C$2:$D$204,2,FALSE))","v":""}]
[null,{"$f":"IF(Résumé!$B99=0,\"\",Résumé!$D99)","v":""},{"$f":"IF(Résumé!$B99=0,\"\",Résumé!$E99)","v":""},{"$f":"IF(Résumé!$B99=0,\"\",Résumé!$F99)","v":""},{"$f":"IF(Résumé!$B99=0,\"\",100)","v":""},{"$f":"IF(Résumé!$B99=0,\"\",D99*E99)","v":""},{"$f":"IF(Résumé!$B99=0,\"\",Résumé!$G99)","v":""},{"$f":"IF(Résumé!$B99=0,\"\",Résumé!$K99)","v":""},{"$f":"IF(Résumé!$B99=0,\"\",Résumé!$L99)","v":""},{"$f":"IF(Résumé!$B99=0,\"\",$G99&\" \"&$H99&\" \"&$I99)","v":""},{"$f":"IF(Résumé!$B99=0,\"\",Résumé!$H99)","v":""},{"$f":"IF(Résumé!$B99=0,\"\",Résumé!$I99)","v":""},{"$f":"IF(Résumé!$B99=0,\"\",$L99-$K99)","v":""},{"$f":"IF(Résumé!$B99=0,\"\",AMOUNT!$K110)","v":""},{"$f":"IF(Résumé!$B99=0,\"\",$M99*$N99)","v":""},{"$f":"IF(Résumé!$B99=0,\"\",IF(FORM!$Q$2=0,\"\",IF(FORM!$Q$2>=2,\"OK\",IF(FORM!$Q$2<2,\"Pénalité : \"&FORM!$O$2&\" €\",\"\"))))","v":""},{"$f":"IF(Résumé!$B99=0,\"\",VLOOKUP($B99,Lexique!$C$2:$D$204,2,FALSE))","v":""}]
[null,{"$f":"IF(Résumé!$B100=0,\"\",Résumé!$D100)","v":""},{"$f":"IF(Résumé!$B100=0,\"\",Résumé!$E100)","v":""},{"$f":"IF(Résumé!$B100=0,\"\",Résumé!$F100)","v":""},{"$f":"IF(Résumé!$B100=0,\"\",100)","v":""},{"$f":"IF(Résumé!$B100=0,\"\",D100*E100)","v":""},{"$f":"IF(Résumé!$B100=0,\"\",Résumé!$G100)","v":""},{"$f":"IF(Résumé!$B100=0,\"\",Résumé!$K100)","v":""},{"$f":"IF(Résumé!$B100=0,\"\",Résumé!$L100)","v":""},{"$f":"IF(Résumé!$B100=0,\"\",$G100&\" \"&$H100&\" \"&$I100)","v":""},{"$f":"IF(Résumé!$B100=0,\"\",Résumé!$H100)","v":""},{"$f":"IF(Résumé!$B100=0,\"\",Résumé!$I100)","v":""},{"$f":"IF(Résumé!$B100=0,\"\",$L100-$K100)","v":""},{"$f":"IF(Résumé!$B100=0,\"\",AMOUNT!$K111)","v":""},{"$f":"IF(Résumé!$B100=0,\"\",$M100*$N100)","v":""},{"$f":"IF(Résumé!$B100=0,\"\",IF(FORM!$Q$2=0,\"\",IF(FORM!$Q$2>=2,\"OK\",IF(FORM!$Q$2<2,\"Pénalité : \"&FORM!$O$2&\" €\",\"\"))))","v":""},{"$f":"IF(Résumé!$B100=0,\"\",VLOOKUP($B100,Lexique!$C$2:$D$204,2,FALSE))","v":""}]
[null,{"$f":"IF(Résumé!$B101=0,\"\",Résumé!$D101)","v":""},{"$f":"IF(Résumé!$B101=0,\"\",Résumé!$E101)","v":""},{"$f":"IF(Résumé!$B101=0,\"\",Résumé!$F101)","v":""},{"$f":"IF(Résumé!$B101=0,\"\",100)","v":""},{"$f":"IF(Résumé!$B101=0,\"\",D101*E101)","v":""},{"$f":"IF(Résumé!$B101=0,\"\",Résumé!$G101)","v":""},{"$f":"IF(Résumé!$B101=0,\"\",Résumé!$K101)","v":""},{"$f":"IF(Résumé!$B101=0,\"\",Résumé!$L101)","v":""},{"$f":"IF(Résumé!$B101=0,\"\",$G101&\" \"&$H101&\" \"&$I101)","v":""},{"$f":"IF(Résumé!$B101=0,\"\",Résumé!$H101)","v":""},{"$f":"IF(Résumé!$B101=0,\"\",Résumé!$I101)","v":""},{"$f":"IF(Résumé!$B101=0,\"\",$L101-$K101)","v":""},{"$f":"IF(Résumé!$B101=0,\"\",AMOUNT!$K112)","v":""},{"$f":"IF(Résumé!$B101=0,\"\",$M101*$N101)","v":""},{"$f":"IF(Résumé!$B101=0,\"\",IF(FORM!$Q$2=0,\"\",IF(FORM!$Q$2>=2,\"OK\",IF(FORM!$Q$2<2,\"Pénalité : \"&FORM!$O$2&\" €\",\"\"))))","v":""},{"$f":"IF(Résumé!$B101=0,\"\",VLOOKUP($B101,Lexique!$C$2:$D$204,2,FALSE))","v":""}]